BEGIN:VCALENDAR
VERSION:2.0
PRODID:-//Open Education Week - ECPv6.15.20//NONSGML v1.0//EN
CALSCALE:GREGORIAN
METHOD:PUBLISH
X-ORIGINAL-URL:https://oeweek.oeglobal.org
X-WR-CALDESC:Events for Open Education Week
REFRESH-INTERVAL;VALUE=DURATION:PT1H
X-Robots-Tag:noindex
X-PUBLISHED-TTL:PT1H
BEGIN:VTIMEZONE
TZID:America/Los_Angeles
BEGIN:DAYLIGHT
TZOFFSETFROM:-0800
TZOFFSETTO:-0700
TZNAME:PDT
DTSTART:20240310T100000
END:DAYLIGHT
BEGIN:STANDARD
TZOFFSETFROM:-0700
TZOFFSETTO:-0800
TZNAME:PST
DTSTART:20241103T090000
END:STANDARD
BEGIN:DAYLIGHT
TZOFFSETFROM:-0800
TZOFFSETTO:-0700
TZNAME:PDT
DTSTART:20250309T100000
END:DAYLIGHT
BEGIN:STANDARD
TZOFFSETFROM:-0700
TZOFFSETTO:-0800
TZNAME:PST
DTSTART:20251102T090000
END:STANDARD
BEGIN:DAYLIGHT
TZOFFSETFROM:-0800
TZOFFSETTO:-0700
TZNAME:PDT
DTSTART:20260308T100000
END:DAYLIGHT
BEGIN:STANDARD
TZOFFSETFROM:-0700
TZOFFSETTO:-0800
TZNAME:PST
DTSTART:20261101T090000
END:STANDARD
END:VTIMEZONE
BEGIN:VTIMEZONE
TZID:America/Regina
BEGIN:STANDARD
TZOFFSETFROM:-0600
TZOFFSETTO:-0600
TZNAME:CST
DTSTART:20240101T000000
END:STANDARD
END:VTIMEZONE
BEGIN:VEVENT
DTSTART;TZID=America/Los_Angeles:20250303T100000
DTEND;TZID=America/Los_Angeles:20250303T110000
DTSTAMP:20260426T032116
CREATED:20250211T061059Z
LAST-MODIFIED:20250313T210101Z
UID:10003016-1740996000-1740999600@oeweek.oeglobal.org
SUMMARY:OER Project Management: A Strategic Framework
DESCRIPTION:Effective OER program management in higher education goes beyond good intentions—it requires strategy\, structure\, communication\, and project management (PM) tools. \nJoin Rachel Fleming\, OER Librarian at Irvine Valley College\, as she explores OER PM methodologies\, including Work Breakdown Structures (WBS)\, Critical Paths\, risk assessment\, and stakeholder engagement/information behaviors\, while providing practical strategies for sustainability and scalability. \nThis presentation will cover project scope\, scope creep\, implement tracking systems\, basic communication management\, and leverage free PM software like LibreTexts Conductor pages to streamline collaboration at the individual project level.
URL:https://oeweek.oeglobal.org/activity/oer-project-management-a-strategic-framework/
LOCATION:LibreTexts\, Davis\, CA\, United States
CATEGORIES:Open Education Resources,Open Educational Practices,Sustainability,Tools and Techniques
ATTACH;FMTTYPE=image/jpeg:https://oeweek.oeglobal.org/wp-content/uploads/2025/02/Benny-Leaning-7-scaled.jpg
ORGANIZER;CN="LibreTexts":MAILTO:info@libretexts.org
GEO:38.5449065;-121.7405167
END:VEVENT
BEGIN:VEVENT
DTSTART;TZID=America/Regina:20250303T120000
DTEND;TZID=America/Regina:20250303T130000
DTSTAMP:20260426T032116
CREATED:20250212T210038Z
LAST-MODIFIED:20250313T210100Z
UID:10003046-1741003200-1741006800@oeweek.oeglobal.org
SUMMARY:Open Homework Systems: Cost-Effective and Customizable Alternatives to the Big Publishers
DESCRIPTION:In this session\, we will explore innovative alternatives to traditional textbook publisher homework systems\, focusing on solutions that save students money and offer the instructor greater customization options. \nWe will explore the potential of Canvas New Quizzes and Item Banks as the path forward. Additionally\, we will examine the benefits and functionalities of OpenStax Assignable and LibreTexts ADAPT\, two powerful platforms that provide free\, high-quality educational resources. Join us to discover how these alternatives open new opportunities and alleviate your reliance on the high-cost systems.
URL:https://oeweek.oeglobal.org/activity/open-homework-systems/
LOCATION:University of Saskatchewan\, Saskatoon\, Saskatchewan\, Canada
CATEGORIES:Open Education Resources
ATTACH;FMTTYPE=image/jpeg:https://oeweek.oeglobal.org/wp-content/uploads/2025/02/Screenshot-407-scaled.jpg
GEO:52.157902;-106.6701577
END:VEVENT
BEGIN:VEVENT
DTSTART;TZID=America/Los_Angeles:20250303T110000
DTEND;TZID=America/Los_Angeles:20250303T120000
DTSTAMP:20260426T032116
CREATED:20250226T202807Z
LAST-MODIFIED:20250313T210100Z
UID:10003241-1740999600-1741003200@oeweek.oeglobal.org
SUMMARY:Panel: Using LibreTexts for Your Chemistry Courses
DESCRIPTION:Join instructors Lisa Sharpe Elles (Kansas State University) and Sheba Kuruvilla (Mt. San Jacinto Community College) as they answer questions from participants about how they use LibreTexts in their Chemistry courses.
URL:https://oeweek.oeglobal.org/activity/panel-using-libretexts-for-your-chemistry-courses/
LOCATION:LibreTexts\, Davis\, CA\, United States
CATEGORIES:Open Education Resources,Open Repositories,Open Source Platforms,Tools and Techniques
ATTACH;FMTTYPE=image/jpeg:https://oeweek.oeglobal.org/wp-content/uploads/2025/02/ADAPTv10-FINAL-5.jpg
ORGANIZER;CN="LibreTexts":MAILTO:info@libretexts.org
GEO:38.5449065;-121.7405167
END:VEVENT
BEGIN:VEVENT
DTSTART;TZID=America/Los_Angeles:20250303T120000
DTEND;TZID=America/Los_Angeles:20250303T130000
DTSTAMP:20260426T032116
CREATED:20250214T180031Z
LAST-MODIFIED:20250313T210100Z
UID:10003079-1741003200-1741006800@oeweek.oeglobal.org
SUMMARY:Welcome to the LibreTexts “LibreVerse”
DESCRIPTION:Join a member of the LibreTexts team as we introduce you to the LibreTexts project. \nWe will guide you through each component of what we refers to as the greater “LibreVerse” including: the LibreTexts repository\, home to over a million pages of OER content; our state of the art Remixer that allows you to take any content in the repository and remix it into something new for your course; LibreTexts project management platform\, Conductor\, and Workbench tool to help keep your projects and teams organized and on track; our open homework and assessment platform\, ADAPT; and much\, much more.
URL:https://oeweek.oeglobal.org/activity/welcome-to-libreverse/
LOCATION:LibreTexts\, Davis\, CA\, United States
CATEGORIES:Open Education Resources,Open Repositories,Tools and Techniques
ATTACH;FMTTYPE=image/jpeg:https://oeweek.oeglobal.org/wp-content/uploads/2025/02/Benny-Leaning-13-scaled.jpg
ORGANIZER;CN="LibreTexts":MAILTO:info@libretexts.org
GEO:38.5449065;-121.7405167
END:VEVENT
BEGIN:VEVENT
DTSTART;TZID=America/Los_Angeles:20250303T140000
DTEND;TZID=America/Los_Angeles:20250303T150000
DTSTAMP:20260426T032116
CREATED:20250214T180058Z
LAST-MODIFIED:20250313T210035Z
UID:10003080-1741010400-1741014000@oeweek.oeglobal.org
SUMMARY:Introduction to LibreTexts ADAPT Open Homework and Assessment Platform
DESCRIPTION:Join LibreTexts Founder and Executive Director\, Delmar Larsen\, as he gives you an inside look at LibreTexts open homework and assessment platform\, ADAPT. Participants will get a firsthand\, guided tour on how ADAPT is changing the game when it comes to homework platforms in higher education. Currently sponsored by the California Education Learning Lab (CELL)\, ADAPT is free for all California instructors and students. For educators outside of California\, ADAPT is available at cost–with a price point far below what traditional publishers charge.
URL:https://oeweek.oeglobal.org/activity/introduction-to-libretexts-adapt/
LOCATION:LibreTexts\, Davis\, CA\, United States
CATEGORIES:Open Education Resources,Open Repositories,Open Source Platforms,Tools and Techniques
ATTACH;FMTTYPE=image/jpeg:https://oeweek.oeglobal.org/wp-content/uploads/2025/02/ADAPTv10-FINAL-3.jpg
ORGANIZER;CN="LibreTexts":MAILTO:info@libretexts.org
GEO:38.5449065;-121.7405167
END:VEVENT
END:VCALENDAR