BEGIN:VCALENDAR
VERSION:2.0
PRODID:-//Open Education Week - ECPv6.15.20//NONSGML v1.0//EN
CALSCALE:GREGORIAN
METHOD:PUBLISH
X-ORIGINAL-URL:https://oeweek.oeglobal.org
X-WR-CALDESC:Events for Open Education Week
REFRESH-INTERVAL;VALUE=DURATION:PT1H
X-Robots-Tag:noindex
X-PUBLISHED-TTL:PT1H
BEGIN:VTIMEZONE
TZID:America/Los_Angeles
BEGIN:DAYLIGHT
TZOFFSETFROM:-0800
TZOFFSETTO:-0700
TZNAME:PDT
DTSTART:20240310T100000
END:DAYLIGHT
BEGIN:STANDARD
TZOFFSETFROM:-0700
TZOFFSETTO:-0800
TZNAME:PST
DTSTART:20241103T090000
END:STANDARD
BEGIN:DAYLIGHT
TZOFFSETFROM:-0800
TZOFFSETTO:-0700
TZNAME:PDT
DTSTART:20250309T100000
END:DAYLIGHT
BEGIN:STANDARD
TZOFFSETFROM:-0700
TZOFFSETTO:-0800
TZNAME:PST
DTSTART:20251102T090000
END:STANDARD
BEGIN:DAYLIGHT
TZOFFSETFROM:-0800
TZOFFSETTO:-0700
TZNAME:PDT
DTSTART:20260308T100000
END:DAYLIGHT
BEGIN:STANDARD
TZOFFSETFROM:-0700
TZOFFSETTO:-0800
TZNAME:PST
DTSTART:20261101T090000
END:STANDARD
END:VTIMEZONE
BEGIN:VTIMEZONE
TZID:America/Chicago
BEGIN:DAYLIGHT
TZOFFSETFROM:-0600
TZOFFSETTO:-0500
TZNAME:CDT
DTSTART:20240310T080000
END:DAYLIGHT
BEGIN:STANDARD
TZOFFSETFROM:-0500
TZOFFSETTO:-0600
TZNAME:CST
DTSTART:20241103T070000
END:STANDARD
BEGIN:DAYLIGHT
TZOFFSETFROM:-0600
TZOFFSETTO:-0500
TZNAME:CDT
DTSTART:20250309T080000
END:DAYLIGHT
BEGIN:STANDARD
TZOFFSETFROM:-0500
TZOFFSETTO:-0600
TZNAME:CST
DTSTART:20251102T070000
END:STANDARD
BEGIN:DAYLIGHT
TZOFFSETFROM:-0600
TZOFFSETTO:-0500
TZNAME:CDT
DTSTART:20260308T080000
END:DAYLIGHT
BEGIN:STANDARD
TZOFFSETFROM:-0500
TZOFFSETTO:-0600
TZNAME:CST
DTSTART:20261101T070000
END:STANDARD
END:VTIMEZONE
BEGIN:VEVENT
DTSTART;TZID=America/Los_Angeles:20250305T100000
DTEND;TZID=America/Los_Angeles:20250305T110000
DTSTAMP:20260424T214322
CREATED:20250220T024501Z
LAST-MODIFIED:20250313T210010Z
UID:10003161-1741168800-1741172400@oeweek.oeglobal.org
SUMMARY:Introducing LibreTexts Academy Center for Open Instructional Innovation and Professional Development
DESCRIPTION:LibreTexts Academy is here! Join Director of Curriculum Innovation and Development\, Justin Shorb\, for an introduction to our Academy Center for Open Instructional Innovation and Professional Development. From year long cohorts to asynchronous webinars\, Academy has something for all of the open education advocates and practitioners on your campus. \nBe sure to fill out our interest form before attending available at https://libretexts.org/academy.
URL:https://oeweek.oeglobal.org/activity/ibretexts-academy-center-for-open-instructional-innovation-and-professional-development/
LOCATION:LibreTexts\, Davis\, CA\, United States
CATEGORIES:Digital Skills,Micro-credentialing,Open Education Resources,Open Educational Practices,Open Repositories,Open Source Platforms,Tools and Techniques
ATTACH;FMTTYPE=image/jpeg:https://oeweek.oeglobal.org/wp-content/uploads/2025/02/Benny-Leaning-15-scaled.jpg
ORGANIZER;CN="LibreTexts":MAILTO:info@libretexts.org
GEO:38.5449065;-121.7405167
END:VEVENT
BEGIN:VEVENT
DTSTART;TZID=America/Chicago:20250305T120000
DTEND;TZID=America/Chicago:20250305T130000
DTSTAMP:20260424T214322
CREATED:20250304T190003Z
LAST-MODIFIED:20250313T205944Z
UID:10003324-1741176000-1741179600@oeweek.oeglobal.org
SUMMARY:The K-State Open/Alternative Textbook Initiative\, Open Textbook Platforms\, & Accessibility
DESCRIPTION:The cost of textbooks is a barrier to affordable higher education for many students. Open textbooks help reduce that cost while providing ways for instructors to adapt content to their course and improve accessibility for their students. Join us for an introduction to the K-State Open/Alternative Textbook Initiative\, an overview on the two leading open textbook platforms – Pressbooks and LibreTexts\, and a summary of methods to build accessibility into open textbooks to improve learning for all.
URL:https://oeweek.oeglobal.org/activity/k-state-open-alternative/
LOCATION:Kansas State University\, Manhattan\, KS\, United States
CATEGORIES:Equity and Access,Open Source Platforms
GEO:39.179475;-96.573317
END:VEVENT
BEGIN:VEVENT
DTSTART;TZID=America/Los_Angeles:20250305T120000
DTEND;TZID=America/Los_Angeles:20250305T130000
DTSTAMP:20260424T214322
CREATED:20250213T233602Z
LAST-MODIFIED:20250313T210010Z
UID:10003075-1741176000-1741179600@oeweek.oeglobal.org
SUMMARY:Introduction to Remixing OER with LibreTexts
DESCRIPTION:Join a member of the LibreTexts team as we show you how to use our state of the art Remixer to remix existing OER. With an easy to use drag and drop functionality\, and over a million pages of content from which to choose\, we think you’ll agree the LibreTexts Remixer can help you take your OER to the next level.
URL:https://oeweek.oeglobal.org/activity/introduction-to-remixing-oer-with-libretexts-2/
LOCATION:LibreTexts\, Davis\, CA\, United States
CATEGORIES:Open Education Resources,Open Repositories,Open Source Platforms,Tools and Techniques
ATTACH;FMTTYPE=image/jpeg:https://oeweek.oeglobal.org/wp-content/uploads/2025/02/Benny-Leaning-11-scaled.jpg
ORGANIZER;CN="LibreTexts":MAILTO:info@libretexts.org
GEO:38.5449065;-121.7405167
END:VEVENT
BEGIN:VEVENT
DTSTART;TZID=America/Los_Angeles:20250305T130000
DTEND;TZID=America/Los_Angeles:20250305T140000
DTSTAMP:20260424T214322
CREATED:20250219T002914Z
LAST-MODIFIED:20260212T182325Z
UID:10003151-1741179600-1741183200@oeweek.oeglobal.org
SUMMARY:Coalinga College Embraces Academic Freedom With LibreTexts
DESCRIPTION:Coalinga College received the ASCCC 2024-2025 Exemplary Program Award this year for the extraordinary feat of moving from 10% OER adoption rates amongst full-time faculty to 85%. Situated in a town of 17\,000\, Coalinga College serves the town and an area of  surrounding communities over 2000 square miles. \nSome of the Coalinga faculty join us today to talk about their understanding of students’ needs and how OERs have helped them engage their students in the learning process. OERs\, and LibreTexts’ Remixer tool\, have made it simple to include all and only the material they want to present\, in the order that they consider best\, without having to worry about students getting lost. \nFaculty are no longer bound by what a publisher thinks the content presentation should be. And they can ensure they have the materials they need from Day One\, so they no longer need to delay diving into the materials. Faculty time can be spent teaching instead of having to wait for students to have the books delivered. \nFour faulty members will discuss their experiences with OER adoption\, and how they continue to make change for their community.
URL:https://oeweek.oeglobal.org/activity/coalinga-college-embraces-academic-freedom/
LOCATION:Coalinga College\, Coalinga\, United States
CATEGORIES:Open Education Resources,Tools and Techniques
ATTACH;FMTTYPE=image/jpeg:https://oeweek.oeglobal.org/wp-content/uploads/2025/02/Benny-Leaning-14-scaled.jpg
ORGANIZER;CN="LibreTexts":MAILTO:info@libretexts.org
GEO:36.139678;-120.3601496
END:VEVENT
BEGIN:VEVENT
DTSTART;TZID=America/Los_Angeles:20250305T150000
DTEND;TZID=America/Los_Angeles:20250305T160000
DTSTAMP:20260424T214322
CREATED:20250213T232520Z
LAST-MODIFIED:20250313T205944Z
UID:10003071-1741186800-1741190400@oeweek.oeglobal.org
SUMMARY:LibreTexts Remixing Made Easy: Supporting Faculty in Creating OER Without the Tech Overwhelm
DESCRIPTION:Remixing an OER textbook can feel daunting – especially when faced with new platforms and tools. In this session\, Cosumnes River College shares practices to utilize support staff to streamline the LibreTexts remixing process. This approach allows faculty to focus on fine-tuning content rather than learning a new interface.
URL:https://oeweek.oeglobal.org/activity/libretexts-remixing-made-easy/
LOCATION:LibreTexts\, Davis\, CA\, United States
CATEGORIES:Digital Skills,Open Education Resources,Tools and Techniques
ATTACH;FMTTYPE=image/jpeg:https://oeweek.oeglobal.org/wp-content/uploads/2025/02/Benny-Leaning-8-scaled.jpg
ORGANIZER;CN="LibreTexts":MAILTO:info@libretexts.org
GEO:38.5449065;-121.7405167
END:VEVENT
END:VCALENDAR