BEGIN:VCALENDAR
VERSION:2.0
PRODID:-//Open Education Week - ECPv6.15.20//NONSGML v1.0//EN
CALSCALE:GREGORIAN
METHOD:PUBLISH
X-ORIGINAL-URL:https://oeweek.oeglobal.org
X-WR-CALDESC:Events for Open Education Week
REFRESH-INTERVAL;VALUE=DURATION:PT1H
X-Robots-Tag:noindex
X-PUBLISHED-TTL:PT1H
BEGIN:VTIMEZONE
TZID:America/Toronto
BEGIN:DAYLIGHT
TZOFFSETFROM:-0500
TZOFFSETTO:-0400
TZNAME:EDT
DTSTART:20240310T070000
END:DAYLIGHT
BEGIN:STANDARD
TZOFFSETFROM:-0400
TZOFFSETTO:-0500
TZNAME:EST
DTSTART:20241103T060000
END:STANDARD
BEGIN:DAYLIGHT
TZOFFSETFROM:-0500
TZOFFSETTO:-0400
TZNAME:EDT
DTSTART:20250309T070000
END:DAYLIGHT
BEGIN:STANDARD
TZOFFSETFROM:-0400
TZOFFSETTO:-0500
TZNAME:EST
DTSTART:20251102T060000
END:STANDARD
BEGIN:DAYLIGHT
TZOFFSETFROM:-0500
TZOFFSETTO:-0400
TZNAME:EDT
DTSTART:20260308T070000
END:DAYLIGHT
BEGIN:STANDARD
TZOFFSETFROM:-0400
TZOFFSETTO:-0500
TZNAME:EST
DTSTART:20261101T060000
END:STANDARD
END:VTIMEZONE
BEGIN:VTIMEZONE
TZID:Australia/Sydney
BEGIN:STANDARD
TZOFFSETFROM:+1100
TZOFFSETTO:+1000
TZNAME:AEST
DTSTART:20240406T160000
END:STANDARD
BEGIN:DAYLIGHT
TZOFFSETFROM:+1000
TZOFFSETTO:+1100
TZNAME:AEDT
DTSTART:20241005T160000
END:DAYLIGHT
BEGIN:STANDARD
TZOFFSETFROM:+1100
TZOFFSETTO:+1000
TZNAME:AEST
DTSTART:20250405T160000
END:STANDARD
BEGIN:DAYLIGHT
TZOFFSETFROM:+1000
TZOFFSETTO:+1100
TZNAME:AEDT
DTSTART:20251004T160000
END:DAYLIGHT
BEGIN:STANDARD
TZOFFSETFROM:+1100
TZOFFSETTO:+1000
TZNAME:AEST
DTSTART:20260404T160000
END:STANDARD
BEGIN:DAYLIGHT
TZOFFSETFROM:+1000
TZOFFSETTO:+1100
TZNAME:AEDT
DTSTART:20261003T160000
END:DAYLIGHT
END:VTIMEZONE
BEGIN:VEVENT
DTSTART;TZID=America/Toronto:20250303T080000
DTEND;TZID=America/Toronto:20250430T170000
DTSTAMP:20260425T131752
CREATED:20250304T190106Z
LAST-MODIFIED:20250313T210101Z
UID:10003326-1740988800-1746032400@oeweek.oeglobal.org
SUMMARY:Free Books: Open Publishing at Concordia
DESCRIPTION:To celebrate Open Education Month\, Concordia Library is pleased to present a new display highlighting open publishing at the Library and Concordia University Press (CUP). Together\, the Library and CUP collaborate to make scholarship and education free and accessible within and beyond the university. \nOpen Educational Resources (OER) are digital resources for teaching\, learning\, and research that are made available for use and re-purposing. They increase the variety of instructional resources in students’ learning experiences while lowering the financial barriers. OER in the form of open textbooks are a hallmark of Concordia’s OER program. Although open-access publications from university presses often do not permit repurposing in the same way that open textbooks do\, they are nonetheless free for students and can be adopted in courses. In parallel with open publishing\, Course Reserves also offer a free option for students. \nThis collaborative display illustrates how open education and open scholarship can nurture each other. As higher education becomes increasingly costly\, students stand to gain from the cost-saving benefits of viable alternatives to commercial textbooks. Meanwhile\, professors can choose to deepen their research and pedagogical impact by developing open-access and knowledge-mobilization plans to benefit students and the wider public. \nOrganized in six sections\, this display introduces students and faculty to the parallels between CUP and the Library’s OER program. In the vitrine and the digital counter\, you will find awareness efforts alongside physical and digital books from CUP and Concordia’s OER program. QR codes make these titles easily accessible\, while OER and CUP buttons and slogans promote the importance of open publishing. \nFinally\, the horizons of free course material options can be expanded through student advocacy and faculty pedagogy. We encourage students to nominate a course for open education and show their support for open publishing by wearing one of our buttons found at the Ask-Us Desk. We encourage faculty to consider open textbook grants\, course reserves\, and open-access university presses. \nLet’s reduce barriers to higher education together! \nCurated by the Library’s OER Team and Concordia University Press\, the exhibition will be on display from March 3 until April 30\, 2025. Special thanks to Zo Kopyna\, Chhayhee Sok\, Saelan Twerdy\, Meredith Carruthers and Rachel Harris. \nConcordia University Library supports open scholarship\, education\, and science. As part of this commitment\, the Library leads the University’s OER Program and continues to develop open scholarship initiatives and services\, such as our open guides and institutional repository. \nConcordia University Press is a non-profit publisher of peer-reviewed books. Concordia University Press is committed to barrier-free scholarship and our titles are available as free\, open-access e-books\, as well as for sale in thoughtfully designed print editions.
URL:https://oeweek.oeglobal.org/activity/free-books-open-publishing-at-concordia/
LOCATION:Concordia University\, Montreal\, Quebec\, Canada
CATEGORIES:Libraries,Open Education Resources,Open Educational Practices
ATTACH;FMTTYPE=image/png:https://oeweek.oeglobal.org/wp-content/uploads/2025/03/02-2025-Exhibition-Squares-1.png
ORGANIZER;CN="Concordia University Library":MAILTO:oer@concordia.ca
GEO:45.5018869;-73.5673919
END:VEVENT
BEGIN:VEVENT
DTSTART;TZID=Australia/Sydney:20250407T110000
DTEND;TZID=Australia/Sydney:20250407T120000
DTSTAMP:20260425T131752
CREATED:20250331T022004Z
LAST-MODIFIED:20250331T043726Z
UID:10003365-1744023600-1744027200@oeweek.oeglobal.org
SUMMARY:Liberating Curricula: Open Education for Decolonised and Internationalised Learning
DESCRIPTION:In an increasingly interconnected world educational practices and materials should evolve to be more inclusive and representative of diverse voices\, perspectives\, narratives and epistemologies. Through leveraging open educational resources\, open pedagogy\, and collaborative approaches to knowledge co-construction we can challenge hegemonic narratives and biases\, and create a more socially just and inclusive curriculum. This talk explores open educational practices as a transformative approach for curriculum internationalisation and decolonisation. \nRegister via Humantix \nPresenter: Dr Surita Jhangiani\, University of British Columbia\n \nAs Interim Associate Dean\, Equity\, Dr. Surita Jhangiani provides strategic leadership to advance the Faculty’s equity priorities\, fostering transformative teaching\, innovative learning and leading-edge research guided by the highest scholarship\, collaboration\, equity and inclusion standards. \nDr. Jhangiani is the David Lam Chair in Multicultural Education\, providing support to increase interest\, programming and engagement in multicultural and anti-racist education\, and to assist schools to foster critical multiculturalism. She has received two Open Educational Resource Champion awards from the University of British Columbia and was recognized as the Faculty of Education’s 2023 Universal Design for Learning Fellow. She is currently involved in projects related to open pedagogy\, alternative grading\, and belonging in learning and teaching. \n\nImage attribution\nBanner: Zoom background 2 by OEGlobal is licensed under CC BY 4.0. The image has been cropped from original.\nPresenter image used with permission.
URL:https://oeweek.oeglobal.org/activity/liberating-curricula-open-education-for-decolonised-internationalised-learning/
LOCATION:University of Technology Sydney\, Sydney\, Australia
CATEGORIES:Equity and Access,Open Education Resources,Open Educational Practices,Social Justice
ATTACH;FMTTYPE=image/jpeg:https://oeweek.oeglobal.org/wp-content/uploads/2025/03/OEGlobal-event-banner.jpg
GEO:-33.8835779;151.2009593
END:VEVENT
END:VCALENDAR