BEGIN:VCALENDAR
VERSION:2.0
PRODID:-//Open Education Week - ECPv6.15.20//NONSGML v1.0//EN
CALSCALE:GREGORIAN
METHOD:PUBLISH
X-ORIGINAL-URL:https://oeweek.oeglobal.org
X-WR-CALDESC:Events for Open Education Week
REFRESH-INTERVAL;VALUE=DURATION:PT1H
X-Robots-Tag:noindex
X-PUBLISHED-TTL:PT1H
BEGIN:VTIMEZONE
TZID:Europe/Paris
BEGIN:DAYLIGHT
TZOFFSETFROM:+0100
TZOFFSETTO:+0200
TZNAME:CEST
DTSTART:20250330T010000
END:DAYLIGHT
BEGIN:STANDARD
TZOFFSETFROM:+0200
TZOFFSETTO:+0100
TZNAME:CET
DTSTART:20251026T010000
END:STANDARD
BEGIN:DAYLIGHT
TZOFFSETFROM:+0100
TZOFFSETTO:+0200
TZNAME:CEST
DTSTART:20260329T010000
END:DAYLIGHT
BEGIN:STANDARD
TZOFFSETFROM:+0200
TZOFFSETTO:+0100
TZNAME:CET
DTSTART:20261025T010000
END:STANDARD
BEGIN:DAYLIGHT
TZOFFSETFROM:+0100
TZOFFSETTO:+0200
TZNAME:CEST
DTSTART:20270328T010000
END:DAYLIGHT
BEGIN:STANDARD
TZOFFSETFROM:+0200
TZOFFSETTO:+0100
TZNAME:CET
DTSTART:20271031T010000
END:STANDARD
END:VTIMEZONE
BEGIN:VTIMEZONE
TZID:America/Toronto
BEGIN:DAYLIGHT
TZOFFSETFROM:-0500
TZOFFSETTO:-0400
TZNAME:EDT
DTSTART:20250309T070000
END:DAYLIGHT
BEGIN:STANDARD
TZOFFSETFROM:-0400
TZOFFSETTO:-0500
TZNAME:EST
DTSTART:20251102T060000
END:STANDARD
BEGIN:DAYLIGHT
TZOFFSETFROM:-0500
TZOFFSETTO:-0400
TZNAME:EDT
DTSTART:20260308T070000
END:DAYLIGHT
BEGIN:STANDARD
TZOFFSETFROM:-0400
TZOFFSETTO:-0500
TZNAME:EST
DTSTART:20261101T060000
END:STANDARD
BEGIN:DAYLIGHT
TZOFFSETFROM:-0500
TZOFFSETTO:-0400
TZNAME:EDT
DTSTART:20270314T070000
END:DAYLIGHT
BEGIN:STANDARD
TZOFFSETFROM:-0400
TZOFFSETTO:-0500
TZNAME:EST
DTSTART:20271107T060000
END:STANDARD
END:VTIMEZONE
BEGIN:VTIMEZONE
TZID:Europe/Berlin
BEGIN:DAYLIGHT
TZOFFSETFROM:+0100
TZOFFSETTO:+0200
TZNAME:CEST
DTSTART:20250330T010000
END:DAYLIGHT
BEGIN:STANDARD
TZOFFSETFROM:+0200
TZOFFSETTO:+0100
TZNAME:CET
DTSTART:20251026T010000
END:STANDARD
BEGIN:DAYLIGHT
TZOFFSETFROM:+0100
TZOFFSETTO:+0200
TZNAME:CEST
DTSTART:20260329T010000
END:DAYLIGHT
BEGIN:STANDARD
TZOFFSETFROM:+0200
TZOFFSETTO:+0100
TZNAME:CET
DTSTART:20261025T010000
END:STANDARD
BEGIN:DAYLIGHT
TZOFFSETFROM:+0100
TZOFFSETTO:+0200
TZNAME:CEST
DTSTART:20270328T010000
END:DAYLIGHT
BEGIN:STANDARD
TZOFFSETFROM:+0200
TZOFFSETTO:+0100
TZNAME:CET
DTSTART:20271031T010000
END:STANDARD
END:VTIMEZONE
BEGIN:VEVENT
DTSTART;TZID=Europe/Paris:20260304T100000
DTEND;TZID=Europe/Paris:20260304T110000
DTSTAMP:20260426T033500
CREATED:20260224T175423Z
LAST-MODIFIED:20260224T175423Z
UID:10003567-1772618400-1772622000@oeweek.oeglobal.org
SUMMARY:Atelier | Les coulisses de NÉO : métadonnées\, moissonnage de la plateforme et perspectives d'évolution
DESCRIPTION:Cet atelier\, animé par les BU\, vous permettra de comprendre le processus de dépôt de REL jusqu’à la mise en ligne dans la plateforme NÉO (Nantes Éducation ouverte). Avec le retour d’expérience du travail collaboratif mené par les bibliothécaires et les informaticien.nes sur le paramétrage\, les choix des métadonnées et le moissonnage\, les perspectives d’évolution de la plateforme pourront être co-construites avec vous !
URL:https://oeweek.oeglobal.org/activity/atelier-les-coulisses-de-neo-metadonnees-moissonnage-de-la-plateforme-et-perspectives-devolution/
LOCATION:Nantes\, France\, Nantes\, France
CATEGORIES:Open Education Resources,Open Repositories
ATTACH;FMTTYPE=image/jpeg:https://oeweek.oeglobal.org/wp-content/uploads/2026/02/visuel-4-scaled.jpg
GEO:47.218371;-1.553621
END:VEVENT
BEGIN:VEVENT
DTSTART;TZID=Europe/Paris:20260304T140000
DTEND;TZID=Europe/Paris:20260304T153000
DTSTAMP:20260426T033500
CREATED:20260224T175510Z
LAST-MODIFIED:20260224T175510Z
UID:10003564-1772632800-1772638200@oeweek.oeglobal.org
SUMMARY:Atelier | Fresque de l’Éducation ouverte
DESCRIPTION:La Fabrique REL de Nantes Université et la Chaire Unesco RELIA ont créé la 1ère fresque de l’Éducation ouverte. Au cours de cet atelier collaboratif\, à partir de cartes\, de quizz et d’échanges guidés\, identifiez des situations concrètes où l’Éducation ouverte et les Ressources éducatives libres entrent en jeu. Et reliez les bonnes pratiques à ces cas d’usage pour pouvoir\, vous aussi\, agir dans votre environnement.
URL:https://oeweek.oeglobal.org/activity/atelier-fresque-de-leducation-ouverte/
LOCATION:Nantes\, France\, Nantes\, France
CATEGORIES:Open Education Policies,Open Education Resources,Open Educational Practices
ATTACH;FMTTYPE=image/jpeg:https://oeweek.oeglobal.org/wp-content/uploads/2026/02/visuel-1-scaled.jpg
GEO:47.218371;-1.553621
END:VEVENT
BEGIN:VEVENT
DTSTART;TZID=America/Toronto:20260304T100000
DTEND;TZID=America/Toronto:20260304T110000
DTSTAMP:20260426T033500
CREATED:20260218T013618Z
LAST-MODIFIED:20260218T013618Z
UID:10003480-1772618400-1772622000@oeweek.oeglobal.org
SUMMARY:La recherche en éducation ouverte: regards croisés francophones
DESCRIPTION:Alors que l’éducation ouverte (ÉO) et les ressources éducatives libres (REL) font l’objet de communautés de recherche bien établies dans le monde anglophone depuis plus d’une décennie\, le paysage francophone reste difficile à lire et peu structuré. Ce premier webinaire propose une table ronde réunissant trois intervenantes et intervenants aux perspectives complémentaires (Suisse\, Canada\, France)\, afin d’ouvrir la discussion sur les fondements\, les cadres théoriques\, les enjeux linguistiques\, culturels et politiques de la recherche en ÉO. \n\n Cette table ronde marque le lancement d’une série de webinaires de recherche portés par la Chaire UNESCO RELIA\, visant à rendre visibles les travaux existants\, à favoriser les rencontres entre chercheurs et chercheuses et à amorcer une cartographie de la recherche francophone sur l’éducation ouverte. \nÉquipe d’animation : Colin de la Higuera\, titulaire de  la Chaire UNESCO RELIA\, Nantes Université \net Lucie Grasset\, Chaire UNESCO RELIA\, Nantes Université\nÉquipe intervenante : Barbara Class – Enseignante-Chercheure à l’Université de Genève – Suisse\, Catherine Lachaîne – Bibliothécaire à l’Université d’Ottawa (Canada) et doctorante ainsi que  Luc Massou – Chercheur en sciences de l’information et de la communication\, et Conseiller à la DGESIP – France.
URL:https://oeweek.oeglobal.org/activity/la-recherche-en-education-ouverte/
LOCATION:Montreal\, Canada\, Montreal\, Quebec\, Canada
CATEGORIES:Open Research
ATTACH;FMTTYPE=image/png:https://oeweek.oeglobal.org/wp-content/uploads/2026/02/pastille-ronde-moisEO-2026-1.png
ORGANIZER;CN="fabriqueREL":MAILTO:info@fabriquerel.org
GEO:45.5018869;-73.5673919
END:VEVENT
BEGIN:VEVENT
DTSTART;TZID=America/Toronto:20260304T113000
DTEND;TZID=America/Toronto:20260304T124500
DTSTAMP:20260426T033500
CREATED:20260205T215507Z
LAST-MODIFIED:20260205T215507Z
UID:10003422-1772623800-1772628300@oeweek.oeglobal.org
SUMMARY:Sharing Research Differently: Mobilizing Knowledge with Open Educational Resources (OER) / Partager la recherche autrement : mobiliser les connaissances à l’aide des ressources éducatives libres (REL)
DESCRIPTION:Open educational resources (OER) are transforming the way we teach\, learn\, and share knowledge. But what exactly are OER and why are they important for advancing knowledge mobilization? \nIn this bilingual session\, we’ll explore the fundamentals of OER and their role in making knowledge creation more collaborative. You’ll hear from OER creators about their experiences\, and we’ll highlight strategies to showcase OER contributions in your dossier for tenure\, promotion\, or funding applications. \n\nLes ressources éducatives libres (REL) transforment la façon dont nous enseignons\, apprenons et partageons le savoir. Mais que sont exactement les REL et pourquoi jouent-elles un rôle clé dans la mobilisation des connaissances? \nCette séance bilingue vous permettra d’explorer les principes fondamentaux des REL et comment elles favorisent une approche collaborative de création des connaissances. Vous entendrez directement de créatrices de REL qui partageront leur expérience et nous aborderons des stratégies pour mettre en valeur vos contributions REL dans votre dossier pour une demande de permanence\, de promotion ou de financement.
URL:https://oeweek.oeglobal.org/activity/sharing-research-differently/
LOCATION:Ottawa\, Canada\, Ottawa\, Ontario\, Canada
CATEGORIES:Open Education Resources,Open Research
ATTACH;FMTTYPE=image/jpeg:https://oeweek.oeglobal.org/wp-content/uploads/2026/02/2025-uOttawa-Logo-VER-BLACK.jpg
GEO:45.4200572;-75.7003397
END:VEVENT
BEGIN:VEVENT
DTSTART;TZID=Europe/Berlin:20260304T210000
DTEND;TZID=Europe/Berlin:20260304T220000
DTSTAMP:20260426T033500
CREATED:20260228T211714Z
LAST-MODIFIED:20260301T174034Z
UID:10003632-1772658000-1772661600@oeweek.oeglobal.org
SUMMARY:Unlock Knowledge
DESCRIPTION:Les Ressources Éducatives Libres (REL) : Innover\, Partager et Réutiliser\nLa Chaire UNESCO Éducation ouverte pour un enseignement innovant\, intelligent et inclusif de l’Université de Sousse\, en collaboration avec la Cellule d’Innovation Pédagogique et Numérique Sousse \, l’Institut des Hautes Etudes Commerciales Carthage\, l’Université de Carthage et la Chaire de prospective\, anticipation et décision stratégique de l’IHEC Carthage\, organisent un webinaire dédié à la découverte et à la valorisation des Ressources Éducatives Libres (REL). \n🎯 Objectifs du webinaire\nCe webinaire vise à : \n\nSensibiliser les étudiants à l’importance des REL dans un contexte d’éducation ouverte et inclusive\nFaire découvrir les principes\, les licences et les usages des Ressources Éducatives Libres\nEncourager la production\, l’adaptation et le partage de contenus pédagogiques\nDévelopper une culture de collaboration et d’intelligence collective\n\n📚 Pourquoi participer ?\nÀ l’ère du numérique et de l’innovation pédagogique\, les REL représentent une opportunité majeure pour : \n\nAccéder gratuitement à des ressources de qualité\nAdapter les contenus aux besoins spécifiques des apprenants\nContribuer activement au savoir commun\nPartager les connaissances avec leurs communautés académiques et professionnelles\n\n👩‍🎓 Public cible\n\nÉtudiants de toutes disciplines\nEnseignants et formateurs\nResponsables pédagogiques\nToute personne intéressée par l’éducation ouverte et l’innovation numérique
URL:https://oeweek.oeglobal.org/activity/unlock-knowledge-2/
LOCATION:Souse\, Tunisia\, Souse\, Tunisia
CATEGORIES:Artificial Intelligence,Open Education Resources
ATTACH;FMTTYPE=image/png:https://oeweek.oeglobal.org/wp-content/uploads/2026/02/Affiche-Open-Knowledge-VF-3.png
END:VEVENT
END:VCALENDAR