BEGIN:VCALENDAR
VERSION:2.0
PRODID:-//Open Education Week - ECPv6.15.20//NONSGML v1.0//EN
CALSCALE:GREGORIAN
METHOD:PUBLISH
X-WR-CALNAME:Open Education Week
X-ORIGINAL-URL:https://oeweek.oeglobal.org
X-WR-CALDESC:Events for Open Education Week
REFRESH-INTERVAL;VALUE=DURATION:PT1H
X-Robots-Tag:noindex
X-PUBLISHED-TTL:PT1H
BEGIN:VTIMEZONE
TZID:Africa/Abidjan
BEGIN:STANDARD
TZOFFSETFROM:+0000
TZOFFSETTO:+0000
TZNAME:GMT
DTSTART:20250101T000000
END:STANDARD
END:VTIMEZONE
BEGIN:VTIMEZONE
TZID:Europe/Paris
BEGIN:DAYLIGHT
TZOFFSETFROM:+0100
TZOFFSETTO:+0200
TZNAME:CEST
DTSTART:20250330T010000
END:DAYLIGHT
BEGIN:STANDARD
TZOFFSETFROM:+0200
TZOFFSETTO:+0100
TZNAME:CET
DTSTART:20251026T010000
END:STANDARD
BEGIN:DAYLIGHT
TZOFFSETFROM:+0100
TZOFFSETTO:+0200
TZNAME:CEST
DTSTART:20260329T010000
END:DAYLIGHT
BEGIN:STANDARD
TZOFFSETFROM:+0200
TZOFFSETTO:+0100
TZNAME:CET
DTSTART:20261025T010000
END:STANDARD
BEGIN:DAYLIGHT
TZOFFSETFROM:+0100
TZOFFSETTO:+0200
TZNAME:CEST
DTSTART:20270328T010000
END:DAYLIGHT
BEGIN:STANDARD
TZOFFSETFROM:+0200
TZOFFSETTO:+0100
TZNAME:CET
DTSTART:20271031T010000
END:STANDARD
END:VTIMEZONE
BEGIN:VTIMEZONE
TZID:America/Toronto
BEGIN:DAYLIGHT
TZOFFSETFROM:-0500
TZOFFSETTO:-0400
TZNAME:EDT
DTSTART:20250309T070000
END:DAYLIGHT
BEGIN:STANDARD
TZOFFSETFROM:-0400
TZOFFSETTO:-0500
TZNAME:EST
DTSTART:20251102T060000
END:STANDARD
BEGIN:DAYLIGHT
TZOFFSETFROM:-0500
TZOFFSETTO:-0400
TZNAME:EDT
DTSTART:20260308T070000
END:DAYLIGHT
BEGIN:STANDARD
TZOFFSETFROM:-0400
TZOFFSETTO:-0500
TZNAME:EST
DTSTART:20261101T060000
END:STANDARD
BEGIN:DAYLIGHT
TZOFFSETFROM:-0500
TZOFFSETTO:-0400
TZNAME:EDT
DTSTART:20270314T070000
END:DAYLIGHT
BEGIN:STANDARD
TZOFFSETFROM:-0400
TZOFFSETTO:-0500
TZNAME:EST
DTSTART:20271107T060000
END:STANDARD
END:VTIMEZONE
BEGIN:VEVENT
DTSTART;TZID=Africa/Abidjan:20260305T150000
DTEND;TZID=Africa/Abidjan:20260305T170000
DTSTAMP:20260426T014109
CREATED:20260304T220439Z
LAST-MODIFIED:20260304T220553Z
UID:10003651-1772722800-1772730000@oeweek.oeglobal.org
SUMMARY:DEFA Cameroun: Digital Education For All - Les REL pour tous
DESCRIPTION:Jules Tchiyak Fanmoe organise à Yaoundé (sans retransmission) son premier séminaire dédié au lancement de l’association DEFA Digital Education For All\, dans ses propres locaux et avec une quinzaine d’enseignants. Pilier d’Open Education Global Francophone\, Jules se lance aujourd’hui dans la rédaction d’une thèse et souhaite populariser les Ressources Educatives Libres et la pédagogie ouverte dans le secondaire. \nLes Ressources Éducatives Libres (REL) au Cameroun : comment les enseignants de sciences les utilisent-ils vraiment ?\n1. Pourquoi parler des REL ?\nDepuis les années 2000\, l’éducation connaît une révolution avec le numérique : les savoirs se partagent plus facilement\, et de nouvelles ressources pédagogiques apparaissent\, comme les Ressources Éducatives Libres (REL). Ces ressources (cours\, exercices\, vidéos\, etc.) sont gratuites\, modifiables et partageables. Des organisations comme l’UNESCO les encouragent\, car elles pourraient : \n\nRendre l’éducation plus accessible (pour tous\, même dans les zones reculées).\nAméliorer la qualité des enseignements grâce à des supports innovants.\nRéduire les inégalités en offrant des outils pédagogiques variés.\n\n2. Le défi : entre théorie et réalité\nCependant\, avoir accès aux REL ne signifie pas qu’elles sont utilisées efficacement. Des études montrent que : \n\nLes enseignants n’adoptent pas automatiquement les outils numériques\, même s’ils sont disponibles (Rabardel\, 1995).\nIl existe souvent un écart entre ce que les institutions recommandent\, ce que les REL promettent\, et ce que les enseignants font en classe.\n\n3. Le cas du Cameroun : un contexte particulier\nAu Cameroun\, comme dans beaucoup de pays africains\, les REL et les technologies éducatives se développent (ex. : projet PAQUEB\, formations aux TIC). Mais leur utilisation pose des questions : \n\nMatériel : Tous les enseignants et élèves ont-ils accès à des ordinateurs\, à internet ?\nFormation : Les enseignants sont-ils formés pour utiliser ces ressources ?\nAdaptation : Les REL correspondent-elles aux besoins locaux et aux programmes scolaires ?\n\n4. Comment étudier ce sujet ?\nCette recherche propose d’analyser la situation à trois niveaux : \n\nNiveau international : Comment les REL s’inscrivent-elles dans les politiques mondiales d’éducation ?\nNiveau national : Quelles sont les politiques éducatives du Cameroun sur les REL et le numérique ?\nNiveau local : Comment les enseignants de sciences (physique\, SVT\, etc.) utilisent-ils concrètement les REL dans leurs classes ?\n\n5. Questions clés de la recherche\n\nLes enseignants camerounais connaissent-ils les REL ? Les utilisent-ils ?\nQuels sont les freins (manque de matériel\, de formation\, résistance au changement) et les leviers (motivation\, soutien institutionnel) ?\nComment les REL pourraient-elles vraiment améliorer l’enseignement des sciences au secondaire ?\n\n6. Objectifs\n\nComprendre pourquoi et comment les enseignants intègrent (ou non) les REL.\nIdentifier les conditions nécessaires pour que ces ressources soient utiles et durables.\nProposer des recommandations pour les décideurs\, les formateurs et les enseignants.\n\n\nPourquoi ce sujet est-il important pour vous\, enseignants ?\nLes REL pourraient être un outil puissant pour : \n\nEnrichir vos cours avec des supports variés et actualisés.\nMotiver vos élèves grâce à des méthodes interactives.\nRéduire les coûts (moins de dépendance aux manuels payants).\n\nMais pour que cela fonctionne\, il faut : \n\nVotre implication : partager vos besoins et vos retours d’expérience.\nUn accompagnement : formations\, accès au matériel\, soutien technique.\n\n\nQuestion pour ouvrir le débat : “En tant qu’enseignant(e) au Cameroun\, quels sont\, selon vous\, les principaux obstacles à l’utilisation des REL dans votre quotidien ? Et quelles solutions imagineriez-vous pour les surmonter ?”
URL:https://oeweek.oeglobal.org/activity/defa-cameroun/
LOCATION:Yaoundé\, Cameroon\, Yaoundé\, Cameroon
CATEGORIES:Equity and Access,Open Education Resources,Open Educational Practices
ATTACH;FMTTYPE=image/png:https://oeweek.oeglobal.org/wp-content/uploads/2026/03/Twitter-post.png
END:VEVENT
BEGIN:VEVENT
DTSTART;TZID=Europe/Paris:20260305T164500
DTEND;TZID=Europe/Paris:20260305T174500
DTSTAMP:20260426T014109
CREATED:20260224T175439Z
LAST-MODIFIED:20260224T175439Z
UID:10003566-1772729100-1772732700@oeweek.oeglobal.org
SUMMARY:Table-ronde | Pédagogie ouverte et REL : retour d’expériences
DESCRIPTION:Avec plus de 200 REL disponibles sur la plateforme NÉO\, Nantes Université est pionnière de l’Éducation ouverte en France. Découvrez les témoignages d’enseignant·es et étudiant·es qui ont pratiqué l’Éducation ouverte en créant des REL\, ou qui portent un projet en cours. L’occasion de décrypter l’innovation pédagogique à l’œuvre dans leurs démarches. \nIntervention des membres de Nantes Université : \n\nAmbre Vilain – Enseignante-chercheuse en Histoire de l’art et archéologie\nMathis Vauxion – Étudiant M2 Histoire de l’Art et Culture matérielle\nIsabelle Ourliac-Garnier – Enseignante-chercheuse en Sciences Pharmaceutiques et Biologiques\nLéa Libert – Etudiante en Sciences Pharmaceutiques et Biologiques\nThibault Deschamps – Enseignant-chercheur et responsable pédagogique du Master mention “Activité Physique Adaptée et Santé”\nAurélie Jozan – Designeuse UX & Référente Accessibilité Numérique\nGrégory Valton – Artiste Photographe\, intervenant extérieur en M2 Histoire publique
URL:https://oeweek.oeglobal.org/activity/table-ronde-pedagogie-ouverte-et-rel-retour-dexperiences/
LOCATION:Nantes\, France\, Nantes\, France
CATEGORIES:Open Education Resources,Open Educational Practices
ATTACH;FMTTYPE=image/jpeg:https://oeweek.oeglobal.org/wp-content/uploads/2026/02/visuel-3-scaled.jpg
GEO:47.218371;-1.553621
END:VEVENT
BEGIN:VEVENT
DTSTART;TZID=America/Toronto:20260305T110000
DTEND;TZID=America/Toronto:20260305T120000
DTSTAMP:20260426T014109
CREATED:20260218T064207Z
LAST-MODIFIED:20260218T064207Z
UID:10003481-1772708400-1772712000@oeweek.oeglobal.org
SUMMARY:De travaux jetables à des savoirs durables: cultiver l’ouverture en éducation
DESCRIPTION:À l’heure où les travaux étudiants finissent souvent dans l’oubli numérique\, comment concevoir des apprentissages qui laissent une trace utile et partagée ? Ce webinaire propose de passer d’une logique de travaux jetables à celle de savoirs durables\, grâce aux pratiques éducatives ouvertes (PEO). À partir de recherches menées à l’Université TÉLUQ\, nous explorerons comment les PEO permettent de cultiver l’ouverture : en donnant du sens au travail intellectuel\, en favorisant la collaboration et en contribuant à des biens communs de connaissance. \nDes exemples concrets — dont celui de la plateforme MediaWiki — illustreront comment les technologies libres peuvent soutenir des pratiques pédagogiques plus participatives\, pérennes et socialement pertinentes. Le webinaire s’adresse aux formateurs\, enseignants et concepteurs pédagogiques souhaitant faire évoluer leurs pratiques vers plus d’ouverture — non seulement dans les ressources\, mais dans la culture éducative elle-même.Cultiver l’ouverture\, c’est faire pousser des savoirs vivants — au-delà du temps d’un cours. \nAvec la participation et la collaboration de : Béatrice Pudelko\, professeure\, Université TÉLUQ
URL:https://oeweek.oeglobal.org/activity/de-travaux-jetables-a-des-savoirs-durables/
LOCATION:Montreal\, Canada\, Montreal\, Quebec\, Canada
CATEGORIES:Open Educational Practices
ATTACH;FMTTYPE=image/png:https://oeweek.oeglobal.org/wp-content/uploads/2026/02/pastille-ronde-moisEO-2026-2.png
ORGANIZER;CN="fabriqueREL":MAILTO:info@fabriquerel.org
GEO:45.5018869;-73.5673919
END:VEVENT
BEGIN:VEVENT
DTSTART;TZID=America/Toronto:20260305T113000
DTEND;TZID=America/Toronto:20260305T123000
DTSTAMP:20260426T014109
CREATED:20260222T224817Z
LAST-MODIFIED:20260222T233530Z
UID:10003541-1772710200-1772713800@oeweek.oeglobal.org
SUMMARY:Concevoir l’engagement : scénarisation pédagogique et design émotionnel en environnement ouvert / Designing engagement: educational scripting and emotional design in an open environment
DESCRIPTION:Dans le cadre de la Semaine de l’éducation ouverte\, cet atelier propose d’explorer comment transformer l’expérience d’apprentissage en ligne grâce à un outil auteur intégré à Moodle\, conçu comme un véritable assistant pédagogique à la scénarisation. Au-delà de la simple création de contenus interactifs\, cet outil soutient la structuration des parcours\, renforce la cohérence pédagogique et accompagne la conception de ressources éducatives ouvertes plus engageantes et centrées sur l’apprenant. L’atelier abordera également la question du design émotionnel des interfaces : comment l’ergonomie\, la mise en forme et les choix visuels influencent-ils l’engagement\, la motivation et la persévérance des apprenants ? Comment concevoir des environnements numériques qui suscitent non seulement la compréhension\, mais aussi l’adhésion ? Cette réflexion croise innovation pédagogique\, scénarisation structurée et pratiques éducatives ouvertes\, afin d’ouvrir de nouvelles perspectives dans la conception et la diffusion de ressources numériques. \nEnglish \nAs part of Open Education Week\, this workshop explores how to transform the online learning experience using an authoring tool integrated into Moodle\, designed as a true educational scripting assistant. Beyond simply creating interactive content\, this tool supports the structuring of learning paths\, reinforces pedagogical consistency\, and supports the design of more engaging and learner-centered open educational resources. The workshop will also address the issue of emotional interface design: how do ergonomics\, layout\, and visual choices influence learner engagement\, motivation\, and perseverance? How can we design digital environments that not only promote understanding\, but also engagement in Open Education? This reflection combines pedagogical innovation\, structured scripting\, and open educational practices to open up new perspectives in the design and dissemination of open digital resources.
URL:https://oeweek.oeglobal.org/activity/designing-engagement-concevoir-lengagement/
LOCATION:Toronto\, Canada\, Toronto\, ON\, Canada
CATEGORIES:Tools and Techniques
ATTACH;FMTTYPE=image/png:https://oeweek.oeglobal.org/wp-content/uploads/2026/02/camerise_logo_fr-2.png
GEO:43.6548253;-79.388447
END:VEVENT
BEGIN:VEVENT
DTSTART;TZID=America/Toronto:20260305T160000
DTEND;TZID=America/Toronto:20260305T170000
DTSTAMP:20260426T014109
CREATED:20260218T154010Z
LAST-MODIFIED:20260305T155704Z
UID:10003517-1772726400-1772730000@oeweek.oeglobal.org
SUMMARY:K-12 Studio Demo: An OER Repository for French K-12 Teachers
DESCRIPTION:In this demo\, we will showcase our brand new OER platform for French as a second language teachers at K-12 levels (K-12 Studio) built by Learnful Labs Inc. \nThe overarching goal of K-12 Studio is to offer FSL teachers in Ontario and beyond a trusted\, well-organized space where they can safely share\, adapt\, and create curriculum or general subjects-aligned resources\, while benefiting from peer exchange\, professional recognition\, and pedagogical support. By streamlining collaboration\, the initiative aims to reduce duplication of effort\, lightens workload pressures\, supports well-being\, and strengthens teacher retention across Ontario. \nOur platform features a novelty : an AI-assisted resource submission form. This will help teachers save time and still ensure discoverability of their resources. \nThis project is funded by the Department of Canadian Heritage and the Ontario Ministry of Education.
URL:https://oeweek.oeglobal.org/activity/camerise-studio-demo/
LOCATION:Toronto\, Canada\, Toronto\, ON\, Canada
CATEGORIES:Artificial Intelligence,Open Education Resources,Open Repositories
ATTACH;FMTTYPE=image/png:https://oeweek.oeglobal.org/wp-content/uploads/2026/02/Camerise_Secondary.png
GEO:43.6548253;-79.388447
END:VEVENT
END:VCALENDAR