BEGIN:VCALENDAR
VERSION:2.0
PRODID:-//Open Education Week - ECPv6.15.20//NONSGML v1.0//EN
CALSCALE:GREGORIAN
METHOD:PUBLISH
X-ORIGINAL-URL:https://oeweek.oeglobal.org
X-WR-CALDESC:Events for Open Education Week
REFRESH-INTERVAL;VALUE=DURATION:PT1H
X-Robots-Tag:noindex
X-PUBLISHED-TTL:PT1H
BEGIN:VTIMEZONE
TZID:America/Regina
BEGIN:STANDARD
TZOFFSETFROM:-0600
TZOFFSETTO:-0600
TZNAME:CST
DTSTART:20240101T000000
END:STANDARD
END:VTIMEZONE
BEGIN:VEVENT
DTSTART;TZID=America/Regina:20250514T110000
DTEND;TZID=America/Regina:20250514T120000
DTSTAMP:20260424T050558
CREATED:20250403T203842Z
LAST-MODIFIED:20250403T204114Z
UID:10003368-1747220400-1747224000@oeweek.oeglobal.org
SUMMARY:Keynote: Racing Towards a Wasted Future: Generative AI and the Resurgence of Nuclear Energy (Dr. Marco Seiferle-Valencia)
DESCRIPTION:As the potentials and promises of generative AI sweep into the field of Open Education\, educators and advocates have a holistic responsibility to think deeply and expansively about the known and still emerging environmental impacts of these technologies. Demand for energy by the hungry server farms that create so-called artificial intelligence is bringing damaging and dangerous energy practices back from the grave\, including the resurrection of previously shuttered coal and nuclear power plants. How can we as Open practitioners reconcile the long standing historical and contemporary violence of coal and nuclear power production with the desire to widely embrace and experiment with generative AI? This talk will review the most recent research on AI energy demands and the environmental impacts\, as well as provide a brief history and contextualization of the current issues with nuclear waste\, pollution\, and accidents in North America\, primarily in the United States and Canada. Attendees will be invited to reflect deeply on what we stand to lose and gain with the widespread adoption of generative AI in society\, and hopefully leave inspired to mindfully use generative AI\, with its current promise and future perils in mind. \n\n\nSpeaker bio:  \nDr. Marco Seiferle-Valencia serves as Associate Professor and Open Education Librarian at the University of Idaho. His research interests span a wide range of topics\, notably community archives\, the history and current practices of BIPOC feminisms especially in libraries and information environments\, and environmental justice. Marco is also a co-creator of the Chicana por mi Raza Digital Memory Collective\, which collects imperiled histories of Chicana civil rights activism. \n\nDate: Wednesday\, May 14\, 2025 \nTime: 11:00am – 12:00pm \nTime Zone: Saskatchewan Time (CST)
URL:https://oeweek.oeglobal.org/activity/keynote-racing-towards-wasted-future/
LOCATION:University of Regina\, Regina\, Saskatchewan\, Canada
CATEGORIES:Artificial Intelligence,Climate Action,Open Educational Practices
ATTACH;FMTTYPE=image/jpeg:https://oeweek.oeglobal.org/wp-content/uploads/2025/04/Savethedates-2025-Bootcamp-small-image-1.jpg
ORGANIZER;CN="University of Regina Open Education & Publishing (OEP) Program":MAILTO:Shuana.Niessen@uregina.ca
GEO:50.4452112;-104.6188944
END:VEVENT
END:VCALENDAR