BEGIN:VCALENDAR
VERSION:2.0
PRODID:-//Open Education Week - ECPv6.15.20//NONSGML v1.0//EN
CALSCALE:GREGORIAN
METHOD:PUBLISH
X-WR-CALNAME:Open Education Week
X-ORIGINAL-URL:https://oeweek.oeglobal.org
X-WR-CALDESC:Events for Open Education Week
REFRESH-INTERVAL;VALUE=DURATION:PT1H
X-Robots-Tag:noindex
X-PUBLISHED-TTL:PT1H
BEGIN:VTIMEZONE
TZID:America/Los_Angeles
BEGIN:DAYLIGHT
TZOFFSETFROM:-0800
TZOFFSETTO:-0700
TZNAME:PDT
DTSTART:20250309T100000
END:DAYLIGHT
BEGIN:STANDARD
TZOFFSETFROM:-0700
TZOFFSETTO:-0800
TZNAME:PST
DTSTART:20251102T090000
END:STANDARD
BEGIN:DAYLIGHT
TZOFFSETFROM:-0800
TZOFFSETTO:-0700
TZNAME:PDT
DTSTART:20260308T100000
END:DAYLIGHT
BEGIN:STANDARD
TZOFFSETFROM:-0700
TZOFFSETTO:-0800
TZNAME:PST
DTSTART:20261101T090000
END:STANDARD
BEGIN:DAYLIGHT
TZOFFSETFROM:-0800
TZOFFSETTO:-0700
TZNAME:PDT
DTSTART:20270314T100000
END:DAYLIGHT
BEGIN:STANDARD
TZOFFSETFROM:-0700
TZOFFSETTO:-0800
TZNAME:PST
DTSTART:20271107T090000
END:STANDARD
END:VTIMEZONE
BEGIN:VEVENT
DTSTART;TZID=America/Los_Angeles:20260211T103000
DTEND;TZID=America/Los_Angeles:20260211T113000
DTSTAMP:20260422T174451
CREATED:20260123T185057Z
LAST-MODIFIED:20260123T185057Z
UID:10003388-1770805800-1770809400@oeweek.oeglobal.org
SUMMARY:Inside the Wikipedia Assignment: Student Perspectives (WikiEdu Speaker Series)
DESCRIPTION:What’s it like to work on a Wikipedia assignment? Hear directly from the students themselves! \nIn Wiki Education’s next Speaker Series webinar\, student editors from across the country will join Wikipedia Expert Brianda Felix for a live conversation about their experiences improving Wikipedia as part of their coursework. Together they’ll explore the challenges and surprises they encountered\, the skills they built\, and how the process reshaped their thinking about research\, collaboration\, and the role of public information. \nThe event will include a public Q&A. We encourage you to bring questions for the panelists!
URL:https://oeweek.oeglobal.org/activity/insidewikipedia-assignment-student-perspective/
LOCATION:MA
CATEGORIES:Digital Skills,Open Educational Practices
ATTACH;FMTTYPE=image/png:https://oeweek.oeglobal.org/wp-content/uploads/2026/01/Wiki_Education_Foundation_logo.svg_.png
END:VEVENT
END:VCALENDAR