BEGIN:VCALENDAR
VERSION:2.0
PRODID:-//Open Education Week - ECPv6.15.20//NONSGML v1.0//EN
CALSCALE:GREGORIAN
METHOD:PUBLISH
X-WR-CALNAME:Open Education Week
X-ORIGINAL-URL:https://oeweek.oeglobal.org
X-WR-CALDESC:Events for Open Education Week
REFRESH-INTERVAL;VALUE=DURATION:PT1H
X-Robots-Tag:noindex
X-PUBLISHED-TTL:PT1H
BEGIN:VTIMEZONE
TZID:America/Toronto
BEGIN:DAYLIGHT
TZOFFSETFROM:-0500
TZOFFSETTO:-0400
TZNAME:EDT
DTSTART:20250309T070000
END:DAYLIGHT
BEGIN:STANDARD
TZOFFSETFROM:-0400
TZOFFSETTO:-0500
TZNAME:EST
DTSTART:20251102T060000
END:STANDARD
BEGIN:DAYLIGHT
TZOFFSETFROM:-0500
TZOFFSETTO:-0400
TZNAME:EDT
DTSTART:20260308T070000
END:DAYLIGHT
BEGIN:STANDARD
TZOFFSETFROM:-0400
TZOFFSETTO:-0500
TZNAME:EST
DTSTART:20261101T060000
END:STANDARD
BEGIN:DAYLIGHT
TZOFFSETFROM:-0500
TZOFFSETTO:-0400
TZNAME:EDT
DTSTART:20270314T070000
END:DAYLIGHT
BEGIN:STANDARD
TZOFFSETFROM:-0400
TZOFFSETTO:-0500
TZNAME:EST
DTSTART:20271107T060000
END:STANDARD
END:VTIMEZONE
BEGIN:VEVENT
DTSTART;TZID=America/Toronto:20260218T120000
DTEND;TZID=America/Toronto:20260218T130000
DTSTAMP:20260422T063818
CREATED:20260205T215805Z
LAST-MODIFIED:20260205T215805Z
UID:10003421-1771416000-1771419600@oeweek.oeglobal.org
SUMMARY:Designing for Accessibility: Publishing Compliant Content in Pressbooks
DESCRIPTION:In this webinar\, the Pressbooks team will walk through how to create and maintain accessible publications using Pressbooks\, combining platform tools with practical\, real-world best practices. \nYou’ll get a guided tour of Pressbooks Accessibility Assist\, including a demonstration of the Authoring Tool (available now) and the upcoming Scanner Tool and Network Book Scanner designed to help institutions assess accessibility at scale. Along the way\, we’ll show how these tools fit into everyday publishing workflows for instructors\, librarians\, and institutions. \nThe session will include a show-and-tell walkthrough followed by an open\, interactive conversation where attendees can ask questions\, share strategies\, and learn from peers across the Pressbooks community. \nWhether you’re preparing for new accessibility requirements or looking to strengthen existing practices\, this session will help you move forward with confidence. \nBy the end of this webinar\, attendees will be able to: \n\nUnderstand the core principles of accessibility compliance as they apply to Pressbooks-published content\nUse Pressbooks Accessibility Assist to identify and address accessibility issues during the authoring process\nLearn how the Network Book Scanner will support network-wide accessibility reviews and compliance efforts\nApply practical best practices for creating accessible OER and digital learning materials\nEngage with peers to exchange tips\, challenges\, and workflows for accessibility at scale
URL:https://oeweek.oeglobal.org/activity/designing-for-accessibility-pressbooks/
LOCATION:Montreal\, Canada\, Montreal\, Quebec\, Canada
CATEGORIES:Digital Skills,Equity and Access,Open Education Resources,Tools and Techniques
GEO:45.5018869;-73.5673919
END:VEVENT
END:VCALENDAR