BEGIN:VCALENDAR
VERSION:2.0
PRODID:-//Open Education Week - ECPv6.15.20//NONSGML v1.0//EN
CALSCALE:GREGORIAN
METHOD:PUBLISH
X-WR-CALNAME:Open Education Week
X-ORIGINAL-URL:https://oeweek.oeglobal.org
X-WR-CALDESC:Events for Open Education Week
REFRESH-INTERVAL;VALUE=DURATION:PT1H
X-Robots-Tag:noindex
X-PUBLISHED-TTL:PT1H
BEGIN:VTIMEZONE
TZID:America/Toronto
BEGIN:DAYLIGHT
TZOFFSETFROM:-0500
TZOFFSETTO:-0400
TZNAME:EDT
DTSTART:20250309T070000
END:DAYLIGHT
BEGIN:STANDARD
TZOFFSETFROM:-0400
TZOFFSETTO:-0500
TZNAME:EST
DTSTART:20251102T060000
END:STANDARD
BEGIN:DAYLIGHT
TZOFFSETFROM:-0500
TZOFFSETTO:-0400
TZNAME:EDT
DTSTART:20260308T070000
END:DAYLIGHT
BEGIN:STANDARD
TZOFFSETFROM:-0400
TZOFFSETTO:-0500
TZNAME:EST
DTSTART:20261101T060000
END:STANDARD
BEGIN:DAYLIGHT
TZOFFSETFROM:-0500
TZOFFSETTO:-0400
TZNAME:EDT
DTSTART:20270314T070000
END:DAYLIGHT
BEGIN:STANDARD
TZOFFSETFROM:-0400
TZOFFSETTO:-0500
TZNAME:EST
DTSTART:20271107T060000
END:STANDARD
END:VTIMEZONE
BEGIN:VTIMEZONE
TZID:America/Denver
BEGIN:DAYLIGHT
TZOFFSETFROM:-0700
TZOFFSETTO:-0600
TZNAME:MDT
DTSTART:20250309T090000
END:DAYLIGHT
BEGIN:STANDARD
TZOFFSETFROM:-0600
TZOFFSETTO:-0700
TZNAME:MST
DTSTART:20251102T080000
END:STANDARD
BEGIN:DAYLIGHT
TZOFFSETFROM:-0700
TZOFFSETTO:-0600
TZNAME:MDT
DTSTART:20260308T090000
END:DAYLIGHT
BEGIN:STANDARD
TZOFFSETFROM:-0600
TZOFFSETTO:-0700
TZNAME:MST
DTSTART:20261101T080000
END:STANDARD
BEGIN:DAYLIGHT
TZOFFSETFROM:-0700
TZOFFSETTO:-0600
TZNAME:MDT
DTSTART:20270314T090000
END:DAYLIGHT
BEGIN:STANDARD
TZOFFSETFROM:-0600
TZOFFSETTO:-0700
TZNAME:MST
DTSTART:20271107T080000
END:STANDARD
END:VTIMEZONE
BEGIN:VEVENT
DTSTART;TZID=America/Toronto:20260310T090000
DTEND;TZID=America/Toronto:20260310T110000
DTSTAMP:20260423T003154
CREATED:20260218T062644Z
LAST-MODIFIED:20260218T062644Z
UID:10003484-1773133200-1773140400@oeweek.oeglobal.org
SUMMARY:Vitrine REL partie 1
DESCRIPTION:La Vitrine REL est une série de présentations éclairs (10 min) permettant aux créatrices et créateurs de REL de partager le fruit de leurs travaux. La formule se veut légère et conviviale. L’événement est ouvert à toute personne du réseau de l’enseignement curieuse de prendre connaissance des nouvelles REL développées au Québec et au Canada francophone. \nAvec la participation et la collaboration de : Claude Potvin\, conseiller pédagogique à la fabriqueREL et Université Laval ainsi que Mélanie Brunet\, bibliothécaire à l’Université d’Ottawa
URL:https://oeweek.oeglobal.org/activity/vitrine-rel-partie-1/
LOCATION:Montreal\, Canada\, Montreal\, Quebec\, Canada
CATEGORIES:Open Education Resources
ATTACH;FMTTYPE=image/png:https://oeweek.oeglobal.org/wp-content/uploads/2026/02/pastille-ronde-moisEO-2026-5.png
ORGANIZER;CN="fabriqueREL":MAILTO:info@fabriquerel.org
GEO:45.5018869;-73.5673919
END:VEVENT
BEGIN:VEVENT
DTSTART;TZID=America/Denver:20260310T100000
DTEND;TZID=America/Denver:20260310T110000
DTSTAMP:20260423T003154
CREATED:20260225T204056Z
LAST-MODIFIED:20260225T204056Z
UID:10003602-1773136800-1773140400@oeweek.oeglobal.org
SUMMARY:Creating Your Own OER: Faculty Experiences and Insights
DESCRIPTION:Open Educational Resources (OER) are free\, openly licensed learning materials that faculty can use\, adapt\, and share. While many instructors choose to adopt or revise existing OER\, fewer realize that creating their own open materials is also an option. \nIn this webinar\, three University of Northern Colorado faculty members will share their experiences developing both large and small OER projects. Join us to learn what OER creation can look like in practice and how it can support both your teaching and your students. \nPanelists: Dr. Rose Grose\, Colorado School of Public Health at UNC; Dr. Michael Kimball\, Department of Anthropology; Dr. Corinne Wieben\, Department of History \nModerator: Caterina Belle Azzarello\, Ph.D. candidate\, Educational Psychology
URL:https://oeweek.oeglobal.org/activity/creating-your-own-oer-faculty-experiences-and-insights/
LOCATION:Greeley\, United States\, Greeley\, CO\, United States
CATEGORIES:Open Education Resources
ATTACH;FMTTYPE=image/jpeg:https://oeweek.oeglobal.org/wp-content/uploads/2026/02/2026.03LinkedInImage.jpg
ORGANIZER;CN="University of Northern Colorado Affordable and Open Educational Resources Committee":MAILTO:nancy.henke@unco.edu
END:VEVENT
END:VCALENDAR