BEGIN:VCALENDAR
VERSION:2.0
PRODID:-//Open Education Week - ECPv6.15.20//NONSGML v1.0//EN
CALSCALE:GREGORIAN
METHOD:PUBLISH
X-ORIGINAL-URL:https://oeweek.oeglobal.org
X-WR-CALDESC:Events for Open Education Week
REFRESH-INTERVAL;VALUE=DURATION:PT1H
X-Robots-Tag:noindex
X-PUBLISHED-TTL:PT1H
BEGIN:VTIMEZONE
TZID:UTC
BEGIN:STANDARD
TZOFFSETFROM:+0000
TZOFFSETTO:+0000
TZNAME:UTC
DTSTART:20250101T000000
END:STANDARD
END:VTIMEZONE
BEGIN:VTIMEZONE
TZID:Europe/Paris
BEGIN:DAYLIGHT
TZOFFSETFROM:+0100
TZOFFSETTO:+0200
TZNAME:CEST
DTSTART:20250330T010000
END:DAYLIGHT
BEGIN:STANDARD
TZOFFSETFROM:+0200
TZOFFSETTO:+0100
TZNAME:CET
DTSTART:20251026T010000
END:STANDARD
BEGIN:DAYLIGHT
TZOFFSETFROM:+0100
TZOFFSETTO:+0200
TZNAME:CEST
DTSTART:20260329T010000
END:DAYLIGHT
BEGIN:STANDARD
TZOFFSETFROM:+0200
TZOFFSETTO:+0100
TZNAME:CET
DTSTART:20261025T010000
END:STANDARD
BEGIN:DAYLIGHT
TZOFFSETFROM:+0100
TZOFFSETTO:+0200
TZNAME:CEST
DTSTART:20270328T010000
END:DAYLIGHT
BEGIN:STANDARD
TZOFFSETFROM:+0200
TZOFFSETTO:+0100
TZNAME:CET
DTSTART:20271031T010000
END:STANDARD
END:VTIMEZONE
BEGIN:VTIMEZONE
TZID:America/Vancouver
BEGIN:DAYLIGHT
TZOFFSETFROM:-0800
TZOFFSETTO:-0700
TZNAME:PDT
DTSTART:20250309T100000
END:DAYLIGHT
BEGIN:STANDARD
TZOFFSETFROM:-0700
TZOFFSETTO:-0800
TZNAME:PST
DTSTART:20251102T090000
END:STANDARD
BEGIN:DAYLIGHT
TZOFFSETFROM:-0800
TZOFFSETTO:-0700
TZNAME:PDT
DTSTART:20260308T100000
END:DAYLIGHT
BEGIN:STANDARD
TZOFFSETFROM:-0700
TZOFFSETTO:-0800
TZNAME:PST
DTSTART:20261101T090000
END:STANDARD
BEGIN:DAYLIGHT
TZOFFSETFROM:-0800
TZOFFSETTO:-0700
TZNAME:PDT
DTSTART:20270314T100000
END:DAYLIGHT
BEGIN:STANDARD
TZOFFSETFROM:-0700
TZOFFSETTO:-0800
TZNAME:PST
DTSTART:20271107T090000
END:STANDARD
END:VTIMEZONE
BEGIN:VTIMEZONE
TZID:America/New_York
BEGIN:DAYLIGHT
TZOFFSETFROM:-0500
TZOFFSETTO:-0400
TZNAME:EDT
DTSTART:20250309T070000
END:DAYLIGHT
BEGIN:STANDARD
TZOFFSETFROM:-0400
TZOFFSETTO:-0500
TZNAME:EST
DTSTART:20251102T060000
END:STANDARD
BEGIN:DAYLIGHT
TZOFFSETFROM:-0500
TZOFFSETTO:-0400
TZNAME:EDT
DTSTART:20260308T070000
END:DAYLIGHT
BEGIN:STANDARD
TZOFFSETFROM:-0400
TZOFFSETTO:-0500
TZNAME:EST
DTSTART:20261101T060000
END:STANDARD
BEGIN:DAYLIGHT
TZOFFSETFROM:-0500
TZOFFSETTO:-0400
TZNAME:EDT
DTSTART:20270314T070000
END:DAYLIGHT
BEGIN:STANDARD
TZOFFSETFROM:-0400
TZOFFSETTO:-0500
TZNAME:EST
DTSTART:20271107T060000
END:STANDARD
END:VTIMEZONE
BEGIN:VEVENT
DTSTART;TZID=UTC:20260303T090000
DTEND;TZID=UTC:20260303T130000
DTSTAMP:20260424T033635
CREATED:20260223T200811Z
LAST-MODIFIED:20260226T150325Z
UID:10003552-1772528400-1772542800@oeweek.oeglobal.org
SUMMARY:AfLIA Open Education Week Virtual Summit
DESCRIPTION:The African Library and Information Associations and Institutions (AfLIA)\, in collaboration with OER Africa\, is pleased to announce the 2026 AfLIA Open Education Week Virtual Summit\, scheduled for 3–4 March 2026. The virtual summit will convene librarians\, educators\, researchers\, policymakers\, and other stakeholders to explore how Open Education can expand access\, improve equity\, and transform learning outcomes across Africa. \nTheme: Open Education\, Open Possibilities\nOpen Education is reshaping the global learning landscape by expanding access to open educational resources and practices. It creates new pathways for inclusive\, quality\, and equitable education. This is particularly important for Africa\, which has the world’s youngest population\, with over 60 percent under the age of 25 and a median age of 19. Many young people and adult learners still face significant barriers to education due to inadequate resources and persistent equity gaps. Open Education presents an opportunity to address these challenges and to support Africa’s transformation into a global knowledge and innovation powerhouse. \nAfLIA strongly believes that African libraries have critical roles to play in bridging digital and resource gaps. Library professionals possess expertise in technology\, copyright\, and licensing\, positioning them as key partners in advancing Open Education. The 2026 virtual summit seeks to bring together stakeholders to share research\, case studies\, emerging models\, and visionary ideas that demonstrate how Open Education can enable transformative\, inclusive\, and equitable education across the continent. \n  \n  \n 
URL:https://oeweek.oeglobal.org/activity/aflia-oeweek-virtual-summit/2026-03-03/
LOCATION:Accra\, Ghana\, Accra\, Ghana
CATEGORIES:Equity and Access,Libraries,Open Access Publishing,Open Education Resources,Open Educational Practices
ATTACH;FMTTYPE=image/jpeg:https://oeweek.oeglobal.org/wp-content/uploads/2026/02/Open-Education-Summit-1200x480-1.jpg
GEO:5.5592846;-0.1974306
END:VEVENT
BEGIN:VEVENT
DTSTART;TZID=Europe/Paris:20260303T173000
DTEND;TZID=Europe/Paris:20260303T183000
DTSTAMP:20260424T033635
CREATED:20260223T142327Z
LAST-MODIFIED:20260223T142750Z
UID:10003544-1772559000-1772562600@oeweek.oeglobal.org
SUMMARY:Stronger Together: The Network of Open Organizations
DESCRIPTION:The Network of Open Organizations is a global alliance of diverse institutions and leaders committed to expanding open education and access to knowledge worldwide. Launched in 2019 and coordinated by Open Education Global\, the Network brings together educational institutions\, NGOs\, inter-governmental bodies\, and other open advocates to collaborate on shared goals\, including supporting the implementation of the UNESCO Recommendation on Open Educational Resources (OER) and advancing broader open education initiatives worldwide. By fostering ongoing dialogue\, mutual support\, and coordinated action\, the Network helps amplify collective efforts\, share best practices\, and align global\, regional\, and local strategies for openness in education and beyond. \nAt its core\, the Network serves as a learning and collaboration hub—a space where members exchange insights\, and also seek to co-develop initiatives\, and engage with complex challenges that no single organisation could address alone. \nThe Network of Open Organizations meets online on the first Tuesday of each month. Join us for the session during Open Education Week on Tuesday\, 3 March from 5:30 pm until 6:30 Paris time to engage with selected representatives of the Network of Open Organizations members\, learn about the network activities and future intentions and information on how to join.
URL:https://oeweek.oeglobal.org/activity/stronger-together-the-network-of-open-organizations/
LOCATION:Concord\, United States\, Concord\, MA\, United States
CATEGORIES:Equity and Access,Open Access Publishing,Open Education Policies,Open Education Resources,Open Educational Practices,Sustainability
ATTACH;FMTTYPE=image/png:https://oeweek.oeglobal.org/wp-content/uploads/2026/02/noo-logo-color.png
ORGANIZER;CN="Open Education Global":MAILTO:info@oeglobal.org/
GEO:42.4603719;-71.3489484
END:VEVENT
BEGIN:VEVENT
DTSTART;TZID=America/Vancouver:20260303T100000
DTEND;TZID=America/Vancouver:20260303T110000
DTSTAMP:20260424T033635
CREATED:20260216T022230Z
LAST-MODIFIED:20260216T022230Z
UID:10003478-1772532000-1772535600@oeweek.oeglobal.org
SUMMARY:Understanding the Full Potential of Open Access
DESCRIPTION:Interested in publishing open access\, but don’t know what it is or how to start? Join this informative\, engaging publishing workshop hosted by IGI Global Scientific Publishing\, an academic publisher for books and open access journals dedicated to Publishing Tomorrow’s Research Today.  \nLed by Melissa Wagner\, (Vice President of Publishing Ethics & Research Integrity)\, Grace Long (Director of Journal Development)\, and Savannah Pecknold (Communication Coordinator of Open Science Publishing)\, this session will explore the different types of open access\, Creative Commons licensing\, predatory journal detection\, submission and publication processes\, open access funding solutions (including Open Access Agreements)\, and more.   \nThis session is open for anyone interested in learning more about and becoming involved in open access publishing. 
URL:https://oeweek.oeglobal.org/activity/full-potential-open-access/
LOCATION:Athabasca\, Canada\, Athabasca\, Alberta\, Canada
CATEGORIES:Open Access Publishing,Open Research
ATTACH;FMTTYPE=image/jpeg:https://oeweek.oeglobal.org/wp-content/uploads/2026/02/OE-Week-1.jpg
ORGANIZER;CN="Athabasca University":MAILTO:oer@athabascau.ca
GEO:54.7212655;-113.2858262
END:VEVENT
BEGIN:VEVENT
DTSTART;TZID=America/New_York:20260303T140000
DTEND;TZID=America/New_York:20260303T150000
DTSTAMP:20260424T033635
CREATED:20260206T221922Z
LAST-MODIFIED:20260206T221922Z
UID:10003427-1772546400-1772550000@oeweek.oeglobal.org
SUMMARY:Pressbooks\, Omeka and TIND\, Oh My!
DESCRIPTION:This session will introduce you to tools and platforms offered by Rhode Island College and the Adams Library for digitally publishing faculty and student creative and scholarly works. Explore the college archives and institutional repository and discover opportunities to publish ebooks and online exhibits.
URL:https://oeweek.oeglobal.org/activity/pressbooks-omeka-and-tind-oh-my/
LOCATION:Providence\, United States\, Providence\, RI\, United States
CATEGORIES:Digital Skills,Libraries,Open Access Publishing,Open Repositories,Tools and Techniques
ATTACH;FMTTYPE=image/png:https://oeweek.oeglobal.org/wp-content/uploads/2026/02/RIC_Logo_Square_Burgundy_RGB_pb.png
GEO:41.8244836;-71.4127462
END:VEVENT
END:VCALENDAR