BEGIN:VCALENDAR
VERSION:2.0
PRODID:-//Open Education Week - ECPv6.15.20//NONSGML v1.0//EN
CALSCALE:GREGORIAN
METHOD:PUBLISH
X-WR-CALNAME:Open Education Week
X-ORIGINAL-URL:https://oeweek.oeglobal.org
X-WR-CALDESC:Events for Open Education Week
REFRESH-INTERVAL;VALUE=DURATION:PT1H
X-Robots-Tag:noindex
X-PUBLISHED-TTL:PT1H
BEGIN:VTIMEZONE
TZID:UTC
BEGIN:STANDARD
TZOFFSETFROM:+0000
TZOFFSETTO:+0000
TZNAME:UTC
DTSTART:20250101T000000
END:STANDARD
END:VTIMEZONE
BEGIN:VTIMEZONE
TZID:America/Indiana/Indianapolis
BEGIN:DAYLIGHT
TZOFFSETFROM:-0500
TZOFFSETTO:-0400
TZNAME:EDT
DTSTART:20250309T070000
END:DAYLIGHT
BEGIN:STANDARD
TZOFFSETFROM:-0400
TZOFFSETTO:-0500
TZNAME:EST
DTSTART:20251102T060000
END:STANDARD
BEGIN:DAYLIGHT
TZOFFSETFROM:-0500
TZOFFSETTO:-0400
TZNAME:EDT
DTSTART:20260308T070000
END:DAYLIGHT
BEGIN:STANDARD
TZOFFSETFROM:-0400
TZOFFSETTO:-0500
TZNAME:EST
DTSTART:20261101T060000
END:STANDARD
BEGIN:DAYLIGHT
TZOFFSETFROM:-0500
TZOFFSETTO:-0400
TZNAME:EDT
DTSTART:20270314T070000
END:DAYLIGHT
BEGIN:STANDARD
TZOFFSETFROM:-0400
TZOFFSETTO:-0500
TZNAME:EST
DTSTART:20271107T060000
END:STANDARD
END:VTIMEZONE
BEGIN:VTIMEZONE
TZID:America/Denver
BEGIN:DAYLIGHT
TZOFFSETFROM:-0700
TZOFFSETTO:-0600
TZNAME:MDT
DTSTART:20250309T090000
END:DAYLIGHT
BEGIN:STANDARD
TZOFFSETFROM:-0600
TZOFFSETTO:-0700
TZNAME:MST
DTSTART:20251102T080000
END:STANDARD
BEGIN:DAYLIGHT
TZOFFSETFROM:-0700
TZOFFSETTO:-0600
TZNAME:MDT
DTSTART:20260308T090000
END:DAYLIGHT
BEGIN:STANDARD
TZOFFSETFROM:-0600
TZOFFSETTO:-0700
TZNAME:MST
DTSTART:20261101T080000
END:STANDARD
BEGIN:DAYLIGHT
TZOFFSETFROM:-0700
TZOFFSETTO:-0600
TZNAME:MDT
DTSTART:20270314T090000
END:DAYLIGHT
BEGIN:STANDARD
TZOFFSETFROM:-0600
TZOFFSETTO:-0700
TZNAME:MST
DTSTART:20271107T080000
END:STANDARD
END:VTIMEZONE
BEGIN:VTIMEZONE
TZID:America/Chicago
BEGIN:DAYLIGHT
TZOFFSETFROM:-0600
TZOFFSETTO:-0500
TZNAME:CDT
DTSTART:20250309T080000
END:DAYLIGHT
BEGIN:STANDARD
TZOFFSETFROM:-0500
TZOFFSETTO:-0600
TZNAME:CST
DTSTART:20251102T070000
END:STANDARD
BEGIN:DAYLIGHT
TZOFFSETFROM:-0600
TZOFFSETTO:-0500
TZNAME:CDT
DTSTART:20260308T080000
END:DAYLIGHT
BEGIN:STANDARD
TZOFFSETFROM:-0500
TZOFFSETTO:-0600
TZNAME:CST
DTSTART:20261101T070000
END:STANDARD
BEGIN:DAYLIGHT
TZOFFSETFROM:-0600
TZOFFSETTO:-0500
TZNAME:CDT
DTSTART:20270314T080000
END:DAYLIGHT
BEGIN:STANDARD
TZOFFSETFROM:-0500
TZOFFSETTO:-0600
TZNAME:CST
DTSTART:20271107T070000
END:STANDARD
END:VTIMEZONE
BEGIN:VTIMEZONE
TZID:America/Toronto
BEGIN:DAYLIGHT
TZOFFSETFROM:-0500
TZOFFSETTO:-0400
TZNAME:EDT
DTSTART:20250309T070000
END:DAYLIGHT
BEGIN:STANDARD
TZOFFSETFROM:-0400
TZOFFSETTO:-0500
TZNAME:EST
DTSTART:20251102T060000
END:STANDARD
BEGIN:DAYLIGHT
TZOFFSETFROM:-0500
TZOFFSETTO:-0400
TZNAME:EDT
DTSTART:20260308T070000
END:DAYLIGHT
BEGIN:STANDARD
TZOFFSETFROM:-0400
TZOFFSETTO:-0500
TZNAME:EST
DTSTART:20261101T060000
END:STANDARD
BEGIN:DAYLIGHT
TZOFFSETFROM:-0500
TZOFFSETTO:-0400
TZNAME:EDT
DTSTART:20270314T070000
END:DAYLIGHT
BEGIN:STANDARD
TZOFFSETFROM:-0400
TZOFFSETTO:-0500
TZNAME:EST
DTSTART:20271107T060000
END:STANDARD
END:VTIMEZONE
BEGIN:VEVENT
DTSTART;TZID=UTC:20260304T090000
DTEND;TZID=UTC:20260304T130000
DTSTAMP:20260424T014621
CREATED:20260223T200811Z
LAST-MODIFIED:20260226T150325Z
UID:10003599-1772614800-1772629200@oeweek.oeglobal.org
SUMMARY:AfLIA Open Education Week Virtual Summit
DESCRIPTION:The African Library and Information Associations and Institutions (AfLIA)\, in collaboration with OER Africa\, is pleased to announce the 2026 AfLIA Open Education Week Virtual Summit\, scheduled for 3–4 March 2026. The virtual summit will convene librarians\, educators\, researchers\, policymakers\, and other stakeholders to explore how Open Education can expand access\, improve equity\, and transform learning outcomes across Africa. \nTheme: Open Education\, Open Possibilities\nOpen Education is reshaping the global learning landscape by expanding access to open educational resources and practices. It creates new pathways for inclusive\, quality\, and equitable education. This is particularly important for Africa\, which has the world’s youngest population\, with over 60 percent under the age of 25 and a median age of 19. Many young people and adult learners still face significant barriers to education due to inadequate resources and persistent equity gaps. Open Education presents an opportunity to address these challenges and to support Africa’s transformation into a global knowledge and innovation powerhouse. \nAfLIA strongly believes that African libraries have critical roles to play in bridging digital and resource gaps. Library professionals possess expertise in technology\, copyright\, and licensing\, positioning them as key partners in advancing Open Education. The 2026 virtual summit seeks to bring together stakeholders to share research\, case studies\, emerging models\, and visionary ideas that demonstrate how Open Education can enable transformative\, inclusive\, and equitable education across the continent. \n  \n  \n 
URL:https://oeweek.oeglobal.org/activity/aflia-oeweek-virtual-summit/2026-03-04/
LOCATION:Accra\, Ghana\, Accra\, Ghana
CATEGORIES:Equity and Access,Libraries,Open Access Publishing,Open Education Resources,Open Educational Practices
ATTACH;FMTTYPE=image/jpeg:https://oeweek.oeglobal.org/wp-content/uploads/2026/02/Open-Education-Summit-1200x480-1.jpg
GEO:5.5592846;-0.1974306
END:VEVENT
BEGIN:VEVENT
DTSTART;TZID=America/Indiana/Indianapolis:20260304T113000
DTEND;TZID=America/Indiana/Indianapolis:20260304T123000
DTSTAMP:20260424T014621
CREATED:20260217T010048Z
LAST-MODIFIED:20260217T010048Z
UID:10003501-1772623800-1772627400@oeweek.oeglobal.org
SUMMARY:What Can I Share—and Where? Digital Literacy\, Open Licenses\, and Faculty Publishing Pathways
DESCRIPTION:Faculty create a wide range of digital materials—articles\, syllabi\, datasets\, lecture media\, public scholarship\, and creative work—but questions about copyright\, licensing\, and “where this work belongs” often create barriers to sharing.  \nThis Open Education Week workshop at DePauw University introduces digital literacy concepts through the lens of open licenses and publishing pathways. Participants will explore how Creative Commons licenses work\, how to decide what level of openness is appropriate for different kinds of work\, and where faculty can publish or share materials—from journals and institutional repositories to open platforms and community-aligned publishing models. Designed for a liberal arts context\, the session emphasizes faculty agency\, ethical knowledge sharing\, and practical decision-making that supports teaching\, scholarship\, and public impact.
URL:https://oeweek.oeglobal.org/activity/what-can-i-share-where/
LOCATION:Greencastle\, United States\, Greencastle\, IN\, United States
CATEGORIES:Digital Skills,Open Access Publishing,Open Educational Practices
ATTACH;FMTTYPE=image/png:https://oeweek.oeglobal.org/wp-content/uploads/2026/02/Screenshot-2026-02-16-at-10.23.50-AM.png
GEO:39.6439943;-86.8645066
END:VEVENT
BEGIN:VEVENT
DTSTART;TZID=America/Denver:20260304T120000
DTEND;TZID=America/Denver:20260304T133000
DTSTAMP:20260424T014621
CREATED:20260212T002135Z
LAST-MODIFIED:20260212T002135Z
UID:10003452-1772625600-1772631000@oeweek.oeglobal.org
SUMMARY:Open Education Talks- Strategies for Supporting Students in Open Education
DESCRIPTION:Open Education Talks is a series of 15-minute lightning talks and digital posters about facets of open education. These talks aim to create an accessible\, virtual space for conversations about open education. We welcome proposals from educators\, students\, administrators\, librarians\, instructional designers\, and all other roles related to the design\, delivery\, and evaluation of open education in post-secondary institutions. We encourage student-led or partnered talks that showcase the critical role of student leadership and student-educator collaborations in open education. To register for these Zoom sessions\, visit: https://ucalgary.zoom.us/meeting/register/tJcpfuuhqjsiE9xwLFkoS4uK-KLd0bwXMbkC \nStrategies for Supporting Students in Open Education \n\nOE Talks History and Context – Brianna Calomino and Sarah Adams (University of Calgary\, OE Talks Co-chairs)\nStudent OER for Inclusive Poster Design – Jamie Drozda & Melanie Latham (Thompson Rivers University – British Columbia\, Canada)\nCrafting Magic\, Conjuring Open Practices – Neil Mulholland (University of Edinburgh – Scotland)\nFrom Static to Dynamic: Collaborative Student/Faculty Approach to Interactive OER – Veronique Van Lierde & Yasser Lemghari (Al Akhaw ayn University in Ifrane – Morocco)\nBC Institutional Capacity to Support Open Educational Practices – Josie Gray (BCcampus – British Columbia\, Canada)
URL:https://oeweek.oeglobal.org/activity/open-education-talks-strategies-for-supporting-students-in-open-education/
LOCATION:Calgary\, Canada\, Calgary\, AB\, Canada
CATEGORIES:Open Access Publishing,Open Education Policies,Open Education Resources,Open Repositories,Open Source Platforms,Tools and Techniques
ATTACH;FMTTYPE=image/jpeg:https://oeweek.oeglobal.org/wp-content/uploads/2026/02/oetalks-2026-scaled.jpg
ORGANIZER;CN="University of Calgary":MAILTO:sarah.adams1@ucalgary.ca
GEO:51.0447331;-114.0718831
END:VEVENT
BEGIN:VEVENT
DTSTART;TZID=America/Chicago:20260304T130000
DTEND;TZID=America/Chicago:20260304T150000
DTSTAMP:20260424T014621
CREATED:20260223T201129Z
LAST-MODIFIED:20260223T201129Z
UID:10003550-1772629200-1772636400@oeweek.oeglobal.org
SUMMARY:Hinds Community College Wikipedia Editathon
DESCRIPTION:Hinds Community College’s Wikipedia Editathon is taking place Wednesday\, March 4th from 1-3pm\, McLendon Library in the Bucci Room.
URL:https://oeweek.oeglobal.org/activity/hinds-community-college-wikipedia-editathon/
LOCATION:Raymond\, United States\, Raymond\, MS\, United States
CATEGORIES:Digital Skills,Equity and Access,Libraries,Open Access Publishing,Open Education Resources,Open Source Platforms
ATTACH;FMTTYPE=image/png:https://oeweek.oeglobal.org/wp-content/uploads/2026/02/Gemini_Generated_Image_lfmnidlfmnidlfmn-scaled.png
END:VEVENT
BEGIN:VEVENT
DTSTART;TZID=America/Toronto:20260304T150000
DTEND;TZID=America/Toronto:20260304T154500
DTSTAMP:20260424T014621
CREATED:20260225T204618Z
LAST-MODIFIED:20260304T234947Z
UID:10003600-1772636400-1772639100@oeweek.oeglobal.org
SUMMARY:Making Education Accessible with OER: Funded by Embark Student Foundation Grant
DESCRIPTION:Conestoga College employees are invited to join this virtual information session from 3 to 3:45 p.m. to learn about Making Education Accessible with OER and how the Embark Student Foundation grant can support.
URL:https://oeweek.oeglobal.org/activity/making-education-accessible-with-oer-embark-grant/
LOCATION:Kitchener\, Canada\, Kitchener\, Ontario\, Canada
CATEGORIES:Libraries,Open Access Publishing,Open Education Resources
ATTACH;FMTTYPE=image/jpeg:https://oeweek.oeglobal.org/wp-content/uploads/2026/02/channels4_profile.jpg
ORGANIZER;CN="Conestoga College":MAILTO:openlearning@conestogac.on.ca
END:VEVENT
END:VCALENDAR