BEGIN:VCALENDAR
VERSION:2.0
PRODID:-//Open Education Week - ECPv6.15.20//NONSGML v1.0//EN
CALSCALE:GREGORIAN
METHOD:PUBLISH
X-ORIGINAL-URL:https://oeweek.oeglobal.org
X-WR-CALDESC:Events for Open Education Week
REFRESH-INTERVAL;VALUE=DURATION:PT1H
X-Robots-Tag:noindex
X-PUBLISHED-TTL:PT1H
BEGIN:VTIMEZONE
TZID:Europe/Dublin
BEGIN:STANDARD
TZOFFSETFROM:+0000
TZOFFSETTO:+0100
TZNAME:IST
DTSTART:20250330T010000
END:STANDARD
BEGIN:DAYLIGHT
TZOFFSETFROM:+0100
TZOFFSETTO:+0000
TZNAME:GMT
DTSTART:20251026T010000
END:DAYLIGHT
BEGIN:STANDARD
TZOFFSETFROM:+0000
TZOFFSETTO:+0100
TZNAME:IST
DTSTART:20260329T010000
END:STANDARD
BEGIN:DAYLIGHT
TZOFFSETFROM:+0100
TZOFFSETTO:+0000
TZNAME:GMT
DTSTART:20261025T010000
END:DAYLIGHT
BEGIN:STANDARD
TZOFFSETFROM:+0000
TZOFFSETTO:+0100
TZNAME:IST
DTSTART:20270328T010000
END:STANDARD
BEGIN:DAYLIGHT
TZOFFSETFROM:+0100
TZOFFSETTO:+0000
TZNAME:GMT
DTSTART:20271031T010000
END:DAYLIGHT
END:VTIMEZONE
BEGIN:VTIMEZONE
TZID:America/Vancouver
BEGIN:DAYLIGHT
TZOFFSETFROM:-0800
TZOFFSETTO:-0700
TZNAME:PDT
DTSTART:20250309T100000
END:DAYLIGHT
BEGIN:STANDARD
TZOFFSETFROM:-0700
TZOFFSETTO:-0800
TZNAME:PST
DTSTART:20251102T090000
END:STANDARD
BEGIN:DAYLIGHT
TZOFFSETFROM:-0800
TZOFFSETTO:-0700
TZNAME:PDT
DTSTART:20260308T100000
END:DAYLIGHT
BEGIN:STANDARD
TZOFFSETFROM:-0700
TZOFFSETTO:-0800
TZNAME:PST
DTSTART:20261101T090000
END:STANDARD
BEGIN:DAYLIGHT
TZOFFSETFROM:-0800
TZOFFSETTO:-0700
TZNAME:PDT
DTSTART:20270314T100000
END:DAYLIGHT
BEGIN:STANDARD
TZOFFSETFROM:-0700
TZOFFSETTO:-0800
TZNAME:PST
DTSTART:20271107T090000
END:STANDARD
END:VTIMEZONE
BEGIN:VTIMEZONE
TZID:America/New_York
BEGIN:DAYLIGHT
TZOFFSETFROM:-0500
TZOFFSETTO:-0400
TZNAME:EDT
DTSTART:20250309T070000
END:DAYLIGHT
BEGIN:STANDARD
TZOFFSETFROM:-0400
TZOFFSETTO:-0500
TZNAME:EST
DTSTART:20251102T060000
END:STANDARD
BEGIN:DAYLIGHT
TZOFFSETFROM:-0500
TZOFFSETTO:-0400
TZNAME:EDT
DTSTART:20260308T070000
END:DAYLIGHT
BEGIN:STANDARD
TZOFFSETFROM:-0400
TZOFFSETTO:-0500
TZNAME:EST
DTSTART:20261101T060000
END:STANDARD
BEGIN:DAYLIGHT
TZOFFSETFROM:-0500
TZOFFSETTO:-0400
TZNAME:EDT
DTSTART:20270314T070000
END:DAYLIGHT
BEGIN:STANDARD
TZOFFSETFROM:-0400
TZOFFSETTO:-0500
TZNAME:EST
DTSTART:20271107T060000
END:STANDARD
END:VTIMEZONE
BEGIN:VTIMEZONE
TZID:America/Los_Angeles
BEGIN:DAYLIGHT
TZOFFSETFROM:-0800
TZOFFSETTO:-0700
TZNAME:PDT
DTSTART:20250309T100000
END:DAYLIGHT
BEGIN:STANDARD
TZOFFSETFROM:-0700
TZOFFSETTO:-0800
TZNAME:PST
DTSTART:20251102T090000
END:STANDARD
BEGIN:DAYLIGHT
TZOFFSETFROM:-0800
TZOFFSETTO:-0700
TZNAME:PDT
DTSTART:20260308T100000
END:DAYLIGHT
BEGIN:STANDARD
TZOFFSETFROM:-0700
TZOFFSETTO:-0800
TZNAME:PST
DTSTART:20261101T090000
END:STANDARD
BEGIN:DAYLIGHT
TZOFFSETFROM:-0800
TZOFFSETTO:-0700
TZNAME:PDT
DTSTART:20270314T100000
END:DAYLIGHT
BEGIN:STANDARD
TZOFFSETFROM:-0700
TZOFFSETTO:-0800
TZNAME:PST
DTSTART:20271107T090000
END:STANDARD
END:VTIMEZONE
BEGIN:VEVENT
DTSTART;TZID=Europe/Dublin:20260305T100000
DTEND;TZID=Europe/Dublin:20260305T110000
DTSTAMP:20260424T001259
CREATED:20260217T011826Z
LAST-MODIFIED:20260217T091926Z
UID:10003499-1772704800-1772708400@oeweek.oeglobal.org
SUMMARY:TUS Open Press Community of Practice H5P Workshop
DESCRIPTION:To mark OE Week 2026\, Technological University of the Shannon is hosting a H5P workshop for our TUS Open Press Community of Practice members. \nThe TUS Open Press Community of Practice meets a few times per semester to support each other in learning more about Open Education and how we can collectively contribute to the Commons. \nOur theme for this workshop is H5P and we will focus on our recent publication: Your Essay Builder: Clear Steps to Plan and Structure Your Essay\, which has successfully integrated a variety of H5P approaches. \nOther Community members will also be invited to share their experiences of using H5P in their teaching and how they integrate interactive elements into their Openly Licensed works to scaffold learning and engage users.
URL:https://oeweek.oeglobal.org/activity/tus-open-press-community-practice-h5p-workshop/
LOCATION:Athlone\, Ireland\, Athlone\, Ireland
CATEGORIES:Open Access Publishing,Open Education Resources,Tools and Techniques
ATTACH;FMTTYPE=image/jpeg:https://oeweek.oeglobal.org/wp-content/uploads/2026/02/Community-of-Practice-FULL-IMAGE-ribbon-V6-scaled.jpg
GEO:53.4239226;-7.9402775
END:VEVENT
BEGIN:VEVENT
DTSTART;TZID=America/Vancouver:20260305T100000
DTEND;TZID=America/Vancouver:20260305T230000
DTSTAMP:20260424T001259
CREATED:20260216T022746Z
LAST-MODIFIED:20260216T022746Z
UID:10003475-1772704800-1772751600@oeweek.oeglobal.org
SUMMARY:Learning Online: Publishing OER with AU Press
DESCRIPTION:Athabasca Uiniversity Library is proud to present a panel discussion with the creators of the new OER\, Learning Online: An Introduction to Online Education for the Health Disciplines.  \nThis panel will feature conversation with Dr. Kristen Petrovic (Associate Professor\, Faculty of Health)\, Dr. Emily Doyle (Program Director\, Master of Counselling) and Dr. Lynn Corcoran (Associate Professor\, Faculty of Health) as they discuss their experience adapting OER through the OER Publishing Support Program and the AU Press Remix imprint.  
URL:https://oeweek.oeglobal.org/activity/publishing-oer-au-press/
LOCATION:Athabasca\, Canada\, Athabasca\, Alberta\, Canada
CATEGORIES:Open Access Publishing,Open Education Resources
ATTACH;FMTTYPE=image/jpeg:https://oeweek.oeglobal.org/wp-content/uploads/2026/02/OE-Week.jpg
ORGANIZER;CN="Athabasca University":MAILTO:oer@athabascau.ca
GEO:54.7212655;-113.2858262
END:VEVENT
BEGIN:VEVENT
DTSTART;TZID=America/New_York:20260305T140000
DTEND;TZID=America/New_York:20260305T150000
DTSTAMP:20260424T001259
CREATED:20260225T065301Z
LAST-MODIFIED:20260225T065656Z
UID:10003579-1772719200-1772722800@oeweek.oeglobal.org
SUMMARY:Statistics Functions in Pressbooks and SOAR
DESCRIPTION:This Excelsior University webinar explores how to measure your OER’s impact using the statistical functions in Pressbooks and Excelsior’s institutional repository\, SOAR. \nRegistration requires an Excelsior login.
URL:https://oeweek.oeglobal.org/activity/statistics-functions-in-pressbooks-and-soar/
LOCATION:Albany\, United States\, Albany\, OR\, United States
CATEGORIES:Open Access Publishing
ATTACH;FMTTYPE=image/png:https://oeweek.oeglobal.org/wp-content/uploads/2026/02/Open_Education_Week_2026.png
GEO:44.6365107;-123.1059282
END:VEVENT
BEGIN:VEVENT
DTSTART;TZID=America/Los_Angeles:20260305T120000
DTEND;TZID=America/Los_Angeles:20260305T130000
DTSTAMP:20260424T001259
CREATED:20260218T221752Z
LAST-MODIFIED:20260218T221752Z
UID:10003522-1772712000-1772715600@oeweek.oeglobal.org
SUMMARY:A Community Like No Other: LibreTexts Academy and LibreNet Consortium
DESCRIPTION:The LibreTexts Academy is the professional development hub of the LibreVerse\, designed for faculty who are serious about open education but don’t have unlimited time to figure it all out alone. Whether you’re adopting an existing open textbook for the first time\, or building a fully custom course from the ground up\, the Academy meets you where you are and takes you where you want to go. \nMonthly webinars\, twice-weekly office hours\, and self-paced training modules cover everything from getting started with ADAPT to remixing content to making your materials accessible. For those ready to go deeper\, cohort programs\, in-person workshops\, and instructor certifications let you build real expertise and walk away with credentials to show for it. \nThe goal is simple: spend less time troubleshooting and more time teaching. Your students pay less. Your course feels like yours. \nThe LibreNet Consortium is a community of passionate educators dedicated to growing sustainable open education initiatives at their institutions. No matter where you are in your journey to bring down the cost of education\, and create more equitable pathways for your students\, the LibreNet Consortium provides the tools you need to ensure your efforts are sustainable for the road ahead. \nWhether you connect with us through Academy or the LibreNet (or both!)\, you will join a community that’s been doing this work — together — for decades.
URL:https://oeweek.oeglobal.org/activity/ibretexts-academy-and-librenet-consortium/
LOCATION:Davis\, United States\, Davis\, CA\, United States
CATEGORIES:Digital Skills,Equity and Access,Micro-credentialing,Open Access Publishing,Open Educational Practices,Open Repositories,Sustainability,Tools and Techniques
ATTACH;FMTTYPE=image/png:https://oeweek.oeglobal.org/wp-content/uploads/2026/02/Benny-Leaning-LT-Trans-1-scaled.png
ORGANIZER;CN="LibreTexts":MAILTO:info@libretexts.org
GEO:38.5449065;-121.7405167
END:VEVENT
END:VCALENDAR