BEGIN:VCALENDAR
VERSION:2.0
PRODID:-//Open Education Week - ECPv6.15.20//NONSGML v1.0//EN
CALSCALE:GREGORIAN
METHOD:PUBLISH
X-ORIGINAL-URL:https://oeweek.oeglobal.org
X-WR-CALDESC:Events for Open Education Week
REFRESH-INTERVAL;VALUE=DURATION:PT1H
X-Robots-Tag:noindex
X-PUBLISHED-TTL:PT1H
BEGIN:VTIMEZONE
TZID:America/Mexico_City
BEGIN:STANDARD
TZOFFSETFROM:-0600
TZOFFSETTO:-0600
TZNAME:CST
DTSTART:20250101T000000
END:STANDARD
END:VTIMEZONE
BEGIN:VEVENT
DTSTART;TZID=America/Mexico_City:20260312T170000
DTEND;TZID=America/Mexico_City:20260312T190000
DTSTAMP:20260422T063949
CREATED:20260306T181936Z
LAST-MODIFIED:20260310T203506Z
UID:10003656-1773334800-1773342000@oeweek.oeglobal.org
SUMMARY:La Declaración de Dubái y los REA en el SUAyED
DESCRIPTION:En este taller presencial analizaremos las recomendaciones de la Declaración de Dubái para identificar las áreas de oportunidad en el contexto de la creación de contenido educativo en el sistema Sistema de Universidad Abierta y Educación Digital\,  de la Universidad Nacional Autónoma de México. Evento presencial en el Laboratorio de Aprendizaje Digital de la Coordinación de Universidad Abierta y Educación Digital de la Universidad Nacional Autónoma de México. \nAdjuntamos un cuaderno de NotebookLM con el documento de la Declaración de Dubai para que puedas preparar tu participación. \nP.D. Cerraremos la conversación con un ejercicio lúdico de realidad aumentada… \n¡Acompáñanos! \nInformes: jackeline_bucio@cuaed.unam.mx
URL:https://oeweek.oeglobal.org/activity/declaracion-dubai-rea-suayed/
LOCATION:México City\, Mexico\, México City\, Mexico
CATEGORIES:Open Education Policies,Open Education Resources
ATTACH;FMTTYPE=image/png:https://oeweek.oeglobal.org/wp-content/uploads/2026/03/Postcard.png
END:VEVENT
END:VCALENDAR