BEGIN:VCALENDAR
VERSION:2.0
PRODID:-//Open Education Week - ECPv6.15.20//NONSGML v1.0//EN
CALSCALE:GREGORIAN
METHOD:PUBLISH
X-WR-CALNAME:Open Education Week
X-ORIGINAL-URL:https://oeweek.oeglobal.org
X-WR-CALDESC:Events for Open Education Week
REFRESH-INTERVAL;VALUE=DURATION:PT1H
X-Robots-Tag:noindex
X-PUBLISHED-TTL:PT1H
BEGIN:VTIMEZONE
TZID:America/Denver
BEGIN:DAYLIGHT
TZOFFSETFROM:-0700
TZOFFSETTO:-0600
TZNAME:MDT
DTSTART:20250309T090000
END:DAYLIGHT
BEGIN:STANDARD
TZOFFSETFROM:-0600
TZOFFSETTO:-0700
TZNAME:MST
DTSTART:20251102T080000
END:STANDARD
BEGIN:DAYLIGHT
TZOFFSETFROM:-0700
TZOFFSETTO:-0600
TZNAME:MDT
DTSTART:20260308T090000
END:DAYLIGHT
BEGIN:STANDARD
TZOFFSETFROM:-0600
TZOFFSETTO:-0700
TZNAME:MST
DTSTART:20261101T080000
END:STANDARD
BEGIN:DAYLIGHT
TZOFFSETFROM:-0700
TZOFFSETTO:-0600
TZNAME:MDT
DTSTART:20270314T090000
END:DAYLIGHT
BEGIN:STANDARD
TZOFFSETFROM:-0600
TZOFFSETTO:-0700
TZNAME:MST
DTSTART:20271107T080000
END:STANDARD
END:VTIMEZONE
BEGIN:VTIMEZONE
TZID:America/Los_Angeles
BEGIN:DAYLIGHT
TZOFFSETFROM:-0800
TZOFFSETTO:-0700
TZNAME:PDT
DTSTART:20250309T100000
END:DAYLIGHT
BEGIN:STANDARD
TZOFFSETFROM:-0700
TZOFFSETTO:-0800
TZNAME:PST
DTSTART:20251102T090000
END:STANDARD
BEGIN:DAYLIGHT
TZOFFSETFROM:-0800
TZOFFSETTO:-0700
TZNAME:PDT
DTSTART:20260308T100000
END:DAYLIGHT
BEGIN:STANDARD
TZOFFSETFROM:-0700
TZOFFSETTO:-0800
TZNAME:PST
DTSTART:20261101T090000
END:STANDARD
BEGIN:DAYLIGHT
TZOFFSETFROM:-0800
TZOFFSETTO:-0700
TZNAME:PDT
DTSTART:20270314T100000
END:DAYLIGHT
BEGIN:STANDARD
TZOFFSETFROM:-0700
TZOFFSETTO:-0800
TZNAME:PST
DTSTART:20271107T090000
END:STANDARD
END:VTIMEZONE
BEGIN:VEVENT
DTSTART;TZID=America/Denver:20260305T110000
DTEND;TZID=America/Denver:20260305T120000
DTSTAMP:20260424T033643
CREATED:20260212T003554Z
LAST-MODIFIED:20260212T182158Z
UID:10003449-1772708400-1772712000@oeweek.oeglobal.org
SUMMARY:Keeping Learning Open in an Era of Censorship
DESCRIPTION:Open Education has evolved from a focus on textbook savings to a broader movement for advancing social justice. In today’s geopolitical climate\, it can also serve as a form of resistance—challenging political narratives and restrictions. \n  \nIn this session from Norquest College\, we will explore censorship threats to Open Education. Conversely\, we will also speculate on how Open Education can undermine information controls and help sustain access to knowledge.
URL:https://oeweek.oeglobal.org/activity/keeping-learning-open-era-censorship/
LOCATION:Edmonton\, Canada\, Edmonton\, Alberta\, Canada
CATEGORIES:Open Educational Practices
ATTACH;FMTTYPE=image/png:https://oeweek.oeglobal.org/wp-content/uploads/2026/02/NorQuest-Logo-RGB-5Colour-Horizontal-1-scaled.png
GEO:53.5461663;-113.4937355
END:VEVENT
BEGIN:VEVENT
DTSTART;TZID=America/Los_Angeles:20260305T150000
DTEND;TZID=America/Los_Angeles:20260305T160000
DTSTAMP:20260424T033643
CREATED:20260211T203536Z
LAST-MODIFIED:20260212T182158Z
UID:10003450-1772722800-1772726400@oeweek.oeglobal.org
SUMMARY:K12 Sex Ed and Substance Use OER for Oregon Health Standards
DESCRIPTION:Join Sasha Grenier and Alanna Russell from the Oregon Department of Education for an engaging session discussing the Sexuality Education and Substance Use OER that support educators in meeting Oregon’s Health Education Standards.
URL:https://oeweek.oeglobal.org/activity/k12-sex-ed-and-substance-use-oer-for-oregon-health-standards/
LOCATION:Albany\, United States\, Albany\, OR\, United States
CATEGORIES:Open Educational Practices
ATTACH;FMTTYPE=image/png:https://oeweek.oeglobal.org/wp-content/uploads/2026/02/Open-Oregon-for-lights.png
ORGANIZER;CN="Open Oregon Educational Resources":MAILTO:hofera@linnbenton.edu
GEO:44.6365107;-123.1059282
END:VEVENT
END:VCALENDAR