BEGIN:VCALENDAR
VERSION:2.0
PRODID:-//Open Education Week - ECPv6.15.20//NONSGML v1.0//EN
CALSCALE:GREGORIAN
METHOD:PUBLISH
X-WR-CALNAME:Open Education Week
X-ORIGINAL-URL:https://oeweek.oeglobal.org
X-WR-CALDESC:Events for Open Education Week
REFRESH-INTERVAL;VALUE=DURATION:PT1H
X-Robots-Tag:noindex
X-PUBLISHED-TTL:PT1H
BEGIN:VTIMEZONE
TZID:America/Los_Angeles
BEGIN:DAYLIGHT
TZOFFSETFROM:-0800
TZOFFSETTO:-0700
TZNAME:PDT
DTSTART:20250309T100000
END:DAYLIGHT
BEGIN:STANDARD
TZOFFSETFROM:-0700
TZOFFSETTO:-0800
TZNAME:PST
DTSTART:20251102T090000
END:STANDARD
BEGIN:DAYLIGHT
TZOFFSETFROM:-0800
TZOFFSETTO:-0700
TZNAME:PDT
DTSTART:20260308T100000
END:DAYLIGHT
BEGIN:STANDARD
TZOFFSETFROM:-0700
TZOFFSETTO:-0800
TZNAME:PST
DTSTART:20261101T090000
END:STANDARD
BEGIN:DAYLIGHT
TZOFFSETFROM:-0800
TZOFFSETTO:-0700
TZNAME:PDT
DTSTART:20270314T100000
END:DAYLIGHT
BEGIN:STANDARD
TZOFFSETFROM:-0700
TZOFFSETTO:-0800
TZNAME:PST
DTSTART:20271107T090000
END:STANDARD
END:VTIMEZONE
BEGIN:VEVENT
DTSTART;TZID=America/Los_Angeles:20260306T113000
DTEND;TZID=America/Los_Angeles:20260306T130000
DTSTAMP:20260424T051244
CREATED:20260211T203850Z
LAST-MODIFIED:20260212T182158Z
UID:10003451-1772796600-1772802000@oeweek.oeglobal.org
SUMMARY:90-minute Webinar: AI\, Copyright\, and Open Education: What We Know Now
DESCRIPTION:Cohosted by Open Oregon Educational Resources and Copyright First Responders Pacific Northwest. \nJoin the Copyright First Responders Pacific Northwest to explore the emerging intersection of AI\, copyright\, and open educational resources.
URL:https://oeweek.oeglobal.org/activity/90-minute-webinar-ai-copyright-and-open-education-what-we-know-now/
LOCATION:Albany\, United States\, Albany\, OR\, United States
CATEGORIES:Artificial Intelligence,Open Education Resources
ATTACH;FMTTYPE=image/png:https://oeweek.oeglobal.org/wp-content/uploads/2026/02/Open-Oregon-for-lights.png
ORGANIZER;CN="Open Oregon Educational Resources":MAILTO:hofera@linnbenton.edu
GEO:44.6365107;-123.1059282
END:VEVENT
END:VCALENDAR