BEGIN:VCALENDAR
VERSION:2.0
PRODID:-//Open Education Week - ECPv6.15.20//NONSGML v1.0//EN
CALSCALE:GREGORIAN
METHOD:PUBLISH
X-WR-CALNAME:Open Education Week
X-ORIGINAL-URL:https://oeweek.oeglobal.org
X-WR-CALDESC:Events for Open Education Week
REFRESH-INTERVAL;VALUE=DURATION:PT1H
X-Robots-Tag:noindex
X-PUBLISHED-TTL:PT1H
BEGIN:VTIMEZONE
TZID:Europe/Vienna
BEGIN:DAYLIGHT
TZOFFSETFROM:+0100
TZOFFSETTO:+0200
TZNAME:CEST
DTSTART:20250330T010000
END:DAYLIGHT
BEGIN:STANDARD
TZOFFSETFROM:+0200
TZOFFSETTO:+0100
TZNAME:CET
DTSTART:20251026T010000
END:STANDARD
BEGIN:DAYLIGHT
TZOFFSETFROM:+0100
TZOFFSETTO:+0200
TZNAME:CEST
DTSTART:20260329T010000
END:DAYLIGHT
BEGIN:STANDARD
TZOFFSETFROM:+0200
TZOFFSETTO:+0100
TZNAME:CET
DTSTART:20261025T010000
END:STANDARD
BEGIN:DAYLIGHT
TZOFFSETFROM:+0100
TZOFFSETTO:+0200
TZNAME:CEST
DTSTART:20270328T010000
END:DAYLIGHT
BEGIN:STANDARD
TZOFFSETFROM:+0200
TZOFFSETTO:+0100
TZNAME:CET
DTSTART:20271031T010000
END:STANDARD
END:VTIMEZONE
BEGIN:VTIMEZONE
TZID:Asia/Kolkata
BEGIN:STANDARD
TZOFFSETFROM:+0530
TZOFFSETTO:+0530
TZNAME:IST
DTSTART:20250101T000000
END:STANDARD
END:VTIMEZONE
BEGIN:VTIMEZONE
TZID:America/Los_Angeles
BEGIN:DAYLIGHT
TZOFFSETFROM:-0800
TZOFFSETTO:-0700
TZNAME:PDT
DTSTART:20250309T100000
END:DAYLIGHT
BEGIN:STANDARD
TZOFFSETFROM:-0700
TZOFFSETTO:-0800
TZNAME:PST
DTSTART:20251102T090000
END:STANDARD
BEGIN:DAYLIGHT
TZOFFSETFROM:-0800
TZOFFSETTO:-0700
TZNAME:PDT
DTSTART:20260308T100000
END:DAYLIGHT
BEGIN:STANDARD
TZOFFSETFROM:-0700
TZOFFSETTO:-0800
TZNAME:PST
DTSTART:20261101T090000
END:STANDARD
BEGIN:DAYLIGHT
TZOFFSETFROM:-0800
TZOFFSETTO:-0700
TZNAME:PDT
DTSTART:20270314T100000
END:DAYLIGHT
BEGIN:STANDARD
TZOFFSETFROM:-0700
TZOFFSETTO:-0800
TZNAME:PST
DTSTART:20271107T090000
END:STANDARD
END:VTIMEZONE
BEGIN:VEVENT
DTSTART;TZID=Europe/Vienna:20260302T100000
DTEND;TZID=Europe/Vienna:20260302T103000
DTSTAMP:20260423T222621
CREATED:20260222T225523Z
LAST-MODIFIED:20260222T233708Z
UID:10003533-1772445600-1772447400@oeweek.oeglobal.org
SUMMARY:The JOERney@UIBK: Experience Talks with Reingard Spannring
DESCRIPTION:OER creators from the University of Innsbruck will share their personal experiences of developing and publishing Open Educational Resources. \nThey’ll talk about: \n\nWhat it was like to work with OER\nWhat they created and why\nWhat they would do differently if they started again\nAnd what advice they would give to anyone new to OER\n\nToday’s talk will be led by Reingard Spannring from the Department of Education who will talk about her experiences with the Aqua MOOC. \nJoin us for a relaxed coffee break session: Take half an hour\, grab a cup of coffee\, and get to know the people behind OER at the University of Innsbruck!
URL:https://oeweek.oeglobal.org/activity/joerneyuibk-experience-talks-reingard-spannring/
LOCATION:Innsbruck\, Austria\, Innsbruck\, Tyrol\, Austria
CATEGORIES:Open Education Resources,Open Educational Practices
ATTACH;FMTTYPE=image/jpeg:https://oeweek.oeglobal.org/wp-content/uploads/2026/02/uni_17.jpg
GEO:47.2675322;11.3910349
END:VEVENT
BEGIN:VEVENT
DTSTART;TZID=Asia/Kolkata:20260302T200000
DTEND;TZID=Asia/Kolkata:20260302T210000
DTSTAMP:20260423T222621
CREATED:20260216T022601Z
LAST-MODIFIED:20260317T195048Z
UID:10003476-1772481600-1772485200@oeweek.oeglobal.org
SUMMARY:Systematic Information Management
DESCRIPTION:The Centre for Online Education & Learning (COEL)\, Dr. B. R. Ambedkar Open University (BRAOU)\, Hyderabad\, is pleased to announce a free international webinar titled “Systematic Information Management.” This insightful session will be delivered by: \nDr. Dominique Scheffel-Dunand\, PhD – Directrice\, Cycles supérieurs en Études francophones\, Lead\, Camerise Formation & Recherche (FSL Hub\, York University)\, Professeure agrégée\, Études françaises\, Faculty of Liberal Arts and Professional Studies\, York University\, Canada. \nWatch the Recording Here.\nRegister for free\nWebinar context:\nOpen Education thrives on collaboration\, shared knowledge\, and sustainable practices. Yet in an era marked by rapid digital transformation\, increasingly fragmented educational ecosystems\, and widening learner diversity\, Communities of Practice face a dual challenge: managing expanding volumes of open resources and translating them into actionable guidance that supports teachers’ evolving professional realities.\n\nThis session positions Systematic Information Management as a foundational strategy to operationalize pedagogical horizon scanning\, helping educators identify\, interpret\, and apply emerging practices\, research insights\, and open resources to design relevant\, inclusive learning experiences.\n\nOur webinar will highlight how structured curation\, shared taxonomies\, and open repositories can transform scattered signals (OER\, classroom innovations\, research findings\, policy shifts\, and community knowledge) into reusable learning assets—toolkits\, learning pathways\, micro-credentials\, and practice-oriented briefs—that inform\, train\, and upskill Communities of Practice. In contexts where professional learning days are often dedicated to policy messaging rather than sustained instructional adaptation\, embedding systematic information practices within open ecosystems enables communities to co-create knowledge\, strengthen OER sustainability\, and build inclusive\, cross-border professional learning networks that respond to diverse learners and real classroom needs.
URL:https://oeweek.oeglobal.org/activity/systematic-information-management/
LOCATION:Hyderabad\, India\, Hyderabad\, Telangana\, India
CATEGORIES:Open Educational Practices,Open Repositories,Tools and Techniques
ATTACH;FMTTYPE=image/png:https://oeweek.oeglobal.org/wp-content/uploads/2026/02/OE-Week-2026-1.png
GEO:17.406498;78.4772439
END:VEVENT
BEGIN:VEVENT
DTSTART;TZID=America/Los_Angeles:20260302T100000
DTEND;TZID=America/Los_Angeles:20260302T110000
DTSTAMP:20260423T222621
CREATED:20260218T060950Z
LAST-MODIFIED:20260218T060950Z
UID:10003508-1772445600-1772449200@oeweek.oeglobal.org
SUMMARY:Keynote – Open Hearts: Empowering Educators with Open Resources and Practices
DESCRIPTION:For Open Education Week San Diego Community College District brings you this keynote talk by Brenna Clarke Gray\, Assistant Professor\, Learning Design and Innovation and Coordinator\, Educational Technologies at Thompson Rivers University. \nSession Description\nI don’t know about you\, but in this particular moment — politically\, economically\, culturally — I’ve never felt more sharply the distinction between my values as an educator and the realities of the world outside my classroom. To celebrate Open Education Week\, then\, let’s all take a moment to find hope in the possibilities and promises of open education. In this session\, through a little bit of theoretical framing and a lot of practical examples\, we’ll discuss how open resources and open practices can empower us as educators to build a more equitable\, accessible\, and engaging learning experience for our students and for those far beyond our classroom walls. Join me as we open our hearts and share the possibilities of open education in a moment when we all really need to remember how far our good work can spread. \nSpeaker Details\nBrenna Clarke Gray is an open educator and critical technologist powered by righteous indignation and lattes and based at Thompson Rivers University in Tk’emlúps te Secwépemc\, where she co-founded the TRU Open Press. Her work explores the possibilities of a care-centred approach to the ethical and equitable use of educational technologies. Her most recent work includes the peer-reviewed scholarly teaching and learning podcast Community of Praxis and the forthcoming Routledge Introduction to Canadian Comics. She holds a PhD from the University of New Brunswick\, where she was a Canada Graduate Scholar. Outside of the university’s walls\, she is an avid reader\, compulsive baker\, and tired mum. If she was a creature in the Jim Henson cinematic universe\, she would be Cotterpin Doozer.
URL:https://oeweek.oeglobal.org/activity/keynote-open-hearts/
LOCATION:San Diego\, United States\, San Diego\, CA\, United States
CATEGORIES:Equity and Access,Open Education Resources,Open Educational Practices
ATTACH;FMTTYPE=image/jpeg:https://oeweek.oeglobal.org/wp-content/uploads/2026/02/brenna_mediated.jpg
GEO:32.715738;-117.1610838
END:VEVENT
BEGIN:VEVENT
DTSTART;TZID=America/Los_Angeles:20260302T120000
DTEND;TZID=America/Los_Angeles:20260302T130000
DTSTAMP:20260423T222621
CREATED:20260212T004948Z
LAST-MODIFIED:20260212T182158Z
UID:10003444-1772452800-1772456400@oeweek.oeglobal.org
SUMMARY:Office Hour: Openly License Something!
DESCRIPTION:Office Hour: Openly License Something\, hosted by Open Oregon Educational Resources \nPeter Musser\, Head of Library Services for ISKME/OER Commons\, will help you openly license and share your work publicly. No experience necessary!
URL:https://oeweek.oeglobal.org/activity/office-hour-openly-license-something/
LOCATION:Albany\, United States\, Albany\, OR\, United States
CATEGORIES:Open Access Publishing
ATTACH;FMTTYPE=image/png:https://oeweek.oeglobal.org/wp-content/uploads/2026/02/Open-Oregon-for-lights.png
ORGANIZER;CN="Open Oregon Educational Resources":MAILTO:hofera@linnbenton.edu
GEO:44.6365107;-123.1059282
END:VEVENT
END:VCALENDAR