BEGIN:VCALENDAR
VERSION:2.0
PRODID:-//Open Education Week - ECPv6.15.20//NONSGML v1.0//EN
CALSCALE:GREGORIAN
METHOD:PUBLISH
X-WR-CALNAME:Open Education Week
X-ORIGINAL-URL:https://oeweek.oeglobal.org
X-WR-CALDESC:Events for Open Education Week
REFRESH-INTERVAL;VALUE=DURATION:PT1H
X-Robots-Tag:noindex
X-PUBLISHED-TTL:PT1H
BEGIN:VTIMEZONE
TZID:America/Toronto
BEGIN:DAYLIGHT
TZOFFSETFROM:-0500
TZOFFSETTO:-0400
TZNAME:EDT
DTSTART:20250309T070000
END:DAYLIGHT
BEGIN:STANDARD
TZOFFSETFROM:-0400
TZOFFSETTO:-0500
TZNAME:EST
DTSTART:20251102T060000
END:STANDARD
BEGIN:DAYLIGHT
TZOFFSETFROM:-0500
TZOFFSETTO:-0400
TZNAME:EDT
DTSTART:20260308T070000
END:DAYLIGHT
BEGIN:STANDARD
TZOFFSETFROM:-0400
TZOFFSETTO:-0500
TZNAME:EST
DTSTART:20261101T060000
END:STANDARD
BEGIN:DAYLIGHT
TZOFFSETFROM:-0500
TZOFFSETTO:-0400
TZNAME:EDT
DTSTART:20270314T070000
END:DAYLIGHT
BEGIN:STANDARD
TZOFFSETFROM:-0400
TZOFFSETTO:-0500
TZNAME:EST
DTSTART:20271107T060000
END:STANDARD
END:VTIMEZONE
BEGIN:VEVENT
DTSTART;TZID=America/Toronto:20260309T100000
DTEND;TZID=America/Toronto:20260309T104500
DTSTAMP:20260423T145511
CREATED:20260218T062817Z
LAST-MODIFIED:20260218T062817Z
UID:10003483-1773050400-1773053100@oeweek.oeglobal.org
SUMMARY:Le losange de l’éducation ouverte: un jeu pour discuter et convaincre!
DESCRIPTION:Cet atelier propose une session participative autour du Losange de l’Éducation Ouverte (ÉO)\, un dispositif ludique permettant d’ouvrir la discussion sur les pratiques\, valeurs et enjeux de l’éducation ouverte. Après une courte introduction\, les personnes participantes seront invitées à jouer en sous-groupes afin d’expérimenter directement la dynamique du Losange. \nLa seconde partie de l’atelier sera consacrée au partage d’astuces d’animation\, d’exemples d’adaptation et de retours d’expérience issus de différentes utilisations du jeu dans des formations ou des ateliers. \nL’objectif de cette activité est double : permettre une appropriation concrète du kit et renforcer la communauté de pratique qui l’utilise déjà. Cet atelier s’adresse en priorité à un public déjà familiarisé avec l’éducation ouverte\, souhaitant enrichir ses pratiques d’animation. \nAvec la participation et la collaboration de : Lucie Grasset\, Chargée d’animation de projet\, Chaire Unesco RELIA
URL:https://oeweek.oeglobal.org/activity/le-losange-de-leducation-ouverte/
LOCATION:Nantes\, France\, Nantes\, France
CATEGORIES:Tools and Techniques
ATTACH;FMTTYPE=image/png:https://oeweek.oeglobal.org/wp-content/uploads/2026/02/pastille-ronde-moisEO-2026-4.png
GEO:47.218371;-1.553621
END:VEVENT
END:VCALENDAR