BEGIN:VCALENDAR
VERSION:2.0
PRODID:-//Open Education Week - ECPv6.15.20//NONSGML v1.0//EN
CALSCALE:GREGORIAN
METHOD:PUBLISH
X-WR-CALNAME:Open Education Week
X-ORIGINAL-URL:https://oeweek.oeglobal.org
X-WR-CALDESC:Events for Open Education Week
REFRESH-INTERVAL;VALUE=DURATION:PT1H
X-Robots-Tag:noindex
X-PUBLISHED-TTL:PT1H
BEGIN:VTIMEZONE
TZID:America/Toronto
BEGIN:DAYLIGHT
TZOFFSETFROM:-0500
TZOFFSETTO:-0400
TZNAME:EDT
DTSTART:20250309T070000
END:DAYLIGHT
BEGIN:STANDARD
TZOFFSETFROM:-0400
TZOFFSETTO:-0500
TZNAME:EST
DTSTART:20251102T060000
END:STANDARD
BEGIN:DAYLIGHT
TZOFFSETFROM:-0500
TZOFFSETTO:-0400
TZNAME:EDT
DTSTART:20260308T070000
END:DAYLIGHT
BEGIN:STANDARD
TZOFFSETFROM:-0400
TZOFFSETTO:-0500
TZNAME:EST
DTSTART:20261101T060000
END:STANDARD
BEGIN:DAYLIGHT
TZOFFSETFROM:-0500
TZOFFSETTO:-0400
TZNAME:EDT
DTSTART:20270314T070000
END:DAYLIGHT
BEGIN:STANDARD
TZOFFSETFROM:-0400
TZOFFSETTO:-0500
TZNAME:EST
DTSTART:20271107T060000
END:STANDARD
END:VTIMEZONE
BEGIN:VEVENT
DTSTART;TZID=America/Toronto:20260312T120000
DTEND;TZID=America/Toronto:20260312T130000
DTSTAMP:20260422T224615
CREATED:20260218T062125Z
LAST-MODIFIED:20260218T062125Z
UID:10003486-1773316800-1773320400@oeweek.oeglobal.org
SUMMARY:Une ressource éducative libre (REL)\, ça se mange crue ou cuite?
DESCRIPTION:Ce webinaire explore la métaphore culinaire du « cru » et du « cuit » pour illustrer la diversité des formats des ressources éducatives libres (REL) et leurs impacts sur la réutilisation. \nAvec la participation et la collaboration de : Claude Potvin\, conseiller pédagogique et Nadia Villeneuve\, bibliothécaire\, Université Laval et fabriqueREL
URL:https://oeweek.oeglobal.org/activity/rel-ca-se-mange-crue-ou-cuite/
LOCATION:Quebec City\, Canada\, Quebec City\, Quebec\, Canada
CATEGORIES:Open Education Resources
ATTACH;FMTTYPE=image/png:https://oeweek.oeglobal.org/wp-content/uploads/2026/02/pastille-ronde-moisEO-2026-7.png
END:VEVENT
BEGIN:VEVENT
DTSTART;TZID=America/Toronto:20260312T130000
DTEND;TZID=America/Toronto:20260312T150000
DTSTAMP:20260422T224615
CREATED:20260216T022027Z
LAST-MODIFIED:20260218T063250Z
UID:10003487-1773320400-1773327600@oeweek.oeglobal.org
SUMMARY:Atelier de développement de WikiSavoirs\, le réseau Wikimédia collégial et universitaire  de la francophonie canadienne
DESCRIPTION:WikiSavoirs sera un réseau décentralisé de personnes œuvrant dans et autour des institutions collégiales et universitaires\, et il sera dédié au déploiement des savoirs libres à travers les projets Wikimédia : Wikipédia\, Wikidata\, Wikimédia Commons\, Wikisource\, etc. \nObjectifs :  \n1) Faire participer la communauté collégiale et universitaire au développement du Réseau Wikisavoirs; \n2) Explorer l’intérêt\, les pratiques et les besoins « wiki » de cette communauté\, en plénière et en sous-groupes de travail. \nAvec la participation et la collaboration de : Johanne Lebel\, rédactrice en chef du Magazine de l’Acfas
URL:https://oeweek.oeglobal.org/activity/wikisavoirs/
LOCATION:Montreal\, Canada\, Montreal\, Quebec\, Canada
CATEGORIES:Open Science,Open Source Platforms
ATTACH;FMTTYPE=image/png:https://oeweek.oeglobal.org/wp-content/uploads/2026/02/pastille-ronde-moisEO-2026-8.png
ORGANIZER;CN="fabriqueREL":MAILTO:info@fabriquerel.org
GEO:45.5018869;-73.5673919
END:VEVENT
END:VCALENDAR