BEGIN:VCALENDAR
VERSION:2.0
PRODID:-//Open Education Week - ECPv6.15.20//NONSGML v1.0//EN
CALSCALE:GREGORIAN
METHOD:PUBLISH
X-ORIGINAL-URL:https://oeweek.oeglobal.org
X-WR-CALDESC:Events for Open Education Week
REFRESH-INTERVAL;VALUE=DURATION:PT1H
X-Robots-Tag:noindex
X-PUBLISHED-TTL:PT1H
BEGIN:VTIMEZONE
TZID:America/Toronto
BEGIN:DAYLIGHT
TZOFFSETFROM:-0500
TZOFFSETTO:-0400
TZNAME:EDT
DTSTART:20250309T070000
END:DAYLIGHT
BEGIN:STANDARD
TZOFFSETFROM:-0400
TZOFFSETTO:-0500
TZNAME:EST
DTSTART:20251102T060000
END:STANDARD
BEGIN:DAYLIGHT
TZOFFSETFROM:-0500
TZOFFSETTO:-0400
TZNAME:EDT
DTSTART:20260308T070000
END:DAYLIGHT
BEGIN:STANDARD
TZOFFSETFROM:-0400
TZOFFSETTO:-0500
TZNAME:EST
DTSTART:20261101T060000
END:STANDARD
BEGIN:DAYLIGHT
TZOFFSETFROM:-0500
TZOFFSETTO:-0400
TZNAME:EDT
DTSTART:20270314T070000
END:DAYLIGHT
BEGIN:STANDARD
TZOFFSETFROM:-0400
TZOFFSETTO:-0500
TZNAME:EST
DTSTART:20271107T060000
END:STANDARD
END:VTIMEZONE
BEGIN:VEVENT
DTSTART;TZID=America/Toronto:20260313T100000
DTEND;TZID=America/Toronto:20260313T230000
DTSTAMP:20260422T210416
CREATED:20260216T021540Z
LAST-MODIFIED:20260218T063250Z
UID:10003488-1773396000-1773442800@oeweek.oeglobal.org
SUMMARY:Ouvrir la boîte du domaine public\, un trésor pour vos cours
DESCRIPTION:Venez découvrir le domaine public!  À l’aide d’explications\, d’exemples et de témoignages d’une personne enseignante\, les participants découvriront les avantages et les caractéristiques liées à l’usage pédagogique des œuvres du domaine public.  Cet atelier s’adresse à toutes personnes qui souhaitent effectuer un premier pas dans l’immensité du domaine public. \nAvec la participation et la collaboration de : José-Miguel Escobar-Zuninga\, bibliothécaire à l’Université de Sherbrooke\, Nadia Villeneuve\, bibliothécaire à l’Université Laval et Marc Lebreux\, chargé de cours à forfait à la Faculté de génie de l’Université de Sherbrooke
URL:https://oeweek.oeglobal.org/activity/ouvrir-boite-domaine-public/
LOCATION:Sherbrooke\, Canada\, Sherbrooke\, Quebec\, Canada
CATEGORIES:Open Education Resources
ATTACH;FMTTYPE=image/png:https://oeweek.oeglobal.org/wp-content/uploads/2026/02/pastille-ronde-moisEO-2026-9.png
END:VEVENT
END:VCALENDAR