BEGIN:VCALENDAR
VERSION:2.0
PRODID:-//Open Education Week - ECPv6.15.20//NONSGML v1.0//EN
CALSCALE:GREGORIAN
METHOD:PUBLISH
X-WR-CALNAME:Open Education Week
X-ORIGINAL-URL:https://oeweek.oeglobal.org
X-WR-CALDESC:Events for Open Education Week
REFRESH-INTERVAL;VALUE=DURATION:PT1H
X-Robots-Tag:noindex
X-PUBLISHED-TTL:PT1H
BEGIN:VTIMEZONE
TZID:America/Toronto
BEGIN:DAYLIGHT
TZOFFSETFROM:-0500
TZOFFSETTO:-0400
TZNAME:EDT
DTSTART:20250309T070000
END:DAYLIGHT
BEGIN:STANDARD
TZOFFSETFROM:-0400
TZOFFSETTO:-0500
TZNAME:EST
DTSTART:20251102T060000
END:STANDARD
BEGIN:DAYLIGHT
TZOFFSETFROM:-0500
TZOFFSETTO:-0400
TZNAME:EDT
DTSTART:20260308T070000
END:DAYLIGHT
BEGIN:STANDARD
TZOFFSETFROM:-0400
TZOFFSETTO:-0500
TZNAME:EST
DTSTART:20261101T060000
END:STANDARD
BEGIN:DAYLIGHT
TZOFFSETFROM:-0500
TZOFFSETTO:-0400
TZNAME:EDT
DTSTART:20270314T070000
END:DAYLIGHT
BEGIN:STANDARD
TZOFFSETFROM:-0400
TZOFFSETTO:-0500
TZNAME:EST
DTSTART:20271107T060000
END:STANDARD
END:VTIMEZONE
BEGIN:VEVENT
DTSTART;TZID=America/Toronto:20260317T100000
DTEND;TZID=America/Toronto:20260317T110000
DTSTAMP:20260422T143350
CREATED:20260216T021002Z
LAST-MODIFIED:20260218T063250Z
UID:10003490-1773741600-1773745200@oeweek.oeglobal.org
SUMMARY:Collaboration et partage autour de l’éducation ouverte en bibliothèque
DESCRIPTION:Venez découvrir la communauté de pratique en éducation ouverte du Partenariat des Bibliothèques Universitaires du Québec (PBUQ)\, un espace collaboratif réunissant des bibliothécaires et des techniciennes et techniciens en documentation du milieu de l’enseignement supérieur. \nCette communauté souhaite favoriser la collaboration entre les bibliothèques collégiales et universitaires\, encourager le partage de ressources\, d’expériences et de bonnes pratiques\, et stimuler la mobilisation autour des enjeux et opportunités liés à l’éducation ouverte.  \nCurieux d’en savoir plus ou de contribuer ? Assistez à l’activité\, posez vos questions et explorez les façons de vous impliquer dans cette initiative collective. Nous invitons toute personne des bibliothèques intéressée par l’éducation ouverte\, qu’elle y soit déjà impliquée ou non. \nAvec la participation et la collaboration de : Mélanie Roy\, Université du Québec à Montréal\, Rachel Harris\, Université Concordia\, Olivia Fernandez Pereda\, Polytechnique de Montréal\, Vanessa Ayotte\, École de technologies supérieures\, Graham Lavender\, Université de Montréal\, Thien Sa Hoang\, Université de Montréal\, Nadia Villeneuve\, Université Laval\, José-Miguel Escobar-Zuniga\, Université \nde Sherbrooke et Laurie-Anne Gignac\, Partenariat des bibliothèques universitaires du Québec.
URL:https://oeweek.oeglobal.org/activity/collaboration-et-partage-autour-de-leducation-ouverte-en-bibliotheque/
LOCATION:Montreal\, Canada\, Montreal\, Quebec\, Canada
CATEGORIES:Libraries
ATTACH;FMTTYPE=image/png:https://oeweek.oeglobal.org/wp-content/uploads/2026/02/pastille-ronde-moisEO-2026-11.png
GEO:45.5018869;-73.5673919
END:VEVENT
END:VCALENDAR