BEGIN:VCALENDAR
VERSION:2.0
PRODID:-//Open Education Week - ECPv6.15.20//NONSGML v1.0//EN
CALSCALE:GREGORIAN
METHOD:PUBLISH
X-ORIGINAL-URL:https://oeweek.oeglobal.org
X-WR-CALDESC:Events for Open Education Week
REFRESH-INTERVAL;VALUE=DURATION:PT1H
X-Robots-Tag:noindex
X-PUBLISHED-TTL:PT1H
BEGIN:VTIMEZONE
TZID:America/New_York
BEGIN:DAYLIGHT
TZOFFSETFROM:-0500
TZOFFSETTO:-0400
TZNAME:EDT
DTSTART:20250309T070000
END:DAYLIGHT
BEGIN:STANDARD
TZOFFSETFROM:-0400
TZOFFSETTO:-0500
TZNAME:EST
DTSTART:20251102T060000
END:STANDARD
BEGIN:DAYLIGHT
TZOFFSETFROM:-0500
TZOFFSETTO:-0400
TZNAME:EDT
DTSTART:20260308T070000
END:DAYLIGHT
BEGIN:STANDARD
TZOFFSETFROM:-0400
TZOFFSETTO:-0500
TZNAME:EST
DTSTART:20261101T060000
END:STANDARD
BEGIN:DAYLIGHT
TZOFFSETFROM:-0500
TZOFFSETTO:-0400
TZNAME:EDT
DTSTART:20270314T070000
END:DAYLIGHT
BEGIN:STANDARD
TZOFFSETFROM:-0400
TZOFFSETTO:-0500
TZNAME:EST
DTSTART:20271107T060000
END:STANDARD
END:VTIMEZONE
BEGIN:VEVENT
DTSTART;TZID=America/New_York:20260304T123000
DTEND;TZID=America/New_York:20260304T140000
DTSTAMP:20260425T192820
CREATED:20260128T172052Z
LAST-MODIFIED:20260226T193827Z
UID:10003398-1772627400-1772632800@oeweek.oeglobal.org
SUMMARY:Teaching on the CUNY Academic Commons
DESCRIPTION:The CUNY Academic Commons is a WordPress/BuddyPress network designed for and by faculty\, staff\, and students at the City University of New York (CUNY). The Commons is designed to support faculty initiatives and build community through the use(s) of technology in teaching and learning. The free exchange of knowledge among colleagues across the university is central to better educating the student body and expanding professional development opportunities for faculty research and teaching. \nSince its founding in 2009\, CUNY faculty have taught a variety of graduate and undergraduate courses on the CUNY Academic Commons. Faculty use course sites to host OER course materials\, foster student engagement with one another and wider publics\, and develop assignments that move beyond a standard final paper or reading response. This workshop will provide an overview of teaching on the Commons\, discuss the affordances and values of teaching on an open source\, community-developed platform\, and highlight several courses that serve as models of open pedagogy in action. \nThis workshop is open to the public as part of Open Education Week\, hosted by OE Global. \nLearn more about Spring 2026 events on the Commons here and read about our recent developments to improve our community WordPress/BuddyPress network. \nRegister for “Teaching on the CUNY Academic Commons” workshop here.
URL:https://oeweek.oeglobal.org/activity/teaching-cuny-academic-commons/
LOCATION:New York\, United States\, New York\, NY\, United States
CATEGORIES:Open Educational Practices,Open Source Platforms
ATTACH;FMTTYPE=image/png:https://oeweek.oeglobal.org/wp-content/uploads/2026/01/CAC-logo.png
GEO:40.7127753;-74.0059728
END:VEVENT
END:VCALENDAR