BEGIN:VCALENDAR
VERSION:2.0
PRODID:-//Open Education Week - ECPv6.15.20//NONSGML v1.0//EN
CALSCALE:GREGORIAN
METHOD:PUBLISH
X-ORIGINAL-URL:https://oeweek.oeglobal.org
X-WR-CALDESC:Events for Open Education Week
REFRESH-INTERVAL;VALUE=DURATION:PT1H
X-Robots-Tag:noindex
X-PUBLISHED-TTL:PT1H
BEGIN:VTIMEZONE
TZID:America/New_York
BEGIN:DAYLIGHT
TZOFFSETFROM:-0500
TZOFFSETTO:-0400
TZNAME:EDT
DTSTART:20250309T070000
END:DAYLIGHT
BEGIN:STANDARD
TZOFFSETFROM:-0400
TZOFFSETTO:-0500
TZNAME:EST
DTSTART:20251102T060000
END:STANDARD
BEGIN:DAYLIGHT
TZOFFSETFROM:-0500
TZOFFSETTO:-0400
TZNAME:EDT
DTSTART:20260308T070000
END:DAYLIGHT
BEGIN:STANDARD
TZOFFSETFROM:-0400
TZOFFSETTO:-0500
TZNAME:EST
DTSTART:20261101T060000
END:STANDARD
BEGIN:DAYLIGHT
TZOFFSETFROM:-0500
TZOFFSETTO:-0400
TZNAME:EDT
DTSTART:20270314T070000
END:DAYLIGHT
BEGIN:STANDARD
TZOFFSETFROM:-0400
TZOFFSETTO:-0500
TZNAME:EST
DTSTART:20271107T060000
END:STANDARD
END:VTIMEZONE
BEGIN:VEVENT
DTSTART;TZID=America/New_York:20260305T100000
DTEND;TZID=America/New_York:20260305T110000
DTSTAMP:20260425T173228
CREATED:20260227T141749Z
LAST-MODIFIED:20260227T141749Z
UID:10003624-1772704800-1772708400@oeweek.oeglobal.org
SUMMARY:Open Education Show and Tell (OpenLab at City Tech)
DESCRIPTION:On Thursday\, March 5\, 2026\, 10am-11am US Eastern\, the OpenLab team is hosting an open education show and tell session via Zoom. Join us to share something you’ve done with\, on\, or about the OpenLab or another open educational platform. \nThis session is open to all as part of Open Education Week\, an international event organized every year by Open Education Global that brings people from around the world together to celebrate and share their work in open education. \nDrop in at any point to show and tell\, learn a few things\, or just join us to celebrate our shared accomplishments. \nCan’t make it? Share your work in the comments on this post to keep the showing & telling happening beyond Thursday’s session. \nThe OpenLab at City Tech is our college’s open platform for open education\, collaboration\, and community. It won an Open Education Award for Excellence from OEGlobal last year. Interested in starting an OpenLab at your institution? Check out the CBOX OpenLab Community Hub\, where you can learn about CBOX OpenLab\, freely-available open source software that powers OpenLabs at CUNY\, SUNY\, and beyond.  \nPhoto credit: Free to use Photo by user Naushil Skyhawk Asia from Pexels.
URL:https://oeweek.oeglobal.org/activity/open-education-show-and-tell-openlab-at-city-tech/
LOCATION:New York City\, United States\, New York City\, NY\, United States
CATEGORIES:Open Source Platforms
ATTACH;FMTTYPE=image/jpeg:https://oeweek.oeglobal.org/wp-content/uploads/2026/02/pexels-naushil-skyhawk-asia-151720-638738.jpg
END:VEVENT
END:VCALENDAR