BEGIN:VCALENDAR
VERSION:2.0
PRODID:-//Open Education Week - ECPv6.15.20//NONSGML v1.0//EN
CALSCALE:GREGORIAN
METHOD:PUBLISH
X-WR-CALNAME:Open Education Week
X-ORIGINAL-URL:https://oeweek.oeglobal.org
X-WR-CALDESC:Events for Open Education Week
REFRESH-INTERVAL;VALUE=DURATION:PT1H
X-Robots-Tag:noindex
X-PUBLISHED-TTL:PT1H
BEGIN:VTIMEZONE
TZID:Europe/London
BEGIN:DAYLIGHT
TZOFFSETFROM:+0000
TZOFFSETTO:+0100
TZNAME:BST
DTSTART:20230326T010000
END:DAYLIGHT
BEGIN:STANDARD
TZOFFSETFROM:+0100
TZOFFSETTO:+0000
TZNAME:GMT
DTSTART:20231029T010000
END:STANDARD
BEGIN:DAYLIGHT
TZOFFSETFROM:+0000
TZOFFSETTO:+0100
TZNAME:BST
DTSTART:20240331T010000
END:DAYLIGHT
BEGIN:STANDARD
TZOFFSETFROM:+0100
TZOFFSETTO:+0000
TZNAME:GMT
DTSTART:20241027T010000
END:STANDARD
BEGIN:DAYLIGHT
TZOFFSETFROM:+0000
TZOFFSETTO:+0100
TZNAME:BST
DTSTART:20250330T010000
END:DAYLIGHT
BEGIN:STANDARD
TZOFFSETFROM:+0100
TZOFFSETTO:+0000
TZNAME:GMT
DTSTART:20251026T010000
END:STANDARD
END:VTIMEZONE
BEGIN:VEVENT
DTSTART;TZID=Europe/London:20240229T130000
DTEND;TZID=Europe/London:20240229T140000
DTSTAMP:20260421T124927
CREATED:20240214T144809Z
LAST-MODIFIED:20250115T172740Z
UID:10001983-1709211600-1709215200@oeweek.oeglobal.org
SUMMARY:Open educational resources\, open source and inclusive practice
DESCRIPTION:Future Teacher 3.0 UK network organise regular webinar events and store the recordings in a XERTE resource (an open source tool) You are welcome to join our LinkedIn group  \nOpen Educational Resources have fantastic potential to reduce inefficiency. Why would hundreds of staff in hundreds of organisations create their own versions of the same resource if a good open-source version already exists? \nUnfortunately\, open educational resources are not always as open as we might hope. They may be incapable of modification or contain avoidable accessibility barriers. Some resources – like complex images\, virtual reality or simulations – may add considerable value to some users but be unavoidably difficult for others. Organisations may have different policy approaches to using them\, reducing their value across the sector. \nHow can we approach these challenges in a mature way? How can we take a coherent approach to ensure we share the simple stuff in formats and platforms that allow modification? How can we develop pragmatic practices and protocols for the more challenging resources? \nIn this month’s future teacher session we will hear from: \n\nDavid Graham (University of York) on the adoption of an OpenStax textbook for anatomy and physiology in Nursing. A free\, online\, peer reviewed textbook with multiple instructor resources including a blackboard course cartridge; it does not get much better than this!\nJoanna Evans and Mari Fflur from Coleg Cymraeg Cenedlaethol together with Bethan Wyn Jones from Bangor University will share their experiences of managing and creating Welsh medium OER content for the Resource Portal ‘ Y Porth’ . They will address the importance of developing open shared resources in the Welsh Language\, and will highlight some of the challenges around creating accessible OERs in languages that are less supported in digital tools and environments.\nJulian Tenney (University of Nottingham) will introduce an opportunity to join an action focused accessibility community\, developing shared resources\, guidance and policy recommendations.\n\nAs always there’s plenty of opportunity to engage with the speakers either through the text chat or after the session in an open discussion. \nWe’d love to see you there. Registration is free (and you need to register to get the link). \nRegister here (or plain text link  – http://bit.ly/ft30ukpage). \nThe session is recorded\, so if you can’t come don’t worry about registering but obviously if you do come you have a chance to interact with speakers and other participants!
URL:https://oeweek.oeglobal.org/activity/oer-open-source-inclusive-practice/
LOCATION:Future Teacher 3.0 UK\, York\, United Kingdom
ATTACH;FMTTYPE=image/jpeg:https://oeweek.oeglobal.org/wp-content/uploads/2024/02/FT3UK.jpg
ORGANIZER;CN="Future Teacher 3.0 UK":MAILTO:futureteacher@learningapps.co.uk
GEO:53.9614205;-1.0739108
END:VEVENT
END:VCALENDAR