BEGIN:VCALENDAR
VERSION:2.0
PRODID:-//Open Education Week - ECPv6.15.20//NONSGML v1.0//EN
CALSCALE:GREGORIAN
METHOD:PUBLISH
X-ORIGINAL-URL:https://oeweek.oeglobal.org
X-WR-CALDESC:Events for Open Education Week
REFRESH-INTERVAL;VALUE=DURATION:PT1H
X-Robots-Tag:noindex
X-PUBLISHED-TTL:PT1H
BEGIN:VTIMEZONE
TZID:America/Regina
BEGIN:STANDARD
TZOFFSETFROM:-0600
TZOFFSETTO:-0600
TZNAME:CST
DTSTART:20240101T000000
END:STANDARD
END:VTIMEZONE
BEGIN:VTIMEZONE
TZID:America/Los_Angeles
BEGIN:DAYLIGHT
TZOFFSETFROM:-0800
TZOFFSETTO:-0700
TZNAME:PDT
DTSTART:20250309T100000
END:DAYLIGHT
BEGIN:STANDARD
TZOFFSETFROM:-0700
TZOFFSETTO:-0800
TZNAME:PST
DTSTART:20251102T090000
END:STANDARD
BEGIN:DAYLIGHT
TZOFFSETFROM:-0800
TZOFFSETTO:-0700
TZNAME:PDT
DTSTART:20260308T100000
END:DAYLIGHT
BEGIN:STANDARD
TZOFFSETFROM:-0700
TZOFFSETTO:-0800
TZNAME:PST
DTSTART:20261101T090000
END:STANDARD
BEGIN:DAYLIGHT
TZOFFSETFROM:-0800
TZOFFSETTO:-0700
TZNAME:PDT
DTSTART:20270314T100000
END:DAYLIGHT
BEGIN:STANDARD
TZOFFSETFROM:-0700
TZOFFSETTO:-0800
TZNAME:PST
DTSTART:20271107T090000
END:STANDARD
END:VTIMEZONE
BEGIN:VTIMEZONE
TZID:America/Toronto
BEGIN:DAYLIGHT
TZOFFSETFROM:-0500
TZOFFSETTO:-0400
TZNAME:EDT
DTSTART:20250309T070000
END:DAYLIGHT
BEGIN:STANDARD
TZOFFSETFROM:-0400
TZOFFSETTO:-0500
TZNAME:EST
DTSTART:20251102T060000
END:STANDARD
BEGIN:DAYLIGHT
TZOFFSETFROM:-0500
TZOFFSETTO:-0400
TZNAME:EDT
DTSTART:20260308T070000
END:DAYLIGHT
BEGIN:STANDARD
TZOFFSETFROM:-0400
TZOFFSETTO:-0500
TZNAME:EST
DTSTART:20261101T060000
END:STANDARD
BEGIN:DAYLIGHT
TZOFFSETFROM:-0500
TZOFFSETTO:-0400
TZNAME:EDT
DTSTART:20270314T070000
END:DAYLIGHT
BEGIN:STANDARD
TZOFFSETFROM:-0400
TZOFFSETTO:-0500
TZNAME:EST
DTSTART:20271107T060000
END:STANDARD
END:VTIMEZONE
BEGIN:VEVENT
DTSTART;TZID=America/Regina:20250228T130000
DTEND;TZID=America/Regina:20250228T140000
DTSTAMP:20260422T085801
CREATED:20250223T211803Z
LAST-MODIFIED:20250313T210101Z
UID:10003194-1740747600-1740751200@oeweek.oeglobal.org
SUMMARY:Sharing Open Education Assets in OER Commons for Open Education Week 2025
DESCRIPTION:In this special pre-Open Education Week Live session\, Alan Levine is joined by Peter Musser to show how this year we are collaborating with OER Commons  to curate a collection of open licensed resources or assets shared by participants of OEWeek25. \nWe will show you how to join the OEGlobal Group in OER Commons as the place to share. You can add a new asset by submitting a web address and basic information or you can directly share something that already exists in OER Commons. \nThen we will show how these are added to the public curated collection of OERs highlighted by the open education community this year.  You can add your own or ones that you discover as part of Open Education Week. \nAnd in doing this you will discover more ways to make use of the vast collection of OERs available in OER Commons \nFor more details see: \n\nOpen Education Week 2025 https://oeweek.oeglobal.org/ \nSharing Assets To OER Commons for Open Education Week https://oeweek.oeglobal.org/assets/oer-commons/ \nOEGlobal Group (OER Commons) https://oercommons.org/groups/open-education-global/15201/ \nOpen Education Week 2025 Curated Collection (OER Commons) https://oercommons.org/curated-collections/1716\n\nWatch the demo live and ask questions in chat or watch the recording later:
URL:https://oeweek.oeglobal.org/activity/sharing-open-education-assets-in-oer-commons/
LOCATION:Institute for the Study of Knowledge Management in Education (ISKME)\, Half Moon Bay\, CA\, United States
ATTACH;FMTTYPE=image/jpeg:https://oeweek.oeglobal.org/wp-content/uploads/2025/02/oeweek-25-live-oercommons.jpg
GEO:37.4635519;-122.4285862
END:VEVENT
BEGIN:VEVENT
DTSTART;TZID=America/Los_Angeles:20260303T100000
DTEND;TZID=America/Los_Angeles:20260303T110000
DTSTAMP:20260422T085801
CREATED:20260218T060333Z
LAST-MODIFIED:20260218T060333Z
UID:10003514-1772532000-1772535600@oeweek.oeglobal.org
SUMMARY:OER Commons is Free for Everyone\, Forever
DESCRIPTION:Join Mindy Newfarmer\, Vice President of Services at ISKME for an overview of OER Commons that will provide attendees with an overview of the OER Commons global digital library. We’ll walk through how to search\, how to discover OER used around the world\, ways to collaborate with other OER practitioners\, and how to use Open Author to remix\, create\, and publish OER.
URL:https://oeweek.oeglobal.org/activity/oer-commonsfree-for-everyone-forever/
LOCATION:Half Moon Bay\, United States\, Half Moon Bay\, CA\, United States
CATEGORIES:Digital Skills,Open Education Resources,Open Repositories,Tools and Techniques
ATTACH;FMTTYPE=image/png:https://oeweek.oeglobal.org/wp-content/uploads/2026/02/ISKME-logo-combo-square.png
GEO:37.4635519;-122.4285862
END:VEVENT
BEGIN:VEVENT
DTSTART;TZID=America/Toronto:20260304T100000
DTEND;TZID=America/Toronto:20260304T110000
DTSTAMP:20260422T085801
CREATED:20260226T144603Z
LAST-MODIFIED:20260227T162836Z
UID:10003617-1772618400-1772622000@oeweek.oeglobal.org
SUMMARY:Open Metadata Exchange: Enabling OER Access Across Libraries
DESCRIPTION:The Open Metadata Exchange (OME) is a decentralized network that enables open education libraries to share and discover openly licensed resources and metadata across institutions while maintaining local control. \nBy connecting platforms through a shared\, flexible infrastructure\, OME helps reduce duplicated curatorial effort\, bridge metadata gaps\, and make high-quality Open Educational Resources more discoverable.  \nIn this session\, we will introduce  \n\nThe OME model\nDemonstrate how participating libraries connect and exchange metadata\nDiscuss how a community-governed\, decentralized approach can strengthen collaboration across the open education ecosystem.
URL:https://oeweek.oeglobal.org/activity/open-metadata-exchange/
LOCATION:Half Moon Bay\, United States\, Half Moon Bay\, CA\, United States
CATEGORIES:Libraries,Open Education Resources,Open Educational Practices,Open Repositories,Open Source Platforms
ATTACH;FMTTYPE=image/png:https://oeweek.oeglobal.org/wp-content/uploads/2026/02/Screenshot-2026-02-20-at-9.59.54-AM-scaled.png
GEO:37.4635519;-122.4285862
END:VEVENT
END:VCALENDAR