BEGIN:VCALENDAR
VERSION:2.0
PRODID:-//Open Education Week - ECPv6.15.20//NONSGML v1.0//EN
CALSCALE:GREGORIAN
METHOD:PUBLISH
X-ORIGINAL-URL:https://oeweek.oeglobal.org
X-WR-CALDESC:Events for Open Education Week
REFRESH-INTERVAL;VALUE=DURATION:PT1H
X-Robots-Tag:noindex
X-PUBLISHED-TTL:PT1H
BEGIN:VTIMEZONE
TZID:America/Vancouver
BEGIN:DAYLIGHT
TZOFFSETFROM:-0800
TZOFFSETTO:-0700
TZNAME:PDT
DTSTART:20230312T100000
END:DAYLIGHT
BEGIN:STANDARD
TZOFFSETFROM:-0700
TZOFFSETTO:-0800
TZNAME:PST
DTSTART:20231105T090000
END:STANDARD
BEGIN:DAYLIGHT
TZOFFSETFROM:-0800
TZOFFSETTO:-0700
TZNAME:PDT
DTSTART:20240310T100000
END:DAYLIGHT
BEGIN:STANDARD
TZOFFSETFROM:-0700
TZOFFSETTO:-0800
TZNAME:PST
DTSTART:20241103T090000
END:STANDARD
BEGIN:DAYLIGHT
TZOFFSETFROM:-0800
TZOFFSETTO:-0700
TZNAME:PDT
DTSTART:20250309T100000
END:DAYLIGHT
BEGIN:STANDARD
TZOFFSETFROM:-0700
TZOFFSETTO:-0800
TZNAME:PST
DTSTART:20251102T090000
END:STANDARD
BEGIN:DAYLIGHT
TZOFFSETFROM:-0800
TZOFFSETTO:-0700
TZNAME:PDT
DTSTART:20260308T100000
END:DAYLIGHT
BEGIN:STANDARD
TZOFFSETFROM:-0700
TZOFFSETTO:-0800
TZNAME:PST
DTSTART:20261101T090000
END:STANDARD
BEGIN:DAYLIGHT
TZOFFSETFROM:-0800
TZOFFSETTO:-0700
TZNAME:PDT
DTSTART:20270314T100000
END:DAYLIGHT
BEGIN:STANDARD
TZOFFSETFROM:-0700
TZOFFSETTO:-0800
TZNAME:PST
DTSTART:20271107T090000
END:STANDARD
END:VTIMEZONE
BEGIN:VEVENT
DTSTART;TZID=America/Vancouver:20240307T103000
DTEND;TZID=America/Vancouver:20240307T113000
DTSTAMP:20260422T195657
CREATED:20240302T003135Z
LAST-MODIFIED:20250115T172622Z
UID:10002169-1709807400-1709811000@oeweek.oeglobal.org
SUMMARY:Open Education in Action at SFU
DESCRIPTION:Join a panel of SFU instructors\, students\, and staff sharing how they’ve explored and implemented open educational resources and practices. \nOpen education is a growing movement that seeks to advance affordable\, accessible and flexible learning through the development and use of open educational resources (OER) and open pedagogy. \nIn celebration of Open Education Week (March 4-8\, 2024)\, please join us for a panel of SFU instructors\, students and staff leading open education projects and exploring open practices in the classroom to learn: \n\nWhy and how they became interested in open educational resources (OER) and/or practices\nWhat kinds of open education projects and/or initiatives they have been working on\nHow the use of OER and/or open pedagogy impacts teaching and learning\nWhere to get further support with OER and open education at SFU\n\nPanelists\n\nMeghan Danyluk\, Undergraduate Honours Student\, SFU English\nNicky Didicher\, University Lecturer\, SFU English\nMichael Filimowicz\, Senior Lecturer\, SFU’s School of Interactive Arts & Technology\nOuldooz Baghban Karimi\, Lecturer\, SFU’s School of Computing Science\nClaudia Wong\, Senior Lecturer\, SFU Linguistics\n\nModerators\n\nHope Power\, Teaching & Learning Librarian\, SFU Library\nJohn Born\, Manager\, Educational Media\, SFU Centre for Educational Excellence (CEE)\n\nAttendance options\nJoin us in-person or online: \n\nIn-person at Bennett Library (SFU Burnaby campus)\, Room 7200\nOnline via Zoom\n\nCoffee\, tea and light snacks will be provided for in-person participants. \nRegistration options\nPlease note that use of Eventbrite is voluntary. Eventbrite data is stored on U.S. servers. \nIf you prefer not to use Eventbrite to register for this event for privacy reasons\, please register by emailing Hope Power at hope_power@sfu.ca. \nPartners\nThis event is hosted by SFU Library and the Centre for Educational Excellence (CEE) with sponsorship from BCcampus.
URL:https://oeweek.oeglobal.org/activity/open-education-sfu/
LOCATION:Simon Fraser University\, 8888 University Drive\, Burnaby\, British Columbia\, Canada
ATTACH;FMTTYPE=image/jpeg:https://oeweek.oeglobal.org/wp-content/uploads/2024/03/https___cdn.evbuc_.com_images_702489039_236269778709_1_original.jpeg
GEO:49.2785364;-122.917313
X-APPLE-STRUCTURED-LOCATION;VALUE=URI;X-ADDRESS=Simon Fraser University 8888 University Drive Burnaby British Columbia Canada;X-APPLE-RADIUS=500;X-TITLE=8888 University Drive:geo:-122.917313,49.2785364
END:VEVENT
BEGIN:VEVENT
DTSTART;TZID=America/Vancouver:20260303T113000
DTEND;TZID=America/Vancouver:20260303T123000
DTSTAMP:20260422T195657
CREATED:20260216T024113Z
LAST-MODIFIED:20260216T024113Z
UID:10003472-1772537400-1772541000@oeweek.oeglobal.org
SUMMARY:Student Perspectives on Open Educational Resources (OER): Survey Results & Reflections
DESCRIPTION:Many instructors are exploring open educational resources (OER) as a way to make course materials more affordable\, flexible\, and up to date. But what do students think? And what are the implications of their experiences on course design? \nIn celebration of Open Education Week\, join the Open Education Community of Practice for a conversation highlighting students’ perspectives on using open educational resources (OER) at Simon Fraser University (SFU). \nThis session will share key findings from two recent student surveys: one conducted by the Library and Learning Experiences Assessment & Planning (LEAP) focused on students’ experiences using open textbooks and other OER in the classroom\, and a student satisfaction survey from the Simon Fraser Student Society (SFSS) exploring questions around student affordability\, course material costs and OER alternatives. These presentations will be followed by a discussion exploring community needs\, questions\, and opportunities to strengthen support for OER and open education here at SFU. \nSpeakers\nMarcius Sim—Quantitative Analyst\, Learning Experiences Assessment & Planning (LEAP)\nJessica Lamb—Vice President External & Community Affairs\, Simon Fraser Student Society (SFSS) \nFacilitators\nHope Power—Teaching & Learning Librarian (Library)\nParm Gill—Instructional Designer (Centre for Educational Excellence)\nBrian Lorraine—Instructional Designer (Centre for Educational Excellence)
URL:https://oeweek.oeglobal.org/activity/student-perspectives-oer/
LOCATION:Burnaby\, Canada\, Burnaby\, British Columbia\, Canada
CATEGORIES:Open Education Resources
ATTACH;FMTTYPE=image/jpeg:https://oeweek.oeglobal.org/wp-content/uploads/2026/02/Open-Education-Web-banner-1.jpg
GEO:49.2488091;-122.9805104
END:VEVENT
END:VCALENDAR