BEGIN:VCALENDAR
VERSION:2.0
PRODID:-//Open Education Week - ECPv6.15.20//NONSGML v1.0//EN
CALSCALE:GREGORIAN
METHOD:PUBLISH
X-WR-CALNAME:Open Education Week
X-ORIGINAL-URL:https://oeweek.oeglobal.org
X-WR-CALDESC:Events for Open Education Week
REFRESH-INTERVAL;VALUE=DURATION:PT1H
X-Robots-Tag:noindex
X-PUBLISHED-TTL:PT1H
BEGIN:VTIMEZONE
TZID:America/New_York
BEGIN:DAYLIGHT
TZOFFSETFROM:-0500
TZOFFSETTO:-0400
TZNAME:EDT
DTSTART:20230312T070000
END:DAYLIGHT
BEGIN:STANDARD
TZOFFSETFROM:-0400
TZOFFSETTO:-0500
TZNAME:EST
DTSTART:20231105T060000
END:STANDARD
BEGIN:DAYLIGHT
TZOFFSETFROM:-0500
TZOFFSETTO:-0400
TZNAME:EDT
DTSTART:20240310T070000
END:DAYLIGHT
BEGIN:STANDARD
TZOFFSETFROM:-0400
TZOFFSETTO:-0500
TZNAME:EST
DTSTART:20241103T060000
END:STANDARD
BEGIN:DAYLIGHT
TZOFFSETFROM:-0500
TZOFFSETTO:-0400
TZNAME:EDT
DTSTART:20250309T070000
END:DAYLIGHT
BEGIN:STANDARD
TZOFFSETFROM:-0400
TZOFFSETTO:-0500
TZNAME:EST
DTSTART:20251102T060000
END:STANDARD
END:VTIMEZONE
BEGIN:VEVENT
DTSTART;TZID=America/New_York:20240304T100000
DTEND;TZID=America/New_York:20240308T120000
DTSTAMP:20260423T074802
CREATED:20240227T162256Z
LAST-MODIFIED:20250115T172739Z
UID:10002099-1709546400-1709899200@oeweek.oeglobal.org
SUMMARY:SUNY Online OEW webinars
DESCRIPTION:SUNY Online is pleased to host and showcase several presentations this week from our SUNY campuses in celebration of Open Education Week\, March 4-8\, 2024. \nFor complete details and to register for these free webinars throughout the week\, visit: https://sunycpd.eventsair.com/oew24.    \n 
URL:https://oeweek.oeglobal.org/activity/suny-online-oew-webinars/
LOCATION:The State University of New York\, SUNY Plaza\, Albany\, NY\, United States
ATTACH;FMTTYPE=image/png:https://oeweek.oeglobal.org/wp-content/uploads/2024/02/blob.png
ORGANIZER;CN="SUNY Online":MAILTO:erin.maney@suny.edu
GEO:42.6483135;-73.7495642
X-APPLE-STRUCTURED-LOCATION;VALUE=URI;X-ADDRESS=The State University of New York SUNY Plaza Albany NY United States;X-APPLE-RADIUS=500;X-TITLE=SUNY Plaza:geo:-73.7495642,42.6483135
END:VEVENT
END:VCALENDAR