BEGIN:VCALENDAR
VERSION:2.0
PRODID:-//Open Education Week - ECPv6.15.20//NONSGML v1.0//EN
CALSCALE:GREGORIAN
METHOD:PUBLISH
X-ORIGINAL-URL:https://oeweek.oeglobal.org
X-WR-CALDESC:Events for Open Education Week
REFRESH-INTERVAL;VALUE=DURATION:PT1H
X-Robots-Tag:noindex
X-PUBLISHED-TTL:PT1H
BEGIN:VTIMEZONE
TZID:America/Chicago
BEGIN:DAYLIGHT
TZOFFSETFROM:-0600
TZOFFSETTO:-0500
TZNAME:CDT
DTSTART:20240310T080000
END:DAYLIGHT
BEGIN:STANDARD
TZOFFSETFROM:-0500
TZOFFSETTO:-0600
TZNAME:CST
DTSTART:20241103T070000
END:STANDARD
BEGIN:DAYLIGHT
TZOFFSETFROM:-0600
TZOFFSETTO:-0500
TZNAME:CDT
DTSTART:20250309T080000
END:DAYLIGHT
BEGIN:STANDARD
TZOFFSETFROM:-0500
TZOFFSETTO:-0600
TZNAME:CST
DTSTART:20251102T070000
END:STANDARD
BEGIN:DAYLIGHT
TZOFFSETFROM:-0600
TZOFFSETTO:-0500
TZNAME:CDT
DTSTART:20260308T080000
END:DAYLIGHT
BEGIN:STANDARD
TZOFFSETFROM:-0500
TZOFFSETTO:-0600
TZNAME:CST
DTSTART:20261101T070000
END:STANDARD
END:VTIMEZONE
BEGIN:VEVENT
DTSTART;VALUE=DATE:20250303
DTEND;VALUE=DATE:20250401
DTSTAMP:20260423T001148
CREATED:20250306T172936Z
LAST-MODIFIED:20250313T210101Z
UID:10003344-1740960000-1743465599@oeweek.oeglobal.org
SUMMARY:Open Education Week 2025 Exhibit: Sharing Memories of Your Favorite Children's Book(s)
DESCRIPTION:This pop-up interactive exhibit features about 50 award winning titles recently added to the WashU Libraries’ Collection. The exhibit invites viewers to share their favorite children’s books and authors with others. These books support the methods courses for the Teacher Education Program in the Department of Education and covers a range of fiction and non-fiction topics on identity\, race\, gender\, culture\, customs\, religion\, and traditions. \nThe exhibit runs from March 3-March 31\, 2025 and is on display in the Olin Library lobby. \n  \n 
URL:https://oeweek.oeglobal.org/activity/memories-favorite-childrens-books/
LOCATION:WashU\, St. Louis\, MO\, United States
CATEGORIES:Equity and Access
ATTACH;FMTTYPE=image/jpeg:https://oeweek.oeglobal.org/wp-content/uploads/2025/03/oew-2025-exhibit.jpg
GEO:38.6270025;-90.1994042
END:VEVENT
END:VCALENDAR