BEGIN:VCALENDAR
VERSION:2.0
PRODID:-//Open Education Week - ECPv6.15.20//NONSGML v1.0//EN
CALSCALE:GREGORIAN
METHOD:PUBLISH
X-ORIGINAL-URL:https://oeweek.oeglobal.org
X-WR-CALDESC:Events for Open Education Week
REFRESH-INTERVAL;VALUE=DURATION:PT1H
X-Robots-Tag:noindex
X-PUBLISHED-TTL:PT1H
BEGIN:VTIMEZONE
TZID:Europe/Chisinau
BEGIN:DAYLIGHT
TZOFFSETFROM:+0200
TZOFFSETTO:+0300
TZNAME:EEST
DTSTART:20240331T000000
END:DAYLIGHT
BEGIN:STANDARD
TZOFFSETFROM:+0300
TZOFFSETTO:+0200
TZNAME:EET
DTSTART:20241027T000000
END:STANDARD
BEGIN:DAYLIGHT
TZOFFSETFROM:+0200
TZOFFSETTO:+0300
TZNAME:EEST
DTSTART:20250330T000000
END:DAYLIGHT
BEGIN:STANDARD
TZOFFSETFROM:+0300
TZOFFSETTO:+0200
TZNAME:EET
DTSTART:20251026T000000
END:STANDARD
BEGIN:DAYLIGHT
TZOFFSETFROM:+0200
TZOFFSETTO:+0300
TZNAME:EEST
DTSTART:20260329T000000
END:DAYLIGHT
BEGIN:STANDARD
TZOFFSETFROM:+0300
TZOFFSETTO:+0200
TZNAME:EET
DTSTART:20261025T000000
END:STANDARD
END:VTIMEZONE
BEGIN:VEVENT
DTSTART;TZID=Europe/Chisinau:20250303T140000
DTEND;TZID=Europe/Chisinau:20250303T170000
DTSTAMP:20260423T160143
CREATED:20250305T181706Z
LAST-MODIFIED:20250313T210034Z
UID:10003333-1741010400-1741021200@oeweek.oeglobal.org
SUMMARY:Resurse digitale de învățare disponibile prin intermediul platformei MLearn
DESCRIPTION:Axe de conținut ale trainingului: aspecte de utilizare a platformei MLearn; profilul personal; participare la cursurile de instruire disponibile; testare și certificare
URL:https://oeweek.oeglobal.org/activity/resurse-digitale-mlearn/
LOCATION:Chisinau\, Chisinau\, stat\, Moldova\, Republic of
CATEGORIES:Tools and Techniques
ATTACH;FMTTYPE=image/png:https://oeweek.oeglobal.org/wp-content/uploads/2025/03/image.png
GEO:47.0104529;28.8638103
END:VEVENT
END:VCALENDAR