BEGIN:VCALENDAR
VERSION:2.0
PRODID:-//Open Education Week - ECPv6.15.20//NONSGML v1.0//EN
CALSCALE:GREGORIAN
METHOD:PUBLISH
X-ORIGINAL-URL:https://oeweek.oeglobal.org
X-WR-CALDESC:Events for Open Education Week
REFRESH-INTERVAL;VALUE=DURATION:PT1H
X-Robots-Tag:noindex
X-PUBLISHED-TTL:PT1H
BEGIN:VTIMEZONE
TZID:America/Indiana/Indianapolis
BEGIN:DAYLIGHT
TZOFFSETFROM:-0500
TZOFFSETTO:-0400
TZNAME:EDT
DTSTART:20240310T070000
END:DAYLIGHT
BEGIN:STANDARD
TZOFFSETFROM:-0400
TZOFFSETTO:-0500
TZNAME:EST
DTSTART:20241103T060000
END:STANDARD
BEGIN:DAYLIGHT
TZOFFSETFROM:-0500
TZOFFSETTO:-0400
TZNAME:EDT
DTSTART:20250309T070000
END:DAYLIGHT
BEGIN:STANDARD
TZOFFSETFROM:-0400
TZOFFSETTO:-0500
TZNAME:EST
DTSTART:20251102T060000
END:STANDARD
BEGIN:DAYLIGHT
TZOFFSETFROM:-0500
TZOFFSETTO:-0400
TZNAME:EDT
DTSTART:20260308T070000
END:DAYLIGHT
BEGIN:STANDARD
TZOFFSETFROM:-0400
TZOFFSETTO:-0500
TZNAME:EST
DTSTART:20261101T060000
END:STANDARD
END:VTIMEZONE
BEGIN:VEVENT
DTSTART;TZID=America/Indiana/Indianapolis:20250305T113000
DTEND;TZID=America/Indiana/Indianapolis:20250305T123000
DTSTAMP:20260423T161914
CREATED:20250303T165659Z
LAST-MODIFIED:20250313T210010Z
UID:10003294-1741174200-1741177800@oeweek.oeglobal.org
SUMMARY:DePauw Affordability Champions: A panel discussion of PALSave Open Educator Award winners.
DESCRIPTION:The Open Educator Award at DePauw University recognizes innovation and excellence in support of textbook affordability and student success. \nDePauw faculty Sarah Rowley\, Nipun Chopra and Humberto Barreto have been recognized with this award by the Private Academic Library Network of Indiana (PALNI)\, a consortium the DePauw Libraries are a member of. These and other DePauw faculty have participated in PALNI’s PALSave program\, whether that be through adopting an open textbook\, redesigning a course using free resources for students\, or authoring their own open access textbook. They will present their pedagogical experiences at this panel presentation\, which falls during Open Education Week\, an annual opportunity for sharing and learning about the latest achievements in Open Education worldwide.
URL:https://oeweek.oeglobal.org/activity/depauw-affordability-champions-a-panel-discussion-of-palsave-open-educator-award-winners/
LOCATION:DePauw University\, Greencastle\, IN\, United States
CATEGORIES:Open Education Resources,Open Educational Practices
ATTACH;FMTTYPE=image/png:https://oeweek.oeglobal.org/wp-content/uploads/2025/03/Slide1.png
GEO:39.6444898;-86.8647316
END:VEVENT
END:VCALENDAR