BEGIN:VCALENDAR
VERSION:2.0
PRODID:-//Open Education Week - ECPv6.15.20//NONSGML v1.0//EN
CALSCALE:GREGORIAN
METHOD:PUBLISH
X-WR-CALNAME:Open Education Week
X-ORIGINAL-URL:https://oeweek.oeglobal.org
X-WR-CALDESC:Events for Open Education Week
REFRESH-INTERVAL;VALUE=DURATION:PT1H
X-Robots-Tag:noindex
X-PUBLISHED-TTL:PT1H
BEGIN:VTIMEZONE
TZID:Europe/Amsterdam
BEGIN:DAYLIGHT
TZOFFSETFROM:+0100
TZOFFSETTO:+0200
TZNAME:CEST
DTSTART:20240331T010000
END:DAYLIGHT
BEGIN:STANDARD
TZOFFSETFROM:+0200
TZOFFSETTO:+0100
TZNAME:CET
DTSTART:20241027T010000
END:STANDARD
BEGIN:DAYLIGHT
TZOFFSETFROM:+0100
TZOFFSETTO:+0200
TZNAME:CEST
DTSTART:20250330T010000
END:DAYLIGHT
BEGIN:STANDARD
TZOFFSETFROM:+0200
TZOFFSETTO:+0100
TZNAME:CET
DTSTART:20251026T010000
END:STANDARD
BEGIN:DAYLIGHT
TZOFFSETFROM:+0100
TZOFFSETTO:+0200
TZNAME:CEST
DTSTART:20260329T010000
END:DAYLIGHT
BEGIN:STANDARD
TZOFFSETFROM:+0200
TZOFFSETTO:+0100
TZNAME:CET
DTSTART:20261025T010000
END:STANDARD
END:VTIMEZONE
BEGIN:VEVENT
DTSTART;TZID=Europe/Amsterdam:20250409T160000
DTEND;TZID=Europe/Amsterdam:20250409T173000
DTSTAMP:20260423T160219
CREATED:20250226T201420Z
LAST-MODIFIED:20260204T181200Z
UID:10003236-1744214400-1744219800@oeweek.oeglobal.org
SUMMARY:The HAN Change Approach
DESCRIPTION:In this webinar for OEGlobal members\, we’ll explain the HAN change approach to digital education. Our 12-year program includes 5 subprojects: \n\nSupport\nChange Management\nTechnical Infrastructure\nProfessionalize\, Recognize & Appreciate\nStartups\n\nEnjoy our webinar and engage with us about our approach. \n\nBackground info\n\n\n\nWho is HAN University of Applied Sciences?\nWe are HAN University of Applied Sciences\, an inclusive knowledge institution with 13 schools\, 36\,000 students and over 80 degree programs\, located on the campuses in Arnhem and Nijmegen\, in the Netherlands. We offer students a springboard to a future as professional and global citizen in a society that is constantly changing. The region is our campus; our students learn at HAN and beyond. And we conduct practice-based research with\, for and at companies and organizations. Together with our partners\, students and staff\, we are making a difference and broadening our horizons. Together we are working towards a smart\, clean and social world of tomorrow! \nWhat are our goals on digital education?\nHAN is committed to providing educators and students with easy access to high-quality digital educational resources at realistic costs. We also develop digital learning materials ourselves and share them openly to contribute to the (inter)national supply. With this approach\, HAN stimulates\, facilitates\, and evaluates the realization of this vision. This will be done in 4 phases. Phase 2 started in January 2025. \nLearn more about the HAN Change Approach: Recognizing\, rewarding and incentivizing working with digital and open educational resources
URL:https://oeweek.oeglobal.org/activity/the-han-change-approach/
LOCATION:HAN University of Applied Sciences\, Arnhem\, Gelderland\, Netherlands
CATEGORIES:Digital Skills,Equity and Access,Open Education Policies,Open Educational Practices,Open Source Platforms,Sustainability
ATTACH;FMTTYPE=image/jpeg:https://oeweek.oeglobal.org/wp-content/uploads/2025/02/images_brandspot_new_2021_09_21_vlaggen-duo-wit_2021_322677.jpg
GEO:51.9851034;5.8987296
END:VEVENT
END:VCALENDAR