BEGIN:VCALENDAR
VERSION:2.0
PRODID:-//Open Education Week - ECPv6.15.20//NONSGML v1.0//EN
CALSCALE:GREGORIAN
METHOD:PUBLISH
X-ORIGINAL-URL:https://oeweek.oeglobal.org
X-WR-CALDESC:Events for Open Education Week
REFRESH-INTERVAL;VALUE=DURATION:PT1H
X-Robots-Tag:noindex
X-PUBLISHED-TTL:PT1H
BEGIN:VTIMEZONE
TZID:UTC
BEGIN:STANDARD
TZOFFSETFROM:+0000
TZOFFSETTO:+0000
TZNAME:UTC
DTSTART:20240101T000000
END:STANDARD
END:VTIMEZONE
BEGIN:VEVENT
DTSTART;TZID=UTC:20250306T103000
DTEND;TZID=UTC:20250307T170000
DTSTAMP:20260423T191003
CREATED:20250303T180705Z
LAST-MODIFIED:20250313T205943Z
UID:10003298-1741257000-1741366800@oeweek.oeglobal.org
SUMMARY:Two-Day Workshop on “OER for All: Repurposing and Designing Inclusive Open Educational Resources” on March 6th  – 7th \, 2025
DESCRIPTION:The Centre for Online Education & Learning (COEL)\, Dr. B.R. Ambedkar Open University (Dr. BRAOU) is organizing a workshop titled “OER for All: Repurposing and Designing Inclusive Open Educational Resources on March 6th -7th. ” as part of the Open Education (OE) Week Celebrations 2025. This workshop aims to empower in-house faculty members with the knowledge and skills to create\, adapt\, and repurpose Open Educational Resources (OER) that are inclusive\, accessible\, and interactive. Participants will learn best practices in open licensing\, digital accessibility\, and universal design principles to ensure that their educational content reaches a diverse range of learners\, including those with disabilities and linguistic diversity. \nMrs. Sushumna Rao Tadinada – OER advocate from India will act as a Workshop Facilitator. The workshop will include hands-on sessions\, discussions\, and practical demonstrations on using tools like H5P to design engaging\, accessible and interactive OER. \nSpecial Recognition: To encourage active participation and innovation\, the Best Presentation (on implementation plan to integrate OER into the course) Award in the workshop will include INR ₹1000 cash prize and an Appreciation Certificate. \nObjectives of the workshop:\n• Build awareness of OER\, open licenses\n• Enable participants to find\, evaluate\, and repurpose OER for their disciplines.\n• Provide hands-on experience in creating accessible and interactive OER using open-source tools.\n• Guide participants in developing an implementation plan to integrate OER into their courses effectively.
URL:https://oeweek.oeglobal.org/activity/workshop-oer-for-all/
LOCATION:Hyderabad\, Telangana\, India\, Hyderabad\, Telangana\, India
CATEGORIES:Open Education Resources
ATTACH;FMTTYPE=image/jpeg:https://oeweek.oeglobal.org/wp-content/uploads/2025/03/OE-Week-Banner-Brochure.jpeg
GEO:17.406498;78.4772439
END:VEVENT
END:VCALENDAR