BEGIN:VCALENDAR
VERSION:2.0
PRODID:-//Open Education Week - ECPv6.15.20//NONSGML v1.0//EN
CALSCALE:GREGORIAN
METHOD:PUBLISH
X-ORIGINAL-URL:https://oeweek.oeglobal.org
X-WR-CALDESC:Events for Open Education Week
REFRESH-INTERVAL;VALUE=DURATION:PT1H
X-Robots-Tag:noindex
X-PUBLISHED-TTL:PT1H
BEGIN:VTIMEZONE
TZID:America/St_Johns
BEGIN:DAYLIGHT
TZOFFSETFROM:-0330
TZOFFSETTO:-0230
TZNAME:NDT
DTSTART:20240310T053000
END:DAYLIGHT
BEGIN:STANDARD
TZOFFSETFROM:-0230
TZOFFSETTO:-0330
TZNAME:NST
DTSTART:20241103T043000
END:STANDARD
BEGIN:DAYLIGHT
TZOFFSETFROM:-0330
TZOFFSETTO:-0230
TZNAME:NDT
DTSTART:20250309T053000
END:DAYLIGHT
BEGIN:STANDARD
TZOFFSETFROM:-0230
TZOFFSETTO:-0330
TZNAME:NST
DTSTART:20251102T043000
END:STANDARD
BEGIN:DAYLIGHT
TZOFFSETFROM:-0330
TZOFFSETTO:-0230
TZNAME:NDT
DTSTART:20260308T053000
END:DAYLIGHT
BEGIN:STANDARD
TZOFFSETFROM:-0230
TZOFFSETTO:-0330
TZNAME:NST
DTSTART:20261101T043000
END:STANDARD
END:VTIMEZONE
BEGIN:VEVENT
DTSTART;TZID=America/St_Johns:20250306T110000
DTEND;TZID=America/St_Johns:20250306T120000
DTSTAMP:20260423T031031
CREATED:20250303T140804Z
LAST-MODIFIED:20250313T205943Z
UID:10003291-1741258800-1741262400@oeweek.oeglobal.org
SUMMARY:Unlock Knowledge: Open Access & Free Educational Resources
DESCRIPTION:The presenter for this session is Crystal Rose\, Associate Professor\, Associate Dean of Libraries Grenfell Library \nOpen Education is a movement that promotes accessible and freely available educational opportunities for all. \nIn this session\, Ms. Rose will explore ways you can make your research more freely accessible\, like library support available for Open Access publishing.  Additionally\, she discusses ways you can make course materials free for students through Open Educational Resources. \nThis session will be hosted in Webex. You can join the session 10 minutes before the start time. It is recommended that you attend this session using one of the following internet browsers: Chrome\, Microsoft Edge or Firefox. \nRegistration is required for this event. More info and registration: https://blog.citl.mun.ca/technologyresources/workshop-consult/unlock-knowledge-open-access-free-educational-resources/
URL:https://oeweek.oeglobal.org/activity/unlock-knowledge/
LOCATION:Memorial University\, St. John's\, Newfoundland and Labrador\, Canada
CATEGORIES:Libraries,Open Education Resources
ATTACH;FMTTYPE=image/png:https://oeweek.oeglobal.org/wp-content/uploads/2025/03/C-Rose-OEW-Session-OEW-Calendar1024x512.png
GEO:47.6010895;-52.7017765
END:VEVENT
END:VCALENDAR