BEGIN:VCALENDAR
VERSION:2.0
PRODID:-//Open Education Week - ECPv6.15.20//NONSGML v1.0//EN
CALSCALE:GREGORIAN
METHOD:PUBLISH
X-ORIGINAL-URL:https://oeweek.oeglobal.org
X-WR-CALDESC:Events for Open Education Week
REFRESH-INTERVAL;VALUE=DURATION:PT1H
X-Robots-Tag:noindex
X-PUBLISHED-TTL:PT1H
BEGIN:VTIMEZONE
TZID:America/New_York
BEGIN:DAYLIGHT
TZOFFSETFROM:-0500
TZOFFSETTO:-0400
TZNAME:EDT
DTSTART:20230312T070000
END:DAYLIGHT
BEGIN:STANDARD
TZOFFSETFROM:-0400
TZOFFSETTO:-0500
TZNAME:EST
DTSTART:20231105T060000
END:STANDARD
BEGIN:DAYLIGHT
TZOFFSETFROM:-0500
TZOFFSETTO:-0400
TZNAME:EDT
DTSTART:20240310T070000
END:DAYLIGHT
BEGIN:STANDARD
TZOFFSETFROM:-0400
TZOFFSETTO:-0500
TZNAME:EST
DTSTART:20241103T060000
END:STANDARD
BEGIN:DAYLIGHT
TZOFFSETFROM:-0500
TZOFFSETTO:-0400
TZNAME:EDT
DTSTART:20250309T070000
END:DAYLIGHT
BEGIN:STANDARD
TZOFFSETFROM:-0400
TZOFFSETTO:-0500
TZNAME:EST
DTSTART:20251102T060000
END:STANDARD
BEGIN:DAYLIGHT
TZOFFSETFROM:-0500
TZOFFSETTO:-0400
TZNAME:EDT
DTSTART:20260308T070000
END:DAYLIGHT
BEGIN:STANDARD
TZOFFSETFROM:-0400
TZOFFSETTO:-0500
TZNAME:EST
DTSTART:20261101T060000
END:STANDARD
END:VTIMEZONE
BEGIN:VEVENT
DTSTART;TZID=America/New_York:20240308T140000
DTEND;TZID=America/New_York:20240308T150000
DTSTAMP:20260423T081859
CREATED:20240221T020928Z
LAST-MODIFIED:20250115T172540Z
UID:10002029-1709906400-1709910000@oeweek.oeglobal.org
SUMMARY:Empowering Education with Pressbooks at Montgomery College: Innovations in OER
DESCRIPTION:Join Montgomery College (MC) during Open Education Week for an interactive session spotlighting the transformative role of Pressbooks in the creation of Open Educational Resources (OER). This session will feature two MC educators who have harnessed the power of Pressbooks to develop unique educational materials. The session will kick off with an introduction to Pressbooks\, highlighting its versatility and effectiveness in creating diverse and accessible OERs. Presenters will then share the different ways that Pressbooks have been incorporated in their courses\, which range from the creation of original content to the modification of existing resources to enhance learning experiences. A Q&A segment will follow\, allowing attendees to engage directly with the panelists\, gaining deeper insights into their experiences and the impactful possibilities of using Pressbooks in educational contexts.
URL:https://oeweek.oeglobal.org/activity/empowering-education-pressbooks-at-montgomery-college/
LOCATION:Montgomery College\, 900 Hungerford Drive\, Rockville\, MD\, United States
ATTACH;FMTTYPE=image/jpeg:https://oeweek.oeglobal.org/wp-content/uploads/2024/02/MC-Open-Ed-Week-2024-scaled.jpg
GEO:39.0970291;-77.1539988
X-APPLE-STRUCTURED-LOCATION;VALUE=URI;X-ADDRESS=Montgomery College 900 Hungerford Drive Rockville MD United States;X-APPLE-RADIUS=500;X-TITLE=900 Hungerford Drive:geo:-77.1539988,39.0970291
END:VEVENT
BEGIN:VEVENT
DTSTART;TZID=America/New_York:20250304T140000
DTEND;TZID=America/New_York:20250304T150000
DTSTAMP:20260423T081859
CREATED:20250205T225314Z
LAST-MODIFIED:20250313T210011Z
UID:10002242-1741096800-1741100400@oeweek.oeglobal.org
SUMMARY:UN SDG Open Pedagogy Fellowship Information Session
DESCRIPTION:During Open Education Week\, Montgomery College will host an information session on the global award-winning (2020 OE Award for Excellence) United Nations Sustainable Development Goals Open Pedagogy Fellowship. \nIn its eighth year\, this fellowship consists of more than 15 institutional partners throughout North America and Asia\, involved hundreds of faculty\, and impacted thousands of students through renewable assignments. Join the information session to learn how you can participate as a faculty fellow or as an institutional partner. \n\n 
URL:https://oeweek.oeglobal.org/activity/un-sdg-open-pedagogy-fellowship-information-session/
LOCATION:Montgomery College\, 900 Hungerford Drive\, Rockville\, MD\, United States
CATEGORIES:Equity and Access,Open Educational Practices
ATTACH;FMTTYPE=image/png:https://oeweek.oeglobal.org/wp-content/uploads/2025/02/UNSDG-Fellowship-Info-Session.png
GEO:39.0970291;-77.1539988
X-APPLE-STRUCTURED-LOCATION;VALUE=URI;X-ADDRESS=Montgomery College 900 Hungerford Drive Rockville MD United States;X-APPLE-RADIUS=500;X-TITLE=900 Hungerford Drive:geo:-77.1539988,39.0970291
END:VEVENT
BEGIN:VEVENT
DTSTART;TZID=America/New_York:20250306T120000
DTEND;TZID=America/New_York:20250306T150000
DTSTAMP:20260423T081859
CREATED:20250210T224117Z
LAST-MODIFIED:20250313T205943Z
UID:10002648-1741262400-1741273200@oeweek.oeglobal.org
SUMMARY:Faculty-Student Showcase: UN SDG Open Pedagogy Fellowship
DESCRIPTION:Attend the annual UN SDG Open Pedagogy Fellowship Faculty-Student Showcase! This 2-day virtual colloquium will be held on Thursday\, March 6 and Friday\, March 7 during Open Education Week. \nThis global award-winning fellowship was founded by Montgomery College and has over 15 institutional partners throughout North America and Asia. Join the colloquium to hear some of our faculty fellows and their students present on the fellowship work.
URL:https://oeweek.oeglobal.org/activity/showcase-un-sdg-open-pedagogy-fellowship/2025-03-06/
LOCATION:Montgomery College\, 900 Hungerford Drive\, Rockville\, MD\, United States
CATEGORIES:Open Educational Practices
ATTACH;FMTTYPE=image/png:https://oeweek.oeglobal.org/wp-content/uploads/2025/02/UNSDG-Fellowship-Faculty-Student-Showcase.png
GEO:39.0970291;-77.1539988
X-APPLE-STRUCTURED-LOCATION;VALUE=URI;X-ADDRESS=Montgomery College 900 Hungerford Drive Rockville MD United States;X-APPLE-RADIUS=500;X-TITLE=900 Hungerford Drive:geo:-77.1539988,39.0970291
END:VEVENT
BEGIN:VEVENT
DTSTART;TZID=America/New_York:20250307T120000
DTEND;TZID=America/New_York:20250307T150000
DTSTAMP:20260423T081859
CREATED:20250210T224117Z
LAST-MODIFIED:20250313T205943Z
UID:10002650-1741348800-1741359600@oeweek.oeglobal.org
SUMMARY:Faculty-Student Showcase: UN SDG Open Pedagogy Fellowship
DESCRIPTION:Attend the annual UN SDG Open Pedagogy Fellowship Faculty-Student Showcase! This 2-day virtual colloquium will be held on Thursday\, March 6 and Friday\, March 7 during Open Education Week. \nThis global award-winning fellowship was founded by Montgomery College and has over 15 institutional partners throughout North America and Asia. Join the colloquium to hear some of our faculty fellows and their students present on the fellowship work.
URL:https://oeweek.oeglobal.org/activity/showcase-un-sdg-open-pedagogy-fellowship/2025-03-07/
LOCATION:Montgomery College\, 900 Hungerford Drive\, Rockville\, MD\, United States
CATEGORIES:Open Educational Practices
ATTACH;FMTTYPE=image/png:https://oeweek.oeglobal.org/wp-content/uploads/2025/02/UNSDG-Fellowship-Faculty-Student-Showcase.png
GEO:39.0970291;-77.1539988
X-APPLE-STRUCTURED-LOCATION;VALUE=URI;X-ADDRESS=Montgomery College 900 Hungerford Drive Rockville MD United States;X-APPLE-RADIUS=500;X-TITLE=900 Hungerford Drive:geo:-77.1539988,39.0970291
END:VEVENT
END:VCALENDAR