BEGIN:VCALENDAR
VERSION:2.0
PRODID:-//Open Education Week - ECPv6.15.20//NONSGML v1.0//EN
CALSCALE:GREGORIAN
METHOD:PUBLISH
X-WR-CALNAME:Open Education Week
X-ORIGINAL-URL:https://oeweek.oeglobal.org
X-WR-CALDESC:Events for Open Education Week
REFRESH-INTERVAL;VALUE=DURATION:PT1H
X-Robots-Tag:noindex
X-PUBLISHED-TTL:PT1H
BEGIN:VTIMEZONE
TZID:America/Toronto
BEGIN:DAYLIGHT
TZOFFSETFROM:-0500
TZOFFSETTO:-0400
TZNAME:EDT
DTSTART:20250309T070000
END:DAYLIGHT
BEGIN:STANDARD
TZOFFSETFROM:-0400
TZOFFSETTO:-0500
TZNAME:EST
DTSTART:20251102T060000
END:STANDARD
BEGIN:DAYLIGHT
TZOFFSETFROM:-0500
TZOFFSETTO:-0400
TZNAME:EDT
DTSTART:20260308T070000
END:DAYLIGHT
BEGIN:STANDARD
TZOFFSETFROM:-0400
TZOFFSETTO:-0500
TZNAME:EST
DTSTART:20261101T060000
END:STANDARD
BEGIN:DAYLIGHT
TZOFFSETFROM:-0500
TZOFFSETTO:-0400
TZNAME:EDT
DTSTART:20270314T070000
END:DAYLIGHT
BEGIN:STANDARD
TZOFFSETFROM:-0400
TZOFFSETTO:-0500
TZNAME:EST
DTSTART:20271107T060000
END:STANDARD
END:VTIMEZONE
BEGIN:VEVENT
DTSTART;TZID=America/Toronto:20260218T120000
DTEND;TZID=America/Toronto:20260218T130000
DTSTAMP:20260423T124321
CREATED:20260205T215805Z
LAST-MODIFIED:20260205T215805Z
UID:10003421-1771416000-1771419600@oeweek.oeglobal.org
SUMMARY:Designing for Accessibility: Publishing Compliant Content in Pressbooks
DESCRIPTION:In this webinar\, the Pressbooks team will walk through how to create and maintain accessible publications using Pressbooks\, combining platform tools with practical\, real-world best practices. \nYou’ll get a guided tour of Pressbooks Accessibility Assist\, including a demonstration of the Authoring Tool (available now) and the upcoming Scanner Tool and Network Book Scanner designed to help institutions assess accessibility at scale. Along the way\, we’ll show how these tools fit into everyday publishing workflows for instructors\, librarians\, and institutions. \nThe session will include a show-and-tell walkthrough followed by an open\, interactive conversation where attendees can ask questions\, share strategies\, and learn from peers across the Pressbooks community. \nWhether you’re preparing for new accessibility requirements or looking to strengthen existing practices\, this session will help you move forward with confidence. \nBy the end of this webinar\, attendees will be able to: \n\nUnderstand the core principles of accessibility compliance as they apply to Pressbooks-published content\nUse Pressbooks Accessibility Assist to identify and address accessibility issues during the authoring process\nLearn how the Network Book Scanner will support network-wide accessibility reviews and compliance efforts\nApply practical best practices for creating accessible OER and digital learning materials\nEngage with peers to exchange tips\, challenges\, and workflows for accessibility at scale
URL:https://oeweek.oeglobal.org/activity/designing-for-accessibility-pressbooks/
LOCATION:Montreal\, Canada\, Montreal\, Quebec\, Canada
CATEGORIES:Digital Skills,Equity and Access,Open Education Resources,Tools and Techniques
GEO:45.5018869;-73.5673919
END:VEVENT
BEGIN:VEVENT
DTSTART;TZID=America/Toronto:20260303T110000
DTEND;TZID=America/Toronto:20260303T120000
DTSTAMP:20260423T124321
CREATED:20260217T010330Z
LAST-MODIFIED:20260218T063250Z
UID:10003500-1772535600-1772539200@oeweek.oeglobal.org
SUMMARY:Ressources éducatives libres (REL): comment les pratiques stimulent l’innovation?
DESCRIPTION:Description : Ce panel réunit des actrices et acteurs engagés qui partageront des exemples d’accompagnement de personnes enseignantes et étudiantes dans la création ou l’adaptation de ressources éducatives libres (REL). Ensemble\, nous explorerons les innovations pédagogiques identifiées dans le cadre de l’éducation ouverte\, les obstacles rencontrés et les leviers activés pour les surmonter\, ainsi que des conseils pratiques pour les porteurs de projets et leurs accompagnateurs pédagogiques. \nAvec la participation et la collaboration de : Paul Lyonnaz\, Nantes Université;  Anne-Catherine Baseilhac\, Nantes Université; Claude Potvin\, fabriqueREL et Université Laval; Sophie Depoterre\, Université Catholique de Louvain.
URL:https://oeweek.oeglobal.org/activity/rel-pratiques-stimulent-linnovation/
LOCATION:Montreal\, Canada\, Montreal\, Quebec\, Canada
CATEGORIES:Open Educational Practices
ATTACH;FMTTYPE=image/png:https://oeweek.oeglobal.org/wp-content/uploads/2026/02/pastille-ronde-moisEO-2026-19.png
ORGANIZER;CN="fabriqueREL":MAILTO:info@fabriquerel.org
GEO:45.5018869;-73.5673919
END:VEVENT
BEGIN:VEVENT
DTSTART;TZID=America/Toronto:20260304T100000
DTEND;TZID=America/Toronto:20260304T110000
DTSTAMP:20260423T124321
CREATED:20260218T013618Z
LAST-MODIFIED:20260218T013618Z
UID:10003480-1772618400-1772622000@oeweek.oeglobal.org
SUMMARY:La recherche en éducation ouverte: regards croisés francophones
DESCRIPTION:Alors que l’éducation ouverte (ÉO) et les ressources éducatives libres (REL) font l’objet de communautés de recherche bien établies dans le monde anglophone depuis plus d’une décennie\, le paysage francophone reste difficile à lire et peu structuré. Ce premier webinaire propose une table ronde réunissant trois intervenantes et intervenants aux perspectives complémentaires (Suisse\, Canada\, France)\, afin d’ouvrir la discussion sur les fondements\, les cadres théoriques\, les enjeux linguistiques\, culturels et politiques de la recherche en ÉO. \n\n Cette table ronde marque le lancement d’une série de webinaires de recherche portés par la Chaire UNESCO RELIA\, visant à rendre visibles les travaux existants\, à favoriser les rencontres entre chercheurs et chercheuses et à amorcer une cartographie de la recherche francophone sur l’éducation ouverte. \nÉquipe d’animation : Colin de la Higuera\, titulaire de  la Chaire UNESCO RELIA\, Nantes Université \net Lucie Grasset\, Chaire UNESCO RELIA\, Nantes Université\nÉquipe intervenante : Barbara Class – Enseignante-Chercheure à l’Université de Genève – Suisse\, Catherine Lachaîne – Bibliothécaire à l’Université d’Ottawa (Canada) et doctorante ainsi que  Luc Massou – Chercheur en sciences de l’information et de la communication\, et Conseiller à la DGESIP – France.
URL:https://oeweek.oeglobal.org/activity/la-recherche-en-education-ouverte/
LOCATION:Montreal\, Canada\, Montreal\, Quebec\, Canada
CATEGORIES:Open Research
ATTACH;FMTTYPE=image/png:https://oeweek.oeglobal.org/wp-content/uploads/2026/02/pastille-ronde-moisEO-2026-1.png
ORGANIZER;CN="fabriqueREL":MAILTO:info@fabriquerel.org
GEO:45.5018869;-73.5673919
END:VEVENT
BEGIN:VEVENT
DTSTART;TZID=America/Toronto:20260305T110000
DTEND;TZID=America/Toronto:20260305T120000
DTSTAMP:20260423T124321
CREATED:20260218T064207Z
LAST-MODIFIED:20260218T064207Z
UID:10003481-1772708400-1772712000@oeweek.oeglobal.org
SUMMARY:De travaux jetables à des savoirs durables: cultiver l’ouverture en éducation
DESCRIPTION:À l’heure où les travaux étudiants finissent souvent dans l’oubli numérique\, comment concevoir des apprentissages qui laissent une trace utile et partagée ? Ce webinaire propose de passer d’une logique de travaux jetables à celle de savoirs durables\, grâce aux pratiques éducatives ouvertes (PEO). À partir de recherches menées à l’Université TÉLUQ\, nous explorerons comment les PEO permettent de cultiver l’ouverture : en donnant du sens au travail intellectuel\, en favorisant la collaboration et en contribuant à des biens communs de connaissance. \nDes exemples concrets — dont celui de la plateforme MediaWiki — illustreront comment les technologies libres peuvent soutenir des pratiques pédagogiques plus participatives\, pérennes et socialement pertinentes. Le webinaire s’adresse aux formateurs\, enseignants et concepteurs pédagogiques souhaitant faire évoluer leurs pratiques vers plus d’ouverture — non seulement dans les ressources\, mais dans la culture éducative elle-même.Cultiver l’ouverture\, c’est faire pousser des savoirs vivants — au-delà du temps d’un cours. \nAvec la participation et la collaboration de : Béatrice Pudelko\, professeure\, Université TÉLUQ
URL:https://oeweek.oeglobal.org/activity/de-travaux-jetables-a-des-savoirs-durables/
LOCATION:Montreal\, Canada\, Montreal\, Quebec\, Canada
CATEGORIES:Open Educational Practices
ATTACH;FMTTYPE=image/png:https://oeweek.oeglobal.org/wp-content/uploads/2026/02/pastille-ronde-moisEO-2026-2.png
ORGANIZER;CN="fabriqueREL":MAILTO:info@fabriquerel.org
GEO:45.5018869;-73.5673919
END:VEVENT
BEGIN:VEVENT
DTSTART;TZID=America/Toronto:20260306T100000
DTEND;TZID=America/Toronto:20260306T104500
DTSTAMP:20260423T124321
CREATED:20260218T062945Z
LAST-MODIFIED:20260218T062945Z
UID:10003482-1772791200-1772793900@oeweek.oeglobal.org
SUMMARY:Une gestion de projet efficace pour le développement et la pérennité des REL:  le rôle stratégique de la personne chargée de projet pédagonumérique
DESCRIPTION:Cette conférence propose un retour d’expérience sur la création d’une ressource éducative libre (REL) à l’École des sciences de la gestion de l’UQAM\, en soulignant l’importance d’une gestion de projet structurée pour assurer le succès et la pérennité de telles initiatives. La réussite des projets REL et la mise en œuvre de pratiques éducatives ouvertes exigent bien plus qu’une simple volonté d’innovation. Elles reposent sur une coordination structurée et interdisciplinaire\, souvent sous-estimée dans les discours institutionnels\, mais reconnue comme un facteur clé de réussite dans la littérature. À partir d’une expérience de terrain\, nous montrerons comment une gestion de projet rigoureuse — intégrant la planification\, la coordination interdisciplinaire\, l’animation d’équipe\, le suivi\, la documentation et la diffusion — constitue un levier essentiel pour aboutir à une ressource cohérente\, libre\, accessible et réutilisable. \nSeront mis en évidence les différents leviers qui ont favorisé ce projet : la complémentarité des expertises (chargés de cours\, professeurs\, technopédagogues\, conseillers pédagogiques\, bibliothécaires\, étudiants auxiliaires\, graphistes\, techniciens multimédias\, réviseurs linguistiques)\, l’appui d’une politique locale\, un accompagnement soutenu\, ainsi que l’accès à une plateforme ouverte (Pressbooks) et à un environnement numérique d’apprentissage institutionnel (Moodle). \nCette présentation offre une réflexion sur les conditions à réunir pour pérenniser la création de REL à l’échelle d’un établissement\, tout en reconnaissant pleinement l’expertise des professionnels en gestion de projets spécialisés en pédagogie numérique comme facteur déterminant de succès. \nAvec la participation et la collaboration de : Sirléia Ferreira Rosa\, chargée de projets pédagonumériques\, UQAM
URL:https://oeweek.oeglobal.org/activity/gestion-de-projeict-efface/
LOCATION:Montreal\, Canada\, Montreal\, Quebec\, Canada
CATEGORIES:Open Educational Practices
ATTACH;FMTTYPE=image/png:https://oeweek.oeglobal.org/wp-content/uploads/2026/02/pastille-ronde-moisEO-2026-3.png
ORGANIZER;CN="fabriqueREL":MAILTO:info@fabriquerel.org
GEO:45.5018869;-73.5673919
END:VEVENT
BEGIN:VEVENT
DTSTART;TZID=America/Toronto:20260310T090000
DTEND;TZID=America/Toronto:20260310T110000
DTSTAMP:20260423T124321
CREATED:20260218T062644Z
LAST-MODIFIED:20260218T062644Z
UID:10003484-1773133200-1773140400@oeweek.oeglobal.org
SUMMARY:Vitrine REL partie 1
DESCRIPTION:La Vitrine REL est une série de présentations éclairs (10 min) permettant aux créatrices et créateurs de REL de partager le fruit de leurs travaux. La formule se veut légère et conviviale. L’événement est ouvert à toute personne du réseau de l’enseignement curieuse de prendre connaissance des nouvelles REL développées au Québec et au Canada francophone. \nAvec la participation et la collaboration de : Claude Potvin\, conseiller pédagogique à la fabriqueREL et Université Laval ainsi que Mélanie Brunet\, bibliothécaire à l’Université d’Ottawa
URL:https://oeweek.oeglobal.org/activity/vitrine-rel-partie-1/
LOCATION:Montreal\, Canada\, Montreal\, Quebec\, Canada
CATEGORIES:Open Education Resources
ATTACH;FMTTYPE=image/png:https://oeweek.oeglobal.org/wp-content/uploads/2026/02/pastille-ronde-moisEO-2026-5.png
ORGANIZER;CN="fabriqueREL":MAILTO:info@fabriquerel.org
GEO:45.5018869;-73.5673919
END:VEVENT
BEGIN:VEVENT
DTSTART;TZID=America/Toronto:20260311T130000
DTEND;TZID=America/Toronto:20260311T140000
DTSTAMP:20260423T124321
CREATED:20260218T062456Z
LAST-MODIFIED:20260218T062456Z
UID:10003485-1773234000-1773237600@oeweek.oeglobal.org
SUMMARY:Enseigner avec Wikipédia: présentation d'un parcours de formation pour les personnes enseignantes et étudiantes
DESCRIPTION:La présentation sera structurée autour de ces quatre éléments :   \n1) Pourquoi enseigner avec Wikipédia : approche et mise en contexte ;  \n2) Analyser le fonctionnement de Wikipédia\, sa culture éditoriale\, ses normes et la plateforme ;  \n3) Comment contribuer à Wikipédia : démonstration pratique ;  \n4) Intégrer Wikipédia à son enseignement : activités et scénarios pédagogiques. \nObjectif : Présenter l’approche\, les différents modules et les activités pédagogiques du parcours de formation à la communauté collégiale et universitaire. \nAvec la participation et la collaboration de : Dominic Hébert Sherman\, enseignant en sociologie au Cégep de Saint-Jérôme et Jean-Michel Lapointe\, chargé de projets technopédagogiques à l’UQAM \n 
URL:https://oeweek.oeglobal.org/activity/enseigner-avec-wikipedia/
LOCATION:Montreal\, Canada\, Montreal\, Quebec\, Canada
CATEGORIES:Open Educational Practices
ATTACH;FMTTYPE=image/png:https://oeweek.oeglobal.org/wp-content/uploads/2026/02/pastille-ronde-moisEO-2026-6.png
ORGANIZER;CN="fabriqueREL":MAILTO:info@fabriquerel.org
GEO:45.5018869;-73.5673919
END:VEVENT
BEGIN:VEVENT
DTSTART;TZID=America/Toronto:20260312T130000
DTEND;TZID=America/Toronto:20260312T150000
DTSTAMP:20260423T124321
CREATED:20260216T022027Z
LAST-MODIFIED:20260218T063250Z
UID:10003487-1773320400-1773327600@oeweek.oeglobal.org
SUMMARY:Atelier de développement de WikiSavoirs\, le réseau Wikimédia collégial et universitaire  de la francophonie canadienne
DESCRIPTION:WikiSavoirs sera un réseau décentralisé de personnes œuvrant dans et autour des institutions collégiales et universitaires\, et il sera dédié au déploiement des savoirs libres à travers les projets Wikimédia : Wikipédia\, Wikidata\, Wikimédia Commons\, Wikisource\, etc. \nObjectifs :  \n1) Faire participer la communauté collégiale et universitaire au développement du Réseau Wikisavoirs; \n2) Explorer l’intérêt\, les pratiques et les besoins « wiki » de cette communauté\, en plénière et en sous-groupes de travail. \nAvec la participation et la collaboration de : Johanne Lebel\, rédactrice en chef du Magazine de l’Acfas
URL:https://oeweek.oeglobal.org/activity/wikisavoirs/
LOCATION:Montreal\, Canada\, Montreal\, Quebec\, Canada
CATEGORIES:Open Science,Open Source Platforms
ATTACH;FMTTYPE=image/png:https://oeweek.oeglobal.org/wp-content/uploads/2026/02/pastille-ronde-moisEO-2026-8.png
ORGANIZER;CN="fabriqueREL":MAILTO:info@fabriquerel.org
GEO:45.5018869;-73.5673919
END:VEVENT
BEGIN:VEVENT
DTSTART;TZID=America/Toronto:20260317T100000
DTEND;TZID=America/Toronto:20260317T110000
DTSTAMP:20260423T124321
CREATED:20260216T021002Z
LAST-MODIFIED:20260218T063250Z
UID:10003490-1773741600-1773745200@oeweek.oeglobal.org
SUMMARY:Collaboration et partage autour de l’éducation ouverte en bibliothèque
DESCRIPTION:Venez découvrir la communauté de pratique en éducation ouverte du Partenariat des Bibliothèques Universitaires du Québec (PBUQ)\, un espace collaboratif réunissant des bibliothécaires et des techniciennes et techniciens en documentation du milieu de l’enseignement supérieur. \nCette communauté souhaite favoriser la collaboration entre les bibliothèques collégiales et universitaires\, encourager le partage de ressources\, d’expériences et de bonnes pratiques\, et stimuler la mobilisation autour des enjeux et opportunités liés à l’éducation ouverte.  \nCurieux d’en savoir plus ou de contribuer ? Assistez à l’activité\, posez vos questions et explorez les façons de vous impliquer dans cette initiative collective. Nous invitons toute personne des bibliothèques intéressée par l’éducation ouverte\, qu’elle y soit déjà impliquée ou non. \nAvec la participation et la collaboration de : Mélanie Roy\, Université du Québec à Montréal\, Rachel Harris\, Université Concordia\, Olivia Fernandez Pereda\, Polytechnique de Montréal\, Vanessa Ayotte\, École de technologies supérieures\, Graham Lavender\, Université de Montréal\, Thien Sa Hoang\, Université de Montréal\, Nadia Villeneuve\, Université Laval\, José-Miguel Escobar-Zuniga\, Université \nde Sherbrooke et Laurie-Anne Gignac\, Partenariat des bibliothèques universitaires du Québec.
URL:https://oeweek.oeglobal.org/activity/collaboration-et-partage-autour-de-leducation-ouverte-en-bibliotheque/
LOCATION:Montreal\, Canada\, Montreal\, Quebec\, Canada
CATEGORIES:Libraries
ATTACH;FMTTYPE=image/png:https://oeweek.oeglobal.org/wp-content/uploads/2026/02/pastille-ronde-moisEO-2026-11.png
GEO:45.5018869;-73.5673919
END:VEVENT
BEGIN:VEVENT
DTSTART;TZID=America/Toronto:20260318T150000
DTEND;TZID=America/Toronto:20260318T163000
DTSTAMP:20260423T124321
CREATED:20260304T184823Z
LAST-MODIFIED:20260304T184919Z
UID:10003647-1773846000-1773851400@oeweek.oeglobal.org
SUMMARY:The Price is Wrong: Free or Low-Cost Alternatives in Higher Education (Concordia University)
DESCRIPTION:Sometimes\, the cost of academic publishing can feel very wrong. Costs might feel wrong for students facing higher living and tuition costs\, and for researchers seeking to make their work open access. \nTextbooks\, course packs\, journal articles\, academic books\, and related online resources carry various price tags; some of which are shockingly high or low. Uncover the publishing costs in academia and learn about for-profit publishing alternatives. Participants who guess the accurate price will win prizes as we reveal how pathways within open scholarship and open education can lessen the financial burdens on students\, educators\, and researchers. \nIn twelve spins\, our version of Price is Wrong features useful information\, several slices of humour\, and prizes for our winners. In this collaboration\, Rachel Harris and Zo Kopyna from the Concordia University Library’s Open Educational Resources Team\, Ryan Van Huijstee from Concordia University Press\, and Douglas Moffat from 4TH Space act as game-show hosts\, radio announcers\, and design magicians. Together\, we encourage students\, professors\, librarians\, and staff members to join us… as volunteer game-show contestants and audience members\, take your seats! \n… \nHow can you participate? Join us in person  [4TH SPACE in the J.W. McConnell Building] or online by registering for the Zoom Meeting or watching live on YouTube. \n  \n> Learn more  \n> Part of open education month at Concordia University
URL:https://oeweek.oeglobal.org/activity/price-is-wrong-free/
LOCATION:Montreal\, Canada\, Montreal\, Quebec\, Canada
CATEGORIES:Equity and Access,Libraries,Open Access Publishing,Open Education Resources
ATTACH;FMTTYPE=image/png:https://oeweek.oeglobal.org/wp-content/uploads/2026/03/1772116844604.png
ORGANIZER;CN="Concordia University Library":MAILTO:oer@concordia.ca
GEO:45.5018869;-73.5673919
END:VEVENT
BEGIN:VEVENT
DTSTART;TZID=America/Toronto:20260319T130000
DTEND;TZID=America/Toronto:20260319T150000
DTSTAMP:20260423T124321
CREATED:20260215T165745Z
LAST-MODIFIED:20260218T063250Z
UID:10003492-1773925200-1773932400@oeweek.oeglobal.org
SUMMARY:Vitrine REL partie 2
DESCRIPTION:La Vitrine REL est une série de présentations éclairs (10 min) permettant aux créatrices et créateurs de REL de partager le fruit de leurs travaux. La formule se veut légère et conviviale. L’événement est ouvert à toute personne du réseau de l’enseignement curieuse de prendre connaissance des nouvelles REL développées au Québec et au Canada francophone. \nAvec la participation et la collaboration de : Claude Potvin\, conseiller pédagogique à la fabriqueREL et Université Laval ainsi que Mélanie Brunet\, bibliothécaire à l’Université d’Ottawa
URL:https://oeweek.oeglobal.org/activity/vitrine-rel-partie-2/
LOCATION:Montreal\, Canada\, Montreal\, Quebec\, Canada
CATEGORIES:Open Education Resources
ATTACH;FMTTYPE=image/png:https://oeweek.oeglobal.org/wp-content/uploads/2026/02/pastille-ronde-moisEO-2026-13.png
ORGANIZER;CN="fabriqueREL":MAILTO:info@fabriquerel.org
GEO:45.5018869;-73.5673919
END:VEVENT
BEGIN:VEVENT
DTSTART;TZID=America/Toronto:20260325T113000
DTEND;TZID=America/Toronto:20260325T133000
DTSTAMP:20260423T124321
CREATED:20260215T165331Z
LAST-MODIFIED:20260218T063250Z
UID:10003496-1774438200-1774445400@oeweek.oeglobal.org
SUMMARY:Vitrine REL partie 3
DESCRIPTION:La Vitrine REL est une série de présentations éclairs (10 min) permettant aux créatrices et créateurs de REL de partager le fruit de leurs travaux. La formule se veut légère et conviviale. L’événement est ouvert à toute personne du réseau de l’enseignement curieuse de prendre connaissance des nouvelles REL développées au Québec et au Canada francophone. \nAvec la participation et la collaboration de :  Claude Potvin\, conseiller pédagogique à la fabriqueREL et Université Laval ainsi que Mélanie Brunet\, bibliothécaire à l’Université d’Ottawa
URL:https://oeweek.oeglobal.org/activity/vitrine-rel-partie-3/
LOCATION:Montreal\, Canada\, Montreal\, Quebec\, Canada
CATEGORIES:Open Education Resources
ATTACH;FMTTYPE=image/png:https://oeweek.oeglobal.org/wp-content/uploads/2026/02/pastille-ronde-moisEO-2026-17.png
ORGANIZER;CN="fabriqueREL":MAILTO:info@fabriquerel.org
GEO:45.5018869;-73.5673919
END:VEVENT
BEGIN:VEVENT
DTSTART;TZID=America/Toronto:20260326T100000
DTEND;TZID=America/Toronto:20260326T113000
DTSTAMP:20260423T124321
CREATED:20260215T165250Z
LAST-MODIFIED:20260218T063250Z
UID:10003497-1774519200-1774524600@oeweek.oeglobal.org
SUMMARY:Conclusion avec Open Education Global Francophone : ouverture et dialogue entre communautés de l’éducation ouverte
DESCRIPTION:En conclusion de ce mois de l’éducation ouverte et pour prolonger ces échanges\, venez (re)découvrir et discuter avec la communauté d’Open Education Global Francophone(OEGF). Nous sommes en train de structurer une antenne locale d’Open Education Global dédiée aux francophones\, avec la volonté de fédérer une communauté de pratiques et de soutenir les initiatives de l’éducation ouverte et des communs numériques. Si les communautés sont clés pour cultiver l’ouverture\, pour diffuser les savoirs et les pratiques\, OEGF a l’ambition de leur offrir un écosystème permettant d’explorer\, d’enrichir et de promouvoir ces mouvements d’ouverture\, les ressources éducatives libres et les personnes qui partagent ces valeurs. Venez suivre\, questionner et contribuer au développement de ce collectif ! \nAvec la participation et la collaboration de : Perrine de Coëtlogon\, Présidente RedBay & Open Education Global\, Open Education & Digital Identity Officer\, Simon Rossi\, Formateur Modèles Ouverts et Communs Numériques\, Lucie Grasset\, Chargée de mission Chaire UNESCO RELIA
URL:https://oeweek.oeglobal.org/activity/conclusion-avec-oeg-francophone/
LOCATION:Montreal\, Canada\, Montreal\, Quebec\, Canada
CATEGORIES:z--- Other
ATTACH;FMTTYPE=image/png:https://oeweek.oeglobal.org/wp-content/uploads/2026/02/pastille-ronde-moisEO-2026-18.png
ORGANIZER;CN="fabriqueREL":MAILTO:info@fabriquerel.org
GEO:45.5018869;-73.5673919
END:VEVENT
BEGIN:VEVENT
DTSTART;TZID=America/Toronto:20260326T100000
DTEND;TZID=America/Toronto:20260326T110000
DTSTAMP:20260423T124321
CREATED:20260225T070137Z
LAST-MODIFIED:20260225T070137Z
UID:10003577-1774519200-1774522800@oeweek.oeglobal.org
SUMMARY:Pressbooks Around the World: Open Publishing in Practice Across Europe
DESCRIPTION:Join us for a global conversation on open publishing in higher education\, featuring Pressbooks partners from across Europe. In this panel\, leaders from the University of Groningen (the Netherlands)\, the Technological University of the Shannon (Ireland)\, and HfH Digital (Switzerland) will share how they are building and scaling open publishing networks to support various publishing initiatives. \nEach panelist will showcase their Pressbooks network and highlight key projects\, offering a behind-the-scenes look at how open publishing is being implemented in different national and institutional contexts. We’ll explore why each institution chose to launch a Pressbooks network\, the types of publishing they support\, and how these platforms are advancing institutional goals around openness\, access\, and teaching innovation. \nAttendees will hear what each team is most proud of\, lessons learned along the way\, and what’s next for open publishing at their institutions.
URL:https://oeweek.oeglobal.org/activity/pressbooks-around-world-across-europe/
LOCATION:Montreal\, Canada\, Montreal\, Quebec\, Canada
CATEGORIES:Open Education Resources
ATTACH;FMTTYPE=image/jpeg:https://oeweek.oeglobal.org/wp-content/uploads/2026/02/Screenshot-183.jpg
GEO:45.5018869;-73.5673919
END:VEVENT
BEGIN:VEVENT
DTSTART;TZID=America/Toronto:20260327T100000
DTEND;TZID=America/Toronto:20260327T120000
DTSTAMP:20260423T124321
CREATED:20260218T222259Z
LAST-MODIFIED:20260218T222259Z
UID:10003519-1774605600-1774612800@oeweek.oeglobal.org
SUMMARY:Contemplative pedagogy and practices in the classroom launch
DESCRIPTION:In an increasingly fractured world\, how can we cultivate deeper\, more connected ways of learning? Contemplative practices and pedagogy (CP&P) offers a response by engaging the ‘whole person’ – mind\, body\, and spirit – in teaching and learning.  \nJoin Concordia University’s Centre for Teaching and Learning to launch the new open educational resource (OER) on Contemplative practices and pedagogies in the classroom. This collection was co-created with our faculty interest group in 2025 with contributions from faculty\, staff\, students and guest speakers. Contributors documented testimonials\, insights and practices that free to access and adapt for the Concordia community and beyond.  \nAgenda:  \n\nOpening remarks from Dr. Rosemary Reilly and Cristina Galofre Gomez\, co-facilitators of the faculty interest group \nProcess of co-creating the open-access resource with faculty and preview of the contents with Josephine Guan \nFraming this work as evidence of teaching excellence with Margo Echenberg\, CTL\, and Dr. Rachel Harris\, Scholarly Publishing Librarian  \nBreakout discussions on focused topics led by the speakers:  \n\nContemplative pedagogy in higher education led by Dr. Reilly   \nHands-on dossier workshop with Margo and Dr. Harris 
URL:https://oeweek.oeglobal.org/activity/contemplative-pedagogy-and-practices-in-the-classroom-launch/
LOCATION:Montreal\, Canada\, Montreal\, Quebec\, Canada
CATEGORIES:Equity and Access,Open Education Resources
ATTACH;FMTTYPE=image/png:https://oeweek.oeglobal.org/wp-content/uploads/2026/02/CP-OER-Cover-image-1.png
ORGANIZER;CN="Concordia University Library":MAILTO:oer@concordia.ca
GEO:45.5018869;-73.5673919
END:VEVENT
END:VCALENDAR