BEGIN:VCALENDAR
VERSION:2.0
PRODID:-//Open Education Week - ECPv6.15.20//NONSGML v1.0//EN
CALSCALE:GREGORIAN
METHOD:PUBLISH
X-WR-CALNAME:Open Education Week
X-ORIGINAL-URL:https://oeweek.oeglobal.org
X-WR-CALDESC:Events for Open Education Week
REFRESH-INTERVAL;VALUE=DURATION:PT1H
X-Robots-Tag:noindex
X-PUBLISHED-TTL:PT1H
BEGIN:VTIMEZONE
TZID:Asia/Riyadh
BEGIN:STANDARD
TZOFFSETFROM:+0300
TZOFFSETTO:+0300
TZNAME:+03
DTSTART:20240101T000000
END:STANDARD
END:VTIMEZONE
BEGIN:VEVENT
DTSTART;TZID=Asia/Riyadh:20250303T220000
DTEND;TZID=Asia/Riyadh:20250303T233000
DTSTAMP:20260423T160018
CREATED:20250301T151155Z
LAST-MODIFIED:20250313T210034Z
UID:10003286-1741039200-1741044600@oeweek.oeglobal.org
SUMMARY:Open Innovation: AI and Impact on Open Education
DESCRIPTION:This event from the National eLearning Center (Saudi Arabia) explores the intersection of Open Innovation\, Artificial Intelligence (AI)\, and Open Education. Experts will discuss how AI-driven innovation is transforming learning ecosystems\, content creation\, and accessibility in open education. The session will also examine potential challenges\, ethical considerations\, and strategies for harnessing AI to enhance equity and inclusion in education.
URL:https://oeweek.oeglobal.org/activity/open-innovation-ai/
LOCATION:National eLearning Center\, Ar Riyad\, Saudi Arabia
CATEGORIES:Artificial Intelligence,Equity and Access,Open Education Policies,Open Educational Practices
ATTACH;FMTTYPE=image/jpeg:https://oeweek.oeglobal.org/wp-content/uploads/2025/03/IMG_5008.jpeg
GEO:24.7135517;46.6752957
END:VEVENT
BEGIN:VEVENT
DTSTART;TZID=Asia/Riyadh:20250305T220000
DTEND;TZID=Asia/Riyadh:20250305T233000
DTSTAMP:20260423T160018
CREATED:20250304T042829Z
LAST-MODIFIED:20250313T205943Z
UID:10003313-1741212000-1741217400@oeweek.oeglobal.org
SUMMARY:Open Skilling: Accelerating Workforce Readiness Through Open Education
DESCRIPTION:This online panel discussion from the National eLearning Center of Saudi Arabia will examine how Open Education is revolutionizing skilling and workforce development. The session will focus on use cases\, challenges\, and opportunities in open skilling\, emphasizing industry-driven training models\, credentialing\, and lifelong learning pathways. Experts will share insights on open credentials\, microlearning\, and policy frameworks that enable scalable\, equitable access to skills development.
URL:https://oeweek.oeglobal.org/activity/open-skilling-accelerating-workforce-readiness-through-open-education/
LOCATION:National eLearning Center\, Ar Riyad\, Saudi Arabia
CATEGORIES:Digital Skills,Equity and Access,Micro-credentialing
ATTACH;FMTTYPE=image/jpeg:https://oeweek.oeglobal.org/wp-content/uploads/2025/03/unnamed-2-scaled.jpg
GEO:24.7135517;46.6752957
END:VEVENT
END:VCALENDAR