BEGIN:VCALENDAR
VERSION:2.0
PRODID:-//Open Education Week - ECPv6.15.20//NONSGML v1.0//EN
CALSCALE:GREGORIAN
METHOD:PUBLISH
X-ORIGINAL-URL:https://oeweek.oeglobal.org
X-WR-CALDESC:Events for Open Education Week
REFRESH-INTERVAL;VALUE=DURATION:PT1H
X-Robots-Tag:noindex
X-PUBLISHED-TTL:PT1H
BEGIN:VTIMEZONE
TZID:America/Denver
BEGIN:DAYLIGHT
TZOFFSETFROM:-0700
TZOFFSETTO:-0600
TZNAME:MDT
DTSTART:20240310T090000
END:DAYLIGHT
BEGIN:STANDARD
TZOFFSETFROM:-0600
TZOFFSETTO:-0700
TZNAME:MST
DTSTART:20241103T080000
END:STANDARD
BEGIN:DAYLIGHT
TZOFFSETFROM:-0700
TZOFFSETTO:-0600
TZNAME:MDT
DTSTART:20250309T090000
END:DAYLIGHT
BEGIN:STANDARD
TZOFFSETFROM:-0600
TZOFFSETTO:-0700
TZNAME:MST
DTSTART:20251102T080000
END:STANDARD
BEGIN:DAYLIGHT
TZOFFSETFROM:-0700
TZOFFSETTO:-0600
TZNAME:MDT
DTSTART:20260308T090000
END:DAYLIGHT
BEGIN:STANDARD
TZOFFSETFROM:-0600
TZOFFSETTO:-0700
TZNAME:MST
DTSTART:20261101T080000
END:STANDARD
END:VTIMEZONE
BEGIN:VEVENT
DTSTART;TZID=America/Denver:20250303T160000
DTEND;TZID=America/Denver:20250303T170000
DTSTAMP:20260423T160240
CREATED:20250205T000528Z
LAST-MODIFIED:20250313T210034Z
UID:10002239-1741017600-1741021200@oeweek.oeglobal.org
SUMMARY:Colorado's K-12 OERColorado Hub and Microsite Platforms
DESCRIPTION:In celebration of OE Week 2025\, the Colorado Department of Education (CDE) is hosting a webinar showcasing Colorado’s K-12 OERColorado Hub and Microsite Platforms. \nCDE invites anyone interested in learning more about Colorado’s work with OER in K-12 education to join us on Monday\, March 3 between 4:00PM – 5:00PM MST in Zoom. \nEmail our OERColorado Team at OERColorado@gmail.com with any questions!
URL:https://oeweek.oeglobal.org/activity/k-12-oercolorado-hub/
LOCATION:OERColorado\, Denver\, Colorado\, United States
CATEGORIES:Open Education Resources
ATTACH;FMTTYPE=image/png:https://oeweek.oeglobal.org/wp-content/uploads/2025/02/OERColorado-Image.png
GEO:39.7392358;-104.990251
END:VEVENT
END:VCALENDAR