BEGIN:VCALENDAR
VERSION:2.0
PRODID:-//Open Education Week - ECPv6.15.20//NONSGML v1.0//EN
CALSCALE:GREGORIAN
METHOD:PUBLISH
X-ORIGINAL-URL:https://oeweek.oeglobal.org
X-WR-CALDESC:Events for Open Education Week
REFRESH-INTERVAL;VALUE=DURATION:PT1H
X-Robots-Tag:noindex
X-PUBLISHED-TTL:PT1H
BEGIN:VTIMEZONE
TZID:America/Toronto
BEGIN:DAYLIGHT
TZOFFSETFROM:-0500
TZOFFSETTO:-0400
TZNAME:EDT
DTSTART:20240310T070000
END:DAYLIGHT
BEGIN:STANDARD
TZOFFSETFROM:-0400
TZOFFSETTO:-0500
TZNAME:EST
DTSTART:20241103T060000
END:STANDARD
BEGIN:DAYLIGHT
TZOFFSETFROM:-0500
TZOFFSETTO:-0400
TZNAME:EDT
DTSTART:20250309T070000
END:DAYLIGHT
BEGIN:STANDARD
TZOFFSETFROM:-0400
TZOFFSETTO:-0500
TZNAME:EST
DTSTART:20251102T060000
END:STANDARD
BEGIN:DAYLIGHT
TZOFFSETFROM:-0500
TZOFFSETTO:-0400
TZNAME:EDT
DTSTART:20260308T070000
END:DAYLIGHT
BEGIN:STANDARD
TZOFFSETFROM:-0400
TZOFFSETTO:-0500
TZNAME:EST
DTSTART:20261101T060000
END:STANDARD
END:VTIMEZONE
BEGIN:VEVENT
DTSTART;TZID=America/Toronto:20250304T130000
DTEND;TZID=America/Toronto:20250304T140000
DTSTAMP:20260423T192637
CREATED:20250304T185910Z
LAST-MODIFIED:20250313T210011Z
UID:10003322-1741093200-1741096800@oeweek.oeglobal.org
SUMMARY:The Future of Pedagogy: Ethical and Inclusive AI in OER Development
DESCRIPTION:This session explores the transformative potential of Artificial Intelligence (AI) in enhancing Open Educational Resources (OER) while ensuring ethical implementation. By proposing a framework to integrate ethical and inclusive AI practices\, it emphasizes transparency\, fairness\, privacy\, and accountability. The session demonstrates how AI can scale content creation\, improve accessibility through translation and adaptive technologies\, and personalize learning experiences\, all while promoting equity and inclusivity in education. Drawing on Universal Design for Learning (UDL)\, we will discuss inclusive practices that support the future of OER\, addressing ethical challenges such as algorithmic bias and offering strategies for responsible\, open\, and equitable AI adoption.
URL:https://oeweek.oeglobal.org/activity/the-future-of-pedagogy-ethical-and-inclusive-ai-in-oer-development/
LOCATION:Ontario Tech U\, Oshawa\, Ontario\, Canada
CATEGORIES:Artificial Intelligence,Equity and Access,Open Education Resources,Open Educational Practices,Tools and Techniques
GEO:43.8975974;-78.8635999
END:VEVENT
END:VCALENDAR