BEGIN:VCALENDAR
VERSION:2.0
PRODID:-//Open Education Week - ECPv6.15.20//NONSGML v1.0//EN
CALSCALE:GREGORIAN
METHOD:PUBLISH
X-ORIGINAL-URL:https://oeweek.oeglobal.org
X-WR-CALDESC:Events for Open Education Week
REFRESH-INTERVAL;VALUE=DURATION:PT1H
X-Robots-Tag:noindex
X-PUBLISHED-TTL:PT1H
BEGIN:VTIMEZONE
TZID:Europe/Madrid
BEGIN:DAYLIGHT
TZOFFSETFROM:+0100
TZOFFSETTO:+0200
TZNAME:CEST
DTSTART:20240331T010000
END:DAYLIGHT
BEGIN:STANDARD
TZOFFSETFROM:+0200
TZOFFSETTO:+0100
TZNAME:CET
DTSTART:20241027T010000
END:STANDARD
BEGIN:DAYLIGHT
TZOFFSETFROM:+0100
TZOFFSETTO:+0200
TZNAME:CEST
DTSTART:20250330T010000
END:DAYLIGHT
BEGIN:STANDARD
TZOFFSETFROM:+0200
TZOFFSETTO:+0100
TZNAME:CET
DTSTART:20251026T010000
END:STANDARD
BEGIN:DAYLIGHT
TZOFFSETFROM:+0100
TZOFFSETTO:+0200
TZNAME:CEST
DTSTART:20260329T010000
END:DAYLIGHT
BEGIN:STANDARD
TZOFFSETFROM:+0200
TZOFFSETTO:+0100
TZNAME:CET
DTSTART:20261025T010000
END:STANDARD
END:VTIMEZONE
BEGIN:VEVENT
DTSTART;TZID=Europe/Madrid:20250305T110000
DTEND;TZID=Europe/Madrid:20250305T170000
DTSTAMP:20260422T113956
CREATED:20250212T205313Z
LAST-MODIFIED:20250313T210010Z
UID:10003043-1741172400-1741194000@oeweek.oeglobal.org
SUMMARY:Jornada REA REBIUN - OEWeek 2025
DESCRIPTION:El próximo 5 de marzo tendrá lugar\, dentro de la Semana de Educación Abierta\, la Jornada REA\, jornada que han organizado en colaboración la Línea 1 y el Grupo de Trabajo de Repositorios. \nLa jornada\, que se retransmitirá a través de Zoom y que se grabará para su posterior difusión e inclusión en el Kit REA\, contará con el siguiente programa: \n  \nPresentación Xaquín Lores (UdC) \n11:00-11:40 h. «Estado actual de los REA en España\, por parte del profesorado que los usa/reutiliza/crea y/o comparte. Resultados preliminares del proyecto de investigación CAETIN (Ciencia abierta en España: la transición hacia un nuevo modelo de investigación)». Gema Santos-Hermosa (UB) \n12:00-13:00 h. Mesa Redonda 1: Buenas prácticas en REA por parte del PDI de las universidades españolas. M. Carmen Martín Marichal (ULPGC). Intervienen: Daura Vega Moreno (ULPGC)\, Lluís Codina (UPF)\, Victoria Marín (UdL)\, Begoña Álvarez García (UdC). \n13:00-14:00 h. Mesa Redonda 2: Experiencias en las bibliotecas universitarias españolas con los REA. Brigit Nonó Rius (UdG). Intervienen: Paz Llorente Pinto/Yolanda Martín González (USAL)\, Rosa Maria Sánchez (UC3M) y Fernando Heredia-Sánchez (UMA) \n16:00-17:00 h. Taller Práctico sobre Creación de REA: Marina Carbonell (UAB). “Wooclap: herramienta colaborativa para dinamizar las clases que permite incluir preguntas en las presentaciones para poder interactuar con los estudiantes” \nPodéis hacer la inscripción gratuita a la misma en el siguiente ENLACE \nSi tenéis cualquier duda\, contactad con rebiun@crue.org \nEn breve comenzaremos con la difusión en la que te pedimos colabores para poder llegar al mayor número de personas posibles. \n  \nUsaremos los hashtag #JornadaREAREBIUN25 #OEWeekREBIUN2025 y el oficial #OEWeek25 y podrá comentarse a través de nuestro canal de Bluesky: https://bsky.app/profile/rebiun.org
URL:https://oeweek.oeglobal.org/activity/jornada-rea-rebiun-oeweek-2025/
LOCATION:Red de bibliotecas universitarias (REBIUN)\, Madrid\, Madrid\, Spain
CATEGORIES:Libraries
ATTACH;FMTTYPE=image/png:https://oeweek.oeglobal.org/wp-content/uploads/2025/02/OEWeek-2025-REBIUN-1.png
GEO:40.4167279;-3.7032905
END:VEVENT
END:VCALENDAR