BEGIN:VCALENDAR
VERSION:2.0
PRODID:-//Open Education Week - ECPv6.15.20//NONSGML v1.0//EN
CALSCALE:GREGORIAN
METHOD:PUBLISH
X-WR-CALNAME:Open Education Week
X-ORIGINAL-URL:https://oeweek.oeglobal.org
X-WR-CALDESC:Events for Open Education Week
REFRESH-INTERVAL;VALUE=DURATION:PT1H
X-Robots-Tag:noindex
X-PUBLISHED-TTL:PT1H
BEGIN:VTIMEZONE
TZID:America/Los_Angeles
BEGIN:DAYLIGHT
TZOFFSETFROM:-0800
TZOFFSETTO:-0700
TZNAME:PDT
DTSTART:20240310T100000
END:DAYLIGHT
BEGIN:STANDARD
TZOFFSETFROM:-0700
TZOFFSETTO:-0800
TZNAME:PST
DTSTART:20241103T090000
END:STANDARD
BEGIN:DAYLIGHT
TZOFFSETFROM:-0800
TZOFFSETTO:-0700
TZNAME:PDT
DTSTART:20250309T100000
END:DAYLIGHT
BEGIN:STANDARD
TZOFFSETFROM:-0700
TZOFFSETTO:-0800
TZNAME:PST
DTSTART:20251102T090000
END:STANDARD
BEGIN:DAYLIGHT
TZOFFSETFROM:-0800
TZOFFSETTO:-0700
TZNAME:PDT
DTSTART:20260308T100000
END:DAYLIGHT
BEGIN:STANDARD
TZOFFSETFROM:-0700
TZOFFSETTO:-0800
TZNAME:PST
DTSTART:20261101T090000
END:STANDARD
END:VTIMEZONE
BEGIN:VEVENT
DTSTART;TZID=America/Los_Angeles:20250307T130000
DTEND;TZID=America/Los_Angeles:20250307T150000
DTSTAMP:20260423T173148
CREATED:20250306T023330Z
LAST-MODIFIED:20250313T205918Z
UID:10003332-1741352400-1741359600@oeweek.oeglobal.org
SUMMARY:Augmented Info\, Ethics\, and the Duty of Care
DESCRIPTION:Stephen Downes will be talking about “AI”\, ethics\, our duty of care in education\, and more with Bryan Alexander\, Tom Haymes and Mark Corbett Wilson as we record the latest “Talking with machines” podcast. \nStephen is a well known researcher\, theorist\, and educator who offered an open cMOOC\, “Ethics\, Analytics\, and The Duty of Care” in 2021\, which Mark participated in. Stephen works with the Digital Technologies Research Centre at the National Research Council of Canada and OLDaily is his long running and widely read e-learning newsletter. \nYou can read Stephen’s short post about ethics and the duty of care or his journal article “Ethics\, Analytics\, and the Duty of Care” to learn more. \nBryan and Tom are professors who have been discussing “AI” and higher education for years. \n\nStephen Downes: https://www.linkedin.com/in/stdownes/\nBryan Alexander: https://bryanalexander.org/\nTom Haymes: https://www.linkedin.com/in/tomhaymes/\nMark Corbett Wilson: https://www.linkedin.com/in/markcorbettwilson/
URL:https://oeweek.oeglobal.org/activity/augmented-information-ethics-and-the-duty-of-care/
LOCATION:Talking With Machines\, Whittier\, United States
CATEGORIES:Open Educational Practices,Tools and Techniques
ATTACH;FMTTYPE=image/png:https://oeweek.oeglobal.org/wp-content/uploads/2025/03/Blue_6_compressed.png
GEO:37.8043514;-122.2711639
END:VEVENT
END:VCALENDAR