BEGIN:VCALENDAR
VERSION:2.0
PRODID:-//Open Education Week - ECPv6.15.20//NONSGML v1.0//EN
CALSCALE:GREGORIAN
METHOD:PUBLISH
X-ORIGINAL-URL:https://oeweek.oeglobal.org
X-WR-CALDESC:Events for Open Education Week
REFRESH-INTERVAL;VALUE=DURATION:PT1H
X-Robots-Tag:noindex
X-PUBLISHED-TTL:PT1H
BEGIN:VTIMEZONE
TZID:Europe/Dublin
BEGIN:STANDARD
TZOFFSETFROM:+0000
TZOFFSETTO:+0100
TZNAME:IST
DTSTART:20240331T010000
END:STANDARD
BEGIN:DAYLIGHT
TZOFFSETFROM:+0100
TZOFFSETTO:+0000
TZNAME:GMT
DTSTART:20241027T010000
END:DAYLIGHT
BEGIN:STANDARD
TZOFFSETFROM:+0000
TZOFFSETTO:+0100
TZNAME:IST
DTSTART:20250330T010000
END:STANDARD
BEGIN:DAYLIGHT
TZOFFSETFROM:+0100
TZOFFSETTO:+0000
TZNAME:GMT
DTSTART:20251026T010000
END:DAYLIGHT
BEGIN:STANDARD
TZOFFSETFROM:+0000
TZOFFSETTO:+0100
TZNAME:IST
DTSTART:20260329T010000
END:STANDARD
BEGIN:DAYLIGHT
TZOFFSETFROM:+0100
TZOFFSETTO:+0000
TZNAME:GMT
DTSTART:20261025T010000
END:DAYLIGHT
END:VTIMEZONE
BEGIN:VEVENT
DTSTART;TZID=Europe/Dublin:20250304T100000
DTEND;TZID=Europe/Dublin:20250304T104500
DTSTAMP:20260423T095838
CREATED:20250225T235814Z
LAST-MODIFIED:20250313T210034Z
UID:10003220-1741082400-1741085100@oeweek.oeglobal.org
SUMMARY:An introduction to Open Educational Resources (OER)
DESCRIPTION:Join Maura Flynn\, OER Librarian at Technological University of the Shannon Libraries during Open Education Week 2025\, to discuss how OER can support your teaching and learning. \nThe Learning Outcomes for this short session include: \n\nDefining Open Educational Resources (OER)\nExploring OER examples and how to source relevant OER\nDiscussing the benefits of OER for students\, staff and society\nDiscussing opportunities to adapt existing OER and create OER to meet your needs
URL:https://oeweek.oeglobal.org/activity/an-introduction-to-oer/
LOCATION:Technological University of the Shannon\, Westmeath\, Westmeath\, Ireland
CATEGORIES:Libraries
ATTACH;FMTTYPE=image/jpeg:https://oeweek.oeglobal.org/wp-content/uploads/2025/02/TUS-version-of-OE-banner-2025.jpg
GEO:53.5345308;-7.4653217
END:VEVENT
BEGIN:VEVENT
DTSTART;TZID=Europe/Dublin:20250306T100000
DTEND;TZID=Europe/Dublin:20250306T104500
DTSTAMP:20260423T095838
CREATED:20250305T182319Z
LAST-MODIFIED:20250313T205943Z
UID:10003337-1741255200-1741257900@oeweek.oeglobal.org
SUMMARY:An introduction to Open Educational Resources (OER)
DESCRIPTION:The Learning Outcomes for this short session brought to you by the Technological University of the Shannon Libraries include: \n\nDefining Open Educational Resources (OER)\nExploring OER examples and how to source relevant OER\nDiscussing the benefits of OER for students\, staff and society\nDiscussing opportunities to adapt existing OER and create OER to meet your needs
URL:https://oeweek.oeglobal.org/activity/an-introduction-to-open-educational-resources-oer/
LOCATION:Technological University of the Shannon\, Westmeath\, Westmeath\, Ireland
CATEGORIES:Open Education Resources
ATTACH;FMTTYPE=image/jpeg:https://oeweek.oeglobal.org/wp-content/uploads/2025/03/TUS-version-of-OE-banner-2025.jpg
GEO:53.5345308;-7.4653217
END:VEVENT
END:VCALENDAR