BEGIN:VCALENDAR
VERSION:2.0
PRODID:-//Open Education Week - ECPv6.15.20//NONSGML v1.0//EN
CALSCALE:GREGORIAN
METHOD:PUBLISH
X-ORIGINAL-URL:https://oeweek.oeglobal.org
X-WR-CALDESC:Events for Open Education Week
REFRESH-INTERVAL;VALUE=DURATION:PT1H
X-Robots-Tag:noindex
X-PUBLISHED-TTL:PT1H
BEGIN:VTIMEZONE
TZID:America/Vancouver
BEGIN:DAYLIGHT
TZOFFSETFROM:-0800
TZOFFSETTO:-0700
TZNAME:PDT
DTSTART:20240310T100000
END:DAYLIGHT
BEGIN:STANDARD
TZOFFSETFROM:-0700
TZOFFSETTO:-0800
TZNAME:PST
DTSTART:20241103T090000
END:STANDARD
BEGIN:DAYLIGHT
TZOFFSETFROM:-0800
TZOFFSETTO:-0700
TZNAME:PDT
DTSTART:20250309T100000
END:DAYLIGHT
BEGIN:STANDARD
TZOFFSETFROM:-0700
TZOFFSETTO:-0800
TZNAME:PST
DTSTART:20251102T090000
END:STANDARD
BEGIN:DAYLIGHT
TZOFFSETFROM:-0800
TZOFFSETTO:-0700
TZNAME:PDT
DTSTART:20260308T100000
END:DAYLIGHT
BEGIN:STANDARD
TZOFFSETFROM:-0700
TZOFFSETTO:-0800
TZNAME:PST
DTSTART:20261101T090000
END:STANDARD
END:VTIMEZONE
BEGIN:VEVENT
DTSTART;TZID=America/Vancouver:20250305T110000
DTEND;TZID=America/Vancouver:20250305T133000
DTSTAMP:20260423T160239
CREATED:20250225T183231Z
LAST-MODIFIED:20250313T210010Z
UID:10003090-1741172400-1741181400@oeweek.oeglobal.org
SUMMARY:OEWeek 2025 Kickoff Event at TRU and Open Education Talks
DESCRIPTION:Join us in celebrating Open Education Week (March 3–7\, 2025) with a special kickoff event on March 5th! 🎊 \n📍 Thompson Rivers University is hosting a catered lunch and streaming the first set of Open Education Talks\, followed by an inspiring keynote by Dave Cormier\, Director of Curriculum Services at TRU Open Learning. on “What Might Open Ed Look Like in the Future?” Everyone is welcome—virtual participation options are available! \n📅 Date: Tuesday\, March 5\, 2025 \n🕚 Time: 11:00 AM – 1:30 PM \nEvent Schedule: \n🔹 11:00 AM – 12:30 PM | Open Education Talks (Lightning Talks) 💡 \n👉 Register and join the live Zoom stream to explore innovative ideas shaping the future of Open Education. \n  \n🔹 12:30 PM – 1:30 PM | What Might Open Ed Look Like in the Future? 🌍 \n🎤 Speaker: Dave Cormier\, Director of Curriculum Services\, TRU Open Learning\nDave is the author of ‘Learning in a time of Abundance: the community is the curriculum‘ \n🔗 Join this exciting talk in person at Brown’s House of Learning HL269 (Register for lunch!) \nOr for those that can’t make it in person\, join via this Microsoft Teams link. \n💡 About the Open Education Talk: \nThe word open in education carries many meanings—spanning licensing\, pedagogy\, and social justice. But how do we communicate its importance effectively? This engaging session will introduce a simple\, inclusive model for thinking about openness and how it can guide decision-making in education. \n🚀 Let’s celebrate openness\, innovation\, and collaboration in education together! \nThis event is generously funded by BCcampus and organized by TRU Open Press\, TRU Library\, and TRU Learning Technology & Innovation. \n 📢 #OEWeek | #OpenEducation | #OER | #TRUOpenPress \nOpen Ed Talks 2025 Lunch & Learn Sessions  \nAfter our March 5th Kickoff event\, three interactive sessions will be held on March 12\, 19\, and 26. Each session includes the streaming of lightning talks from University of Calgary\, followed by 30 minutes of facilitated roundtable discussions to explore and apply the open education ideas and concepts discussed in the streamed lightning talks from that day. Each roundtable discussion will be facilitated and focused on the themes outlined in the Open Ed Talks 2025 schedule. Tea/ Coffee/ Water will be provided\, and in-person participants are encouraged to bring their lunch. \nDates: March 12\, 19\, and 26\, 2025  \nTime: 11:00 am–1:00 pm  \nLocation: Brown’s House of Learning HL269\, or via this Microsoft Teams link  \n 11:00 am–12:30 pm: Streamed lightning talks \n\n12:30–1:00 pm: Facilitated round table discussions\n\nWe hope to see you there!
URL:https://oeweek.oeglobal.org/activity/open-ed-talks-2025-2/
LOCATION:Thompson Rivers University (TRU)\, Kamloops\, BC\, Canada
CATEGORIES:Equity and Access,Open Education Policies,Open Educational Practices
ATTACH;FMTTYPE=image/jpeg:https://oeweek.oeglobal.org/wp-content/uploads/2025/02/Screenshot-444.jpg
GEO:50.674522;-120.3272674
END:VEVENT
END:VCALENDAR