BEGIN:VCALENDAR
VERSION:2.0
PRODID:-//Open Education Week - ECPv6.15.20//NONSGML v1.0//EN
CALSCALE:GREGORIAN
METHOD:PUBLISH
X-WR-CALNAME:Open Education Week
X-ORIGINAL-URL:https://oeweek.oeglobal.org
X-WR-CALDESC:Events for Open Education Week
REFRESH-INTERVAL;VALUE=DURATION:PT1H
X-Robots-Tag:noindex
X-PUBLISHED-TTL:PT1H
BEGIN:VTIMEZONE
TZID:Europe/Madrid
BEGIN:DAYLIGHT
TZOFFSETFROM:+0100
TZOFFSETTO:+0200
TZNAME:CEST
DTSTART:20240331T010000
END:DAYLIGHT
BEGIN:STANDARD
TZOFFSETFROM:+0200
TZOFFSETTO:+0100
TZNAME:CET
DTSTART:20241027T010000
END:STANDARD
BEGIN:DAYLIGHT
TZOFFSETFROM:+0100
TZOFFSETTO:+0200
TZNAME:CEST
DTSTART:20250330T010000
END:DAYLIGHT
BEGIN:STANDARD
TZOFFSETFROM:+0200
TZOFFSETTO:+0100
TZNAME:CET
DTSTART:20251026T010000
END:STANDARD
BEGIN:DAYLIGHT
TZOFFSETFROM:+0100
TZOFFSETTO:+0200
TZNAME:CEST
DTSTART:20260329T010000
END:DAYLIGHT
BEGIN:STANDARD
TZOFFSETFROM:+0200
TZOFFSETTO:+0100
TZNAME:CET
DTSTART:20261025T010000
END:STANDARD
END:VTIMEZONE
BEGIN:VEVENT
DTSTART;TZID=Europe/Madrid:20250305T120000
DTEND;TZID=Europe/Madrid:20250305T140000
DTSTAMP:20260423T203729
CREATED:20250303T165504Z
LAST-MODIFIED:20260204T182001Z
UID:10003296-1741176000-1741183200@oeweek.oeglobal.org
SUMMARY:Math Brunch at OE Week
DESCRIPTION:Within the framework of Open Education Week (OE Week 2025)\, the EPSEB library at Universitat Politècnica de Catalunya organize the workshop Open educational resources: Gate2Math\, by the teacher Carles Serrat. \nGate2Math is a tool that facilitates access to online mathematical resources in a open and freeThis workshop is aimed at students and teaching and research staff (PDI) of all levels\, with the aim of raising awareness of the possibilities offered by this platform for learning and teaching mathematics. \n\nOrder date: March 5 from 12 p.m. to 14 p.m\nplace: EPSEB library\nYou must bring a laptop.\n\nTo conclude the session\, a brunch will be offered for all attendees.
URL:https://oeweek.oeglobal.org/activity/math-brunch/
LOCATION:Universitat Politècnica de Catalunya\, Barcelona\, Barcelona\, Spain
CATEGORIES:Open Education Resources,Open Educational Practices
ATTACH;FMTTYPE=image/png:https://oeweek.oeglobal.org/wp-content/uploads/2025/03/Brunch-Math.png
GEO:41.3873974;2.168568
END:VEVENT
END:VCALENDAR