BEGIN:VCALENDAR
VERSION:2.0
PRODID:-//Open Education Week - ECPv6.15.20//NONSGML v1.0//EN
CALSCALE:GREGORIAN
METHOD:PUBLISH
X-WR-CALNAME:Open Education Week
X-ORIGINAL-URL:https://oeweek.oeglobal.org
X-WR-CALDESC:Events for Open Education Week
REFRESH-INTERVAL;VALUE=DURATION:PT1H
X-Robots-Tag:noindex
X-PUBLISHED-TTL:PT1H
BEGIN:VTIMEZONE
TZID:America/New_York
BEGIN:DAYLIGHT
TZOFFSETFROM:-0500
TZOFFSETTO:-0400
TZNAME:EDT
DTSTART:20240310T070000
END:DAYLIGHT
BEGIN:STANDARD
TZOFFSETFROM:-0400
TZOFFSETTO:-0500
TZNAME:EST
DTSTART:20241103T060000
END:STANDARD
BEGIN:DAYLIGHT
TZOFFSETFROM:-0500
TZOFFSETTO:-0400
TZNAME:EDT
DTSTART:20250309T070000
END:DAYLIGHT
BEGIN:STANDARD
TZOFFSETFROM:-0400
TZOFFSETTO:-0500
TZNAME:EST
DTSTART:20251102T060000
END:STANDARD
BEGIN:DAYLIGHT
TZOFFSETFROM:-0500
TZOFFSETTO:-0400
TZNAME:EDT
DTSTART:20260308T070000
END:DAYLIGHT
BEGIN:STANDARD
TZOFFSETFROM:-0400
TZOFFSETTO:-0500
TZNAME:EST
DTSTART:20261101T060000
END:STANDARD
END:VTIMEZONE
BEGIN:VTIMEZONE
TZID:Europe/Amsterdam
BEGIN:DAYLIGHT
TZOFFSETFROM:+0100
TZOFFSETTO:+0200
TZNAME:CEST
DTSTART:20240331T010000
END:DAYLIGHT
BEGIN:STANDARD
TZOFFSETFROM:+0200
TZOFFSETTO:+0100
TZNAME:CET
DTSTART:20241027T010000
END:STANDARD
BEGIN:DAYLIGHT
TZOFFSETFROM:+0100
TZOFFSETTO:+0200
TZNAME:CEST
DTSTART:20250330T010000
END:DAYLIGHT
BEGIN:STANDARD
TZOFFSETFROM:+0200
TZOFFSETTO:+0100
TZNAME:CET
DTSTART:20251026T010000
END:STANDARD
BEGIN:DAYLIGHT
TZOFFSETFROM:+0100
TZOFFSETTO:+0200
TZNAME:CEST
DTSTART:20260329T010000
END:DAYLIGHT
BEGIN:STANDARD
TZOFFSETFROM:+0200
TZOFFSETTO:+0100
TZNAME:CET
DTSTART:20261025T010000
END:STANDARD
END:VTIMEZONE
BEGIN:VEVENT
DTSTART;TZID=America/New_York:20250303T090000
DTEND;TZID=America/New_York:20250304T170000
DTSTAMP:20260422T162250
CREATED:20250218T210621Z
LAST-MODIFIED:20250313T210101Z
UID:10003149-1740992400-1741107600@oeweek.oeglobal.org
SUMMARY:Northeast OER Summit
DESCRIPTION:The Northeast Open Educational Resources (OER) Summit is a virtual event for new and experienced OER advocates offering the opportunity to learn and share effective practices in awareness building\, implementation\, collaboration\, strategy\, and research. \nThe theme of our 2025 Summit is All Hands on Deck: Exploring Open Education Through Collaboration and Innovation.
URL:https://oeweek.oeglobal.org/activity/northeast-oer-summit/
LOCATION:University of Massachusetts Amherst\, Amherst\, United States
CATEGORIES:Artificial Intelligence,Digital Skills,Equity and Access,Libraries,Open Education Policies,Open Education Resources,Open Educational Practices
ATTACH;FMTTYPE=image/png:https://oeweek.oeglobal.org/wp-content/uploads/2025/02/NE-OER-2025.png
GEO:42.3732216;-72.5198537
END:VEVENT
BEGIN:VEVENT
DTSTART;TZID=Europe/Amsterdam:20250303T150000
DTEND;TZID=Europe/Amsterdam:20250303T160000
DTSTAMP:20260422T162250
CREATED:20250227T143031Z
LAST-MODIFIED:20250313T210034Z
UID:10003248-1741014000-1741017600@oeweek.oeglobal.org
SUMMARY:Ready for Take-off? How Emerging Technologies are Fuelling New Approaches Around OER in the UK & the US
DESCRIPTION:Today we are faced with emerging technologies such as (Gen)AI\, which have incredible potential – yet also significant risks and challenges. During this panel session at the Northeast OER Summit\, we will hear from two forward-looking universities in the UK and the US about their views and experiences with (Gen)AI and OER. While both are unique in terms of their local context\, challenges and levels of experience with OER\, they are unified by their ambition to locally grow OER success and by their high expectations for its future. \nFrom this session\, expect to learn more about practical and real-world examples of (Gen)AI use at these two universities and their library today: how it is used to identify OER gaps\, how to understand local OER potential as well as convincing senior leadership to get behind this. Moreover\, expect to walk away with concrete ideas for how we can fuel a scaleable OER future at any institution and why now is the time really for this to take off. \nDuring this panel session\, we will hear from two different institutions in the UK and the US about their views and experiences with (Gen)AI and OER. While both are unique in terms of their local context\, challenges and levels of experience with OER\, they are unified by their ambition to locally grow OER success and by their high expectations for its future. You’ll hear practical and real-world examples of (Gen)AI use\, such as how it is used to identify OER gaps and to understand the potential of OER. \nWe’ll hear from each of the panelists about where they are with OER today and why they feel now is the time for OER to take off. \n  \nDal Badesha\, Head of Learning Resources and Student Engagement\, Coventry University. Dal oversees the learning resources and student engagement team at Coventry University. She plays a crucial role in making sure students can find and use learning resources\, including OER. \nWilliam Walters\, Executive Library Director\, Manhattan University. William Walters is the executive library director at Manhattan University. His current research focuses on scholarly communication\, academic librarianship\, AI in higher education\, nonprofit management\, and assessment. In one of his latest publications he took a deep dive into the online discoverability of open textbooks. \nTom Mosterd\, Co-Founder & Director\, Higher Education\, Sylla. Tom is one of the cofounders of Sylla\, a new technology solution that helps libraries and faculty to easily find\, assess and adopt OER tailored to their teaching. At Sylla he works on ensuring new technologies are used for the benefit of libraries.
URL:https://oeweek.oeglobal.org/activity/ready-for-take-off/
LOCATION:University of Massachusetts Amherst\, Amherst\, United States
CATEGORIES:Artificial Intelligence,Equity and Access,Libraries,Open Education Resources,Open Educational Practices,Tools and Techniques
ATTACH;FMTTYPE=image/jpeg:https://oeweek.oeglobal.org/wp-content/uploads/2025/02/Screenshot-484.jpg
GEO:42.3732216;-72.5198537
END:VEVENT
BEGIN:VEVENT
DTSTART;TZID=America/New_York:20250304T153000
DTEND;TZID=America/New_York:20250304T161500
DTSTAMP:20260422T162250
CREATED:20250219T180855Z
LAST-MODIFIED:20250313T210011Z
UID:10003152-1741102200-1741104900@oeweek.oeglobal.org
SUMMARY:Creative Commons Wants to Collaborate with You: presentation for Northeast OER Summit
DESCRIPTION:During the Northeast OER Summit\, Jennryn Wetzler\, Creative Commons Director of Learning and Training\, will present “Creative Commons Wants to Collaborate with You.” Join the Summit online to participate. \nPresentation Abstract: \nWant to collaborate with Creative Commons? We are open!\n\nCreative Commons (CC) is a global non-profit organization; we believe in a world where education\, culture\, and science are equitably shared to benefit humanity. Our work focuses on technical\, legal\, and policy solutions to enable that sharing.\n\nYet\, we also foster collaboration and community building around open efforts\, globally. CC facilitates free\, open community groups around the world focused on Open Culture\, Copyright and Education.  This year\, we are pleased to offer more openly licensed resources\, small project funds\, CC Certificate scholarships\, and opportunities for collaboration than ever before.\n\nJoin this session\, as we share  opportunities for engagement\, including small-scale funding options. Then let’s collectively explore possibilities for future collaboration!
URL:https://oeweek.oeglobal.org/activity/creative-commons-wants-to-collaborate-with-you/
LOCATION:University of Massachusetts Amherst\, Amherst\, United States
CATEGORIES:z--- Other
ATTACH;FMTTYPE=image/png:https://oeweek.oeglobal.org/wp-content/uploads/2025/02/cc.logo_.large_.png
ORGANIZER;CN="Creative Commons":MAILTO:info@creativecommons.org
GEO:42.3732216;-72.5198537
END:VEVENT
END:VCALENDAR