BEGIN:VCALENDAR
VERSION:2.0
PRODID:-//Open Education Week - ECPv6.15.20//NONSGML v1.0//EN
CALSCALE:GREGORIAN
METHOD:PUBLISH
X-WR-CALNAME:Open Education Week
X-ORIGINAL-URL:https://oeweek.oeglobal.org
X-WR-CALDESC:Events for Open Education Week
REFRESH-INTERVAL;VALUE=DURATION:PT1H
X-Robots-Tag:noindex
X-PUBLISHED-TTL:PT1H
BEGIN:VTIMEZONE
TZID:Europe/London
BEGIN:DAYLIGHT
TZOFFSETFROM:+0000
TZOFFSETTO:+0100
TZNAME:BST
DTSTART:20240331T010000
END:DAYLIGHT
BEGIN:STANDARD
TZOFFSETFROM:+0100
TZOFFSETTO:+0000
TZNAME:GMT
DTSTART:20241027T010000
END:STANDARD
BEGIN:DAYLIGHT
TZOFFSETFROM:+0000
TZOFFSETTO:+0100
TZNAME:BST
DTSTART:20250330T010000
END:DAYLIGHT
BEGIN:STANDARD
TZOFFSETFROM:+0100
TZOFFSETTO:+0000
TZNAME:GMT
DTSTART:20251026T010000
END:STANDARD
BEGIN:DAYLIGHT
TZOFFSETFROM:+0000
TZOFFSETTO:+0100
TZNAME:BST
DTSTART:20260329T010000
END:DAYLIGHT
BEGIN:STANDARD
TZOFFSETFROM:+0100
TZOFFSETTO:+0000
TZNAME:GMT
DTSTART:20261025T010000
END:STANDARD
END:VTIMEZONE
BEGIN:VEVENT
DTSTART;TZID=Europe/London:20250325T133000
DTEND;TZID=Europe/London:20250325T143000
DTSTAMP:20260423T192855
CREATED:20250319T164919Z
LAST-MODIFIED:20250324T165805Z
UID:10003356-1742909400-1742913000@oeweek.oeglobal.org
SUMMARY:Open Science: Climate Change & the Global Commons (Knowledge Equity Network)
DESCRIPTION:Join Knowledge Equity Network for an inspiring session on how commons-based approaches to Open Science can catalyse the impact of climate research\, challenge misinformation and enable solutions focussed research for a sustainable future. \nIn this session\, we’ll explore how Creative Commons licensing plays a vital role in making climate research freely accessible. By enabling researchers worldwide to access and build on this knowledge\, we open the door to innovative solutions. For example\, efforts are underway to ensure all research cited in the IPCC (Intergovernmental Panel on Climate Change) Report is openly accessible – providing a powerful tool to challenge misinformation and foster new research into climate change and its mitigations. \nWe’ll also dive into the significant role of Wikipedia\, with its 24 billion monthly page views\, as a trusted source of climate-related information. Managed by a collaborative community of editors and contributors\, Wikipedia ensures up-to-date research is available to both the public and AI systems that rely on its entries. \nIn this session\, we’ll be joined by guest speakers\, Monica Granados (Director of Open Science\, Creative Commons) and Tatjana Baleta (Wikimedia Visiting Fellow for Climate\, University of Exeter: Global Systems Institute)\, in conversation with Nick Sheppard (Open Research Advisor\, University of Leeds). \n\nIPPC Reports: https://en.wikipedia.org/wiki/Intergovernmental_Panel_on_Climate_Change#List_of_all_reports\nCreative Commons Open Climate Data Project: https://creativecommons.org/about/open-science/open-climate/\nCreative Commons Licencing: https://creativecommons.org/\nWikimedia and universities: contributing to the global commons in the Age of Disinformation: https://insights.uksg.org/articles/10.1629/uksg.509
URL:https://oeweek.oeglobal.org/activity/open-science-climate-change/
LOCATION:University of Leeds\, Woodhouse Lane\, Leeds\, West Yorkshire\, United Kingdom
CATEGORIES:Climate Action
ATTACH;FMTTYPE=image/jpeg:https://oeweek.oeglobal.org/wp-content/uploads/2025/03/Event-Image-4.jpeg
ORGANIZER;CN="Knowledge Equity Network":MAILTO:info@knowledgeequitynetwork.org
GEO:53.8079688;-1.5521467
X-APPLE-STRUCTURED-LOCATION;VALUE=URI;X-ADDRESS=University of Leeds Woodhouse Lane Leeds West Yorkshire United Kingdom;X-APPLE-RADIUS=500;X-TITLE=Woodhouse Lane:geo:-1.5521467,53.8079688
END:VEVENT
END:VCALENDAR