BEGIN:VCALENDAR
VERSION:2.0
PRODID:-//Open Education Week - ECPv6.15.20//NONSGML v1.0//EN
CALSCALE:GREGORIAN
METHOD:PUBLISH
X-ORIGINAL-URL:https://oeweek.oeglobal.org
X-WR-CALDESC:Events for Open Education Week
REFRESH-INTERVAL;VALUE=DURATION:PT1H
X-Robots-Tag:noindex
X-PUBLISHED-TTL:PT1H
BEGIN:VTIMEZONE
TZID:Europe/London
BEGIN:DAYLIGHT
TZOFFSETFROM:+0000
TZOFFSETTO:+0100
TZNAME:BST
DTSTART:20250330T010000
END:DAYLIGHT
BEGIN:STANDARD
TZOFFSETFROM:+0100
TZOFFSETTO:+0000
TZNAME:GMT
DTSTART:20251026T010000
END:STANDARD
BEGIN:DAYLIGHT
TZOFFSETFROM:+0000
TZOFFSETTO:+0100
TZNAME:BST
DTSTART:20260329T010000
END:DAYLIGHT
BEGIN:STANDARD
TZOFFSETFROM:+0100
TZOFFSETTO:+0000
TZNAME:GMT
DTSTART:20261025T010000
END:STANDARD
BEGIN:DAYLIGHT
TZOFFSETFROM:+0000
TZOFFSETTO:+0100
TZNAME:BST
DTSTART:20270328T010000
END:DAYLIGHT
BEGIN:STANDARD
TZOFFSETFROM:+0100
TZOFFSETTO:+0000
TZNAME:GMT
DTSTART:20271031T010000
END:STANDARD
END:VTIMEZONE
BEGIN:VEVENT
DTSTART;TZID=Europe/London:20260211T211000
DTEND;TZID=Europe/London:20260211T214000
DTSTAMP:20260423T160420
CREATED:20260121T210844Z
LAST-MODIFIED:20260121T210844Z
UID:10003386-1770844200-1770846000@oeweek.oeglobal.org
SUMMARY:Uses and Abuses of AI Agents in Education (OneHE webinar)
DESCRIPTION:In this webinar\, Anna Mills will explore how student and teacher uses of agentic AI browsers affect higher education. She will describe possible applications of agentic browsers for teaching assistance and ways to reduce these browsers’ privacy and security risks. \nThese days\, “AI agent” sometimes refers to a custom chatbot and sometimes to an agentic AI browser that will take actions on the user’s behalf\, like clicking and filling out forms autonomously. In this webinar\, Anna Mills\, English Instructor\, College of Marin\, USA\, will clarify how students might be using agentic AI browsers to automate homework completion and what can be done about that\, and will look at ways educators might consider using them to assist their teaching without jeopardizing student data. \nThis webinar is open to all interested educators.
URL:https://oeweek.oeglobal.org/activity/uses-and-abuses-of-ai-agents-in-education-onehe-webinar/
LOCATION:York\, United Kingdom\, York\, United Kingdom
CATEGORIES:Artificial Intelligence
ATTACH;FMTTYPE=image/jpeg:https://oeweek.oeglobal.org/wp-content/uploads/2026/01/Screenshot-12.jpg
GEO:53.9614205;-1.0739108
END:VEVENT
END:VCALENDAR